Workbook
Name CM: [1]Sheet1!$C$2:$C$9
Name CM: [2]Sheet1!$C$2:$C$9
Name GT: [1]Sheet1!$A$2:$A$3
Name GT: [2]Sheet1!$A$2:$A$3
Name LLCT: [1]Sheet1!$E$2:$E$6
Name LLCT: [2]Sheet1!$E$2:$E$6
Name NN: [1]Sheet1!$G$2:$G$9
Name NN: [2]Sheet1!$G$2:$G$9
Name TG: [1]Sheet1!$H$2:$H$8
Name TG: [2]Sheet1!$H$2:$H$8
Name TH: [3]Sheet1!$F$2:$F$9
Name TH: [4]Sheet1!$F$2:$F$9
Name ts: #REF!
Name ts: #REF!
Name ts: #REF!
Name ts: #REF!
Name ts: #REF!
Name ts: #REF!
Name ts: #REF!
Name ts: #REF!

Sheet PL 2A1
A1: ỦY BAN NHÂN DÂN TỈNH TUYÊN QUANG
A2: Phụ lục 2A1 BIỂU RÀ SOÁT THỰC TRẠNG SỐ TRƯỜNG, LỚP, SỐ HỌC SINH NĂM HỌC 2022-2023 VÀ KẾ HOẠCH BỐ TRÍ SỐ TRƯỜNG, LỚP, SỐ HỌC SINH NĂM HỌC 2023-2024 CỦA CẤP MẦM NON
A3: (Kèm theo Kế hoạch số 205/KH-UBND ngày 31 tháng 8 năm 2023 của UBND tỉnh Tuyên Quang)
A5: TT | B5: Huyện | C5: Thực hiện năm học 2022-2023 | P5: Kế hoạch năm học 2023-2024 | AC5: Tăng, giảm (-) năm học 2023-2024 so với năm học 2022-2023
C6: Tổng số trường | D6: Số lớp, học sinh học 2 buổi/ngày | P6: Tổng số trường | Q6: Số lớp, học sinh học 2 buổi/ngày | AC6: Tất cả các lớp đều học 2 buổi/ngày
D7: Từ 3 tháng- 12 tháng hoặc từ 3-4 tuổi | H7: Từ 13 tháng- 24 tháng hoặc từ 4-5 tuổi | L7: Từ 25 tháng - 36 tháng hoặc từ 5-6 tuổi | Q7: Từ 3 tháng- 12 tháng hoặc từ 3-4 tuổi | U7: Từ 13 tháng- 24 tháng hoặc từ 4-5 tuổi | Y7: Từ 25 tháng - 36 tháng hoặc từ 5-6 tuổi | AC7: Tổng số | AG7: Từ 3 tháng- 12 tháng hoặc từ 3-4 tuổi | AK7: Từ 13 tháng- 24 tháng hoặc từ 4-5 tuổi | AO7: Từ 25 tháng - 36 tháng hoặc từ 5-6 tuổi
D8: Số lớp | F8: Số học sinh | H8: Số lớp | J8: Số học sinh | L8: Số lớp | N8: Số học sinh | Q8: Số lớp | S8: Số học sinh | U8: Số lớp | W8: Số học sinh | Y8: Số lớp | AA8: Số học sinh | AC8: Số lớp | AE8: Số học sinh | AG8: Số lớp | AI8: Số học sinh | AK8: Số lớp | AM8: Số học sinh | AO8: Số lớp | AQ8: Số học sinh
D9: Nhà trẻ | E9: Mẫu giáo | F9: Nhà trẻ | G9: Mẫu giáo | H9: Nhà trẻ | I9: Mẫu giáo | J9: Nhà trẻ | K9: Mẫu giáo | L9: Nhà trẻ | M9: Mẫu giáo | N9: Nhà trẻ | O9: Mẫu giáo | Q9: Nhà trẻ | R9: Mẫu giáo | S9: Nhà trẻ | T9: Mẫu giáo | U9: Nhà trẻ | V9: Mẫu giáo | W9: Nhà trẻ | X9: Mẫu giáo | Y9: Nhà trẻ | Z9: Mẫu giáo | AA9: Nhà trẻ | AB9: Mẫu giáo | AC9: Nhà trẻ | AD9: Mẫu giáo | AE9: Nhà trẻ | AF9: Mẫu giáo | AG9: Nhà trẻ | AH9: Mẫu giáo | AI9: Nhà trẻ | AJ9: Mẫu giáo | AK9: Nhà trẻ | AL9: Mẫu giáo | AM9: Nhà trẻ | AN9: Mẫu giáo | AO9: Nhà trẻ | AP9: Mẫu giáo | AQ9: Nhà trẻ | AR9: Mẫu giáo
A10: 1 | B10: 2 | C10: 3 | D10: 7 | E10: 8 | F10: 9 | G10: 10 | H10: 11 | I10: 12 | J10: 13 | K10: 14 | L10: 15 | M10: 16 | N10: 17 | O10: 18 | P10: 19 | Q10: 23 | R10: 24 | S10: 25 | T10: 26 | U10: 27 | V10: 28 | W10: 29 | X10: 30 | Y10: 31 | Z10: 32 | AA10: 33 | AB10: 34 | AC10: 35 | AD10: 36 | AE10: 37 | AF10: 38 | AG10: 39 | AH10: 40 | AI10: 41 | AJ10: 42 | AK10: 43 | AL10: 44 | AM10: 45 | AN10: 46 | AO10: 47 | AP10: 48 | AQ10: 49 | AR10: 50
B11: TỔNG CỘNG | C11: =C12+C13+C14+C15+C16+C17+C18 -> 145 | D11: =D12+D13+D14+D15+D16+D17+D18 -> 0 | E11: =E12+E13+E14+E15+E16+E17+E18 -> 439 | F11: =F12+F13+F14+F15+F16+F17+F18 -> 11 | G11: =G12+G13+G14+G15+G16+G17+G18 -> 12000 | H11: =H12+H13+H14+H15+H16+H17+H18 -> 8 | I11: =I12+I13+I14+I15+I16+I17+I18 -> 407 | J11: =J12+J13+J14+J15+J16+J17+J18 -> 458 | ... AR11: =AR12+AR13+AR14+AR15+AR16+AR17+AR18 -> -1394
A12: 1 | B12: UBND huyện Na Hang | C12: 12 | D12: 0 | E12: 18 | F12: 4 | G12: 742 | H12: 1 | I12: 20 | J12: 178 | K12: 766 | L12: 47 | M12: 79 | N12: 601 | O12: 801 | P12: 12 | Q12: 0 | R12: 16 | S12: 14 | T12: 735 | U12: 4 | V12: 19 | W12: 232 | X12: 742 | Y12: 46 | Z12: 81 | AA12: 631 | AB12: 768 | AC12: =AG12+AK12+AO12 -> 2 | AD12: =AH12+AL12+AP12 -> -1 | AE12: =AI12+AM12+AQ12 -> 94 | AF12: =AJ12+AN12+AR12 -> -64 | AG12: =Q12-D12 -> 0 | AH12: =R12-E12 -> -2 | AI12: =S12-F12 -> 10 | AJ12: =T12-G12 -> -7 | AK12: =U12-H12 -> 3 | AL12: =V12-I12 -> -1 | AM12: =W12-J12 -> 54 | AN12: =X12-K12 -> -24 | ... AR12: =AB12-O12 -> -33
A13: 2 | B13: UBND huyện Lâm Bình | C13: 10 | D13: 0 | E13: 25 | F13: 0 | G13: 641 | H13: 0 | I13: 24 | J13: 17 | K13: 608 | L13: 32 | M13: 52 | N13: 795 | O13: 1250 | P13: 10 | Q13: 0 | R13: 25 | S13: 0 | T13: 671 | U13: 0 | V13: 24 | W13: 0 | X13: 603 | Y13: 32 | Z13: 50 | AA13: 750 | AB13: 1218 | AC13: =AG13+AK13+AO13 -> 0 | AD13: =AH13+AL13+AP13 -> -2 | AE13: =AI13+AM13+AQ13 -> -62 | AF13: =AJ13+AN13+AR13 -> -7 | AG13: =Q13-D13 -> 0 | AH13: =R13-E13 -> 0 | AI13: =S13-F13 -> 0 | AJ13: =T13-G13 -> 30 | AK13: =U13-H13 -> 0 | AL13: =V13-I13 -> 0 | AM13: =W13-J13 -> -17 | AN13: =X13-K13 -> -5 | ... AR13: =AB13-O13 -> -32
A14: 3 | B14: UBND huyện Chiêm Hóa | C14: 24 | D14: 0 | E14: 55 | F14: 0 | G14: 1578 | H14: 0 | I14: 52 | J14: 23 | K14: 1433 | L14: 77 | M14: 117 | N14: 1681 | O14: 3164 | P14: 24 | Q14: 0 | R14: 62 | S14: 0 | T14: 1685 | U14: 1 | V14: 59 | W14: 23 | X14: 1777 | Y14: 76 | Z14: 103 | AA14: 1629 | AB14: 2673 | AC14: =AG14+AK14+AO14 -> 0 | AD14: =AH14+AL14+AP14 -> 0 | AE14: =AI14+AM14+AQ14 -> -52 | AF14: =AJ14+AN14+AR14 -> -40 | AG14: =Q14-D14 -> 0 | AH14: =R14-E14 -> 7 | AI14: =S14-F14 -> 0 | AJ14: =T14-G14 -> 107 | AK14: =U14-H14 -> 1 | AL14: =V14-I14 -> 7 | AM14: =W14-J14 -> 0 | AN14: =X14-K14 -> 344 | ... AR14: =AB14-O14 -> -491
A15: 4 | B15: UBND huyện Hàm Yên | C15: 18 | D15: 0 | E15: 74 | F15: 0 | G15: 1961 | H15: 0 | I15: 65 | J15: 0 | K15: 2031 | L15: 62 | M15: 104 | N15: 1643 | O15: 2911 | P15: 18 | Q15: 0 | R15: 75 | S15: 0 | T15: 1880 | U15: 1 | V15: 71 | W15: 18 | X15: 2075 | Y15: 67 | Z15: 95 | AA15: 1603 | AB15: 2683 | AC15: =AG15+AK15+AO15 -> 6 | AD15: =AH15+AL15+AP15 -> -2 | AE15: =AI15+AM15+AQ15 -> -22 | AF15: =AJ15+AN15+AR15 -> -265 | AG15: =Q15-D15 -> 0 | AH15: =R15-E15 -> 1 | AI15: =S15-F15 -> 0 | AJ15: =T15-G15 -> -81 | AK15: =U15-H15 -> 1 | AL15: =V15-I15 -> 6 | AM15: =W15-J15 -> 18 | AN15: =X15-K15 -> 44 | ... AR15: =AB15-O15 -> -228
A16: 5 | B16: UBND huyện Yên Sơn | C16: 29 | D16: 0 | E16: 81 | F16: 7 | G16: 2044 | H16: 3 | I16: 72 | J16: 151 | K16: 2100 | L16: 162 | M16: 171 | N16: 2492 | O16: 3814 | P16: 29 | Q16: 0 | R16: 82 | S16: 19 | T16: 2132 | U16: 6 | V16: 69 | W16: 182 | X16: 2154 | Y16: 156 | Z16: 170 | AA16: 2310 | AB16: 3607 | AC16: =AG16+AK16+AO16 -> -3 | AD16: =AH16+AL16+AP16 -> -3 | AE16: =AI16+AM16+AQ16 -> -139 | AF16: =AJ16+AN16+AR16 -> -65 | AG16: =Q16-D16 -> 0 | AH16: =R16-E16 -> 1 | AI16: =S16-F16 -> 12 | AJ16: =T16-G16 -> 88 | AK16: =U16-H16 -> 3 | AL16: =V16-I16 -> -3 | AM16: =W16-J16 -> 31 | AN16: =X16-K16 -> 54 | ... AR16: =AB16-O16 -> -207
A17: 6 | B17: UBND huyện Sơn Dương | C17: 33 | E17: 132 | F17: 0 | G17: 3457 | H17: 0 | I17: 115 | J17: 0 | K17: 3324 | L17: 137 | M17: 100 | N17: 3126 | O17: 3692 | P17: 33 | Q17: 0 | R17: 132 | S17: 0 | T17: 3480 | U17: 0 | V17: 115 | W17: 0 | X17: 3456 | Y17: 137 | Z17: 103 | AA17: 3126 | AB17: 3355 | AC17: =AG17+AK17+AO17 -> 0 | AD17: =AH17+AL17+AP17 -> 3 | AE17: =AI17+AM17+AQ17 -> 0 | AF17: =AJ17+AN17+AR17 -> -182 | AG17: =Q17-D17 -> 0 | AH17: =R17-E17 -> 0 | AI17: =S17-F17 -> 0 | AJ17: =T17-G17 -> 23 | AK17: =U17-H17 -> 0 | AL17: =V17-I17 -> 0 | AM17: =W17-J17 -> 0 | AN17: =X17-K17 -> 132 | ... AR17: =AB17-O17 -> -337
A18: 7 | B18: UBND thành phố TQ | C18: 19 | D18: 0 | E18: 54 | F18: 0 | G18: 1577 | H18: 4 | I18: 59 | J18: 89 | K18: 1669 | L18: 73 | M18: 80 | N18: 1654 | O18: 2519 | P18: 19 | Q18: 0 | R18: 55 | S18: 0 | T18: 1536 | U18: 6 | V18: 58 | W18: 115 | X18: 1745 | Y18: 70 | Z18: 79 | AA18: 1716 | AB18: 2453 | AC18: =AG18+AK18+AO18 -> -1 | AD18: =AH18+AL18+AP18 -> -1 | AE18: =AI18+AM18+AQ18 -> 88 | AF18: =AJ18+AN18+AR18 -> -31 | AG18: =Q18-D18 -> 0 | AH18: =R18-E18 -> 1 | AI18: =S18-F18 -> 0 | AJ18: =T18-G18 -> -41 | AK18: =U18-H18 -> 2 | AL18: =V18-I18 -> -1 | AM18: =W18-J18 -> 26 | AN18: =X18-K18 -> 76 | ... AR18: =AB18-O18 -> -66

Sheet PL 2A2
A1: ='PL 2A1'!A1 -> ỦY BAN NHÂN DÂN TỈNH TUYÊN QUANG
A2: Phụ lục 2A2 BIỂU RÀ SOÁT BỐ TRÍ, SẮP XẾP SỐ LƯỢNG NGƯỜI LÀM VIỆC ĐƯỢC GIAO NĂM HỌC 2022-2023, KẾ HOẠCH NĂM HỌC 2023-2024 VÀ ĐỀ XUẤT HỢP ĐỒNG LAO ĐỘNG THEO NGHỊ ĐỊNH SỐ 111/2022/NĐ-CP CỦA CẤP HỌC MẦM NON
A3: ='PL 2A1'!A3:AR3 -> (Kèm theo Kế hoạch số 205/KH-UBND ngày 31 tháng 8 năm 2023 của UBND tỉnh Tuyên Quang)
A5: TT | B5: Huyện | C5: Số được giao năm học 2022-2023 | K5: Thực trạng đội ngũ có mặt đến 31/3/2023 | Y5: Nhu cầu đội ngũ năm học 2023-2024
C6: Tổng số CBQL, GV, NV | D6: Số lượng người làm việc được giao năm 2023 | J6: HĐ hỗ trợ phục vụ theo NĐ số 111 | K6: Tổng cộng số CBQL, GV, NV | L6: CBQL, giáo viên, nhân viên | T6: HĐ 68 | U6: HĐ hưởng chế độ chính sách theo QĐ 60/2011/QĐ-TTg | X6: Giáo viên hợp đồng (HĐ theo NQ 120 trước đây) | Y6: Số nhóm/lớp | AA6: Định mức lớp nhà trẻ 2,5, lớp mẫu giáo 2,2 | AJ6: Số còn thiếu so với định mức
D7: Tổng số | E7: Lãnh đạo QL | F7: Giáo viên | G7: Trong đó | I7: Nhân viên | L7: Tổng số | M7: Lãnh đạo QL | N7: Giáo viên | O7: Trong đó | Q7: Nhân viên | R7: Trong đó | U7: Tổng số | V7: Trong đó: | Y7: Nhà trẻ | Z7: Mẫu giáo | AA7: Tổng số | AB7: Lãnh đạo QL | AC7: Giáo viên | AD7: Trong đó | AF7: Nhân viên | AG7: Trong đó: | AJ7: Tổng số | AK7: Lãnh đạo QL | AL7: Giáo viên | AM7: Trong đó | AO7: Nhân viên | AP7: Trong đó
G8: Giáo viên nhà trẻ | H8: Giáo viên mẫu giáo | O8: Giáo viên nhà trẻ | P8: Giáo viên mẫu giáo | R8: Kế toán | S8: Văn thư | V8: Giáo viên nhà trẻ | W8: Giáo viên mẫu giáo | AD8: Giáo viên nhà trẻ | AE8: Giáo viên mẫu giáo | AG8: Kế toán | AH8: Thủ quỹ | AI8: Văn thư | AM8: Giáo viên nhà trẻ | AN8: Giáo viên mẫu giáo | AP8: Kế toán | AQ8: Thủ quỹ | AR8: Văn thư
A10: 1 | B10: 2 | C10: 3 | D10: 4 | E10: 5 | F10: 6 | G10: 7 | H10: 8 | I10: 9 | J10: 10 | K10: 11 | L10: 12 | M10: 13 | N10: 14 | O10: 15 | P10: 16 | Q10: 17 | R10: 18 | S10: 19 | T10: 20 | U10: 21 | V10: 22 | W10: 23 | X10: 24 | Y10: 25 | Z10: 26 | AA10: 27 | AB10: 28 | AC10: 29 | AD10: 30 | AE10: 31 | AF10: 32 | AG10: 33 | AH10: 34 | AI10: 35 | AJ10: 36 | AK10: 37 | AL10: 38 | AM10: 39 | AN10: 40 | AO10: 41 | AP10: 42 | AQ10: 43 | AR10: 44
B11: TỔNG CỘNG | C11: =C12+C13+C14+C15+C16+C17+C18 -> 3626 | D11: =D12+D13+D14+D15+D16+D17+D18 -> 3622 | E11: =E12+E13+E14+E15+E16+E17+E18 -> 375 | F11: =F12+F13+F14+F15+F16+F17+F18 -> 3225 | G11: =G12+G13+G14+G15+G16+G17+G18 -> 1001 | H11: =H12+H13+H14+H15+H16+H17+H18 -> 2224 | I11: =I12+I13+I14+I15+I16+I17+I18 -> 22 | J11: =J12+J13+J14+J15+J16+J17+J18 -> 4 | ... AR11: =AR12+AR13+AR14+AR15+AR16+AR17+AR18 -> -124
A12: 1 | B12: UBND huyện Na Hang | C12: 278 | D12: 274 | E12: 32 | F12: 241 | G12: 72 | H12: 169 | I12: 1 | J12: 4 | K12: 299 | L12: 184 | M12: 29 | N12: 150 | O12: 37 | P12: 113 | Q12: 1 | R12: 1 | S12: 0 | T12: 4 | U12: 82 | V12: 34 | W12: 48 | X12: 29 | Y12: ='PL 2A1'!Q12+'PL 2A1'!U12+'PL 2A1'!Y12 -> 50 | Z12: ='PL 2A1'!R12+'PL 2A1'!V12+'PL 2A1'!Z12 -> 116 | AA12: =AB12+AC12+AF12 -> 440.2 | AB12: 36 | AC12: 380.2 | AD12: =Y12*2.5 -> 125 | AE12: 255 | AF12: =AG12+AH12+AI12 -> 24 | AG12: 4 | AH12: 8 | AI12: 12 | AJ12: =AK12+AL12+AO12 -> -166 | AK12: =E12-AB12 -> -4 | AL12: =AM12+AN12 -> -139 | AM12: =G12-AD12 -> -53 | AN12: =H12-AE12 -> -86 | AO12: =I12-AF12 -> -23 | AP12: =I12-AG12 -> -3 | AQ12: =-AH12 -> -8 | AR12: =-AI12 -> -12
A13: 2 | B13: UBND huyện Lâm Bình | C13: 241 | D13: 241 | E13: 25 | F13: 216 | G13: 47 | H13: 169 | I13: 0 | J13: 0 | K13: 285 | L13: 185 | M13: 24 | N13: 161 | O13: 46 | P13: 115 | Q13: 0 | R13: 0 | S13: 0 | T13: 0 | U13: 77 | V13: 17 | W13: 60 | X13: 23 | Y13: ='PL 2A1'!Q13+'PL 2A1'!U13+'PL 2A1'!Y13 -> 32 | Z13: ='PL 2A1'!R13+'PL 2A1'!V13+'PL 2A1'!Z13 -> 99 | AA13: =AB13+AC13+AF13 -> 347.8 | AB13: 30 | AC13: 297.8 | AD13: =Y13*2.5 -> 80 | AE13: =Z13*2.2 -> 217.8 | AF13: =AG13+AH13+AI13 -> 20 | AG13: 1 | AH13: 10 | AI13: 9 | AJ13: =AK13+AL13+AO13 -> -106.8 | AK13: =E13-AB13 -> -5 | AL13: =AM13+AN13 -> -81.8 | AM13: =G13-AD13 -> -33 | AN13: =H13-AE13 -> -48.8 | AO13: =I13-AF13 -> -20 | AP13: =-AG13 -> -1 | AQ13: =-AH13 -> -10 | AR13: =-AI13 -> -9
A14: 3 | B14: UBND huyện Chiêm Hóa | C14: 506 | D14: 506 | E14: 72 | F14: 431 | G14: 131 | H14: 300 | I14: 3 | J14: 0 | K14: 627 | L14: 359 | M14: 68 | N14: 288 | O14: 83 | P14: 205 | Q14: 3 | R14: 2 | S14: 1 | T14: 0 | U14: 186 | V14: 48 | W14: 138 | X14: 82 | Y14: ='PL 2A1'!Q14+'PL 2A1'!U14+'PL 2A1'!Y14 -> 77 | Z14: ='PL 2A1'!R14+'PL 2A1'!V14+'PL 2A1'!Z14 -> 224 | AA14: =AB14+AC14+AF14 -> 805.3 | AB14: 72 | AC14: 685.3 | AD14: =Y14*2.5 -> 192.5 | AE14: =Z14*2.2 -> 492.8 | AF14: =AG14+AH14+AI14 -> 48 | AG14: 5 | AH14: 20 | AI14: 23 | AJ14: =AK14+AL14+AO14 -> -299.3 | AK14: =E14-AB14 -> 0 | AL14: =AM14+AN14 -> -254.3 | AM14: =G14-AD14 -> -61.5 | AN14: =H14-AE14 -> -192.8 | AO14: =I14-AF14 -> -45 | AP14: =2-AG14 -> -3 | AQ14: =1-AH14 -> -19 | AR14: =0-AI14 -> -23
A15: 4 | B15: UBND huyện Hàm Yên | C15: 547 | D15: 547 | E15: 51 | F15: 495 | G15: 111 | H15: 384 | I15: 1 | J15: 0 | K15: 645 | L15: 406 | M15: 48 | N15: 357 | O15: 66 | P15: 291 | Q15: 1 | R15: 1 | S15: 0 | T15: 0 | U15: 119 | V15: 25 | W15: 94 | X15: 120 | Y15: ='PL 2A1'!Q15+'PL 2A1'!U15+'PL 2A1'!Y15 -> 68 | Z15: ='PL 2A1'!R15+'PL 2A1'!V15+'PL 2A1'!Z15 -> 241 | AA15: =AB15+AC15+AF15 -> 790.2 | AB15: 54 | AC15: 700.2 | AD15: =Y15*2.5 -> 170 | AE15: =Z15*2.2 -> 530.2 | AF15: =AG15+AH15+AI15 -> 36 | AG15: 7 | AH15: 11 | AI15: 18 | AJ15: =AK15+AL15+AO15 -> -243.2 | AK15: =E15-AB15 -> -3 | AL15: =AM15+AN15 -> -205.2 | AM15: =G15-AD15 -> -59 | AN15: =H15-AE15 -> -146.2 | AO15: =I15-AF15 -> -35 | AP15: =1-AG15 -> -6 | AQ15: =0-AH15 -> -11 | AR15: =-AI15 -> -18
A16: 5 | B16: UBND huyện Yên Sơn | C16: 761 | D16: 761 | E16: 87 | F16: 673 | G16: 253 | H16: 420 | I16: 1 | J16: 0 | K16: 970 | L16: 453 | M16: 82 | N16: 370 | O16: 117 | P16: 253 | Q16: 1 | R16: 1 | S16: 0 | T16: 0 | U16: 473 | V16: 163 | W16: 310 | X16: 44 | Y16: ='PL 2A1'!Q16+'PL 2A1'!U16+'PL 2A1'!Y16 -> 162 | Z16: ='PL 2A1'!R16+'PL 2A1'!V16+'PL 2A1'!Z16 -> 321 | AA16: =AB16+AC16+AF16 -> 1256.2 | AB16: 87 | AC16: 1111.2 | AD16: =Y16*2.5 -> 405 | AE16: =Z16*2.2 -> 706.2 | AF16: =AG16+AH16+AI16 -> 58 | AG16: 22 | AH16: 7 | AI16: 29 | AJ16: =AK16+AL16+AO16 -> -495.2 | AK16: =E16-AB16 -> 0 | AL16: =AM16+AN16 -> -438.2 | AM16: =G16-AD16 -> -152 | AN16: =H16-AE16 -> -286.2 | AO16: =I16-AF16 -> -57 | AP16: =I16-AG16 -> -21 | AQ16: =0-AH16 -> -7 | AR16: =-AI16 -> -29
A17: 6 | B17: UBND huyện Sơn Dương | C17: 839 | D17: 839 | E17: 66 | F17: 773 | G17: 219 | H17: 554 | I17: 0 | J17: 0 | K17: 992 | L17: 647 | M17: 65 | N17: 582 | O17: 162 | P17: 420 | Q17: 0 | R17: 0 | S17: 0 | T17: 0 | U17: 233 | V17: 70 | W17: 163 | X17: 112 | Y17: ='PL 2A1'!Q17+'PL 2A1'!U17+'PL 2A1'!Y17 -> 137 | Z17: ='PL 2A1'!R17+'PL 2A1'!V17+'PL 2A1'!Z17 -> 350 | AA17: =AB17+AC17+AF17 -> 1277.5 | AB17: 99 | AC17: 1112.5 | AD17: =Y17*2.5 -> 342.5 | AE17: =Z17*2.2 -> 770 | AF17: =AG17+AH17+AI17 -> 66 | AG17: 3 | AH17: 30 | AI17: 33 | AJ17: =AK17+AL17+AO17 -> -438.5 | AK17: =E17-AB17 -> -33 | AL17: =AM17+AN17 -> -339.5 | AM17: =G17-AD17 -> -123.5 | AN17: =H17-AE17 -> -216 | AO17: =I17-AF17 -> -66 | AP17: =0-AG17 -> -3 | AQ17: =0-AH17 -> -30 | AR17: =-AI17 -> -33
A18: 7 | B18: UBND thành phố TQ | C18: 454 | D18: 454 | E18: 42 | F18: 396 | G18: 168 | H18: 228 | I18: 16 | J18: 0 | K18: 610 | L18: 302 | M18: 41 | N18: 253 | O18: 87 | P18: 166 | Q18: 8 | R18: 7 | S18: 1 | T18: 0 | U18: 223 | V18: 54 | W18: 169 | X18: 85 | Y18: ='PL 2A1'!Q18+'PL 2A1'!U18+'PL 2A1'!Y18 -> 76 | Z18: ='PL 2A1'!R18+'PL 2A1'!V18+'PL 2A1'!Z18 -> 192 | AA18: =AB18+AC18+AF18 -> 706.4 | AB18: 56 | AC18: 612.4 | AD18: =Y18*2.5 -> 190 | AE18: =Z18*2.2 -> 422.4 | AF18: =AG18+AH18+AI18 -> 38 | AG18: 19 | AH18: 19 | AJ18: =AK18+AL18+AO18 -> -252.4 | AK18: =E18-AB18 -> -14 | AL18: =AM18+AN18 -> -216.4 | AM18: =G18-AD18 -> -22 | AN18: =H18-AE18 -> -194.4 | AO18: =I18-AF18 -> -22 | AP18: =15-AG18 -> -4 | AQ18: =1-AH18 -> -18 | AR18: =-AI18 -> 0

Sheet B02 MN GV (2)
B1: 0
A2: BIỂU RÀ SOÁT BỐ TRÍ, SẮP XẾP SỐ LƯỢNG NGƯỜI LÀM VIỆC ĐƯỢC GIAO NĂM HỌC 2020-2021
A3: VÀ KẾ HOẠCH BỐ TRÍ, SẮP XẾP SỐ LƯỢNG NGƯỜI LÀM VIỆC ĐƯỢC GIAO NĂM HỌC 2021-2022 CỦA CẤP HỌC MẦM NON
A4: =#REF! -> #REF!
AT5: Biểu số 02
A6: TT | B6: Tên trường | C6: Số được giao năm học 2020-2021 | U6: Thực trạng đội ngũ có mặt đến tháng 2/2021 | AI6: Nhu cầu đội ngũ năm học 2021-2022 | AY6: Tăng, giảm (-)
C7: Số trường | D7: Số điểm trưởng | E7: Số nhóm, lớp | H7: Tổng cộng số CBQL, GV, NV | I7: Số lượng người làm việc (biên chế) được giao theo QĐ số 685/QĐ-UBND ngày 30/12/2020 của UBND tỉnh | R7: Giáo viên hợp đồng theo Quyết định số 60/2011/QĐ-TTg | U7: Tổng cộng số CBQL, GV, NV | V7: CBQL, giáo viên, nhân viên | AE7: Giáo viên hợp đồng theo Quyết định số 60/2011/QĐ-TTg | AH7: Giáo viên hợp đồng NQ 102 | AI7: Số nhóm, lớp | AL7: Tổng cộng số CBQL, GV, NV | AM7: Phương án bố trí số lượng người làm việc | AV7: Giáo viên hợp đồng theo Quyết định số 60/2011/QĐ-TTg | AY7: Thực trạng so với số được giao | AZ7: Nhu cầu so với số được giao | BA7: Nhu cầu so với thực trạng
E8: Tống số | F8: Trong đó | I8: Tổng số | J8: Hiệu trưởng | K8: Phó Hiệu trưởng | L8: Giáo viên | N8: Kế toán | O8: Văn thư | P8: Y tế | Q8: Nhân viên | R8: Tổng số | S8: Trong đó: | V8: Tổng số | W8: Hiệu trưởng | X8: Phó Hiệu trưởng | Y8: Giáo viên | AA8: Kế toán | AB8: Văn thư | AC8: Y tế | AD8: Nhân viên 68 | AE8: Tổng số | AF8: Trong đó: | AI8: Tống số | AJ8: Trong đó | AM8: Tổng số | AN8: Hiệu trưởng | AO8: Phó Hiệu trưởng | AP8: Giáo viên | AR8: Kế toán | AS8: Văn thư | AT8: Y tế | AU8: Nhân viên | AV8: Tổng số | AW8: Trong đó:
F9: Nhà trẻ | G9: Mẫu giáo | L9: Giáo viên nhà trẻ | M9: Giáo viên mẫu giáo | S9: Giáo viên nhà trẻ | T9: Giáo viên mẫu giáo | Y9: Giáo viên nhà trẻ | Z9: Giáo viên mẫu giáo | AF9: Giáo viên nhà trẻ | AG9: Giáo viên mẫu giáo | AJ9: Nhà trẻ | AK9: Mẫu giáo | AP9: Giáo viên nhà trẻ | AQ9: Giáo viên mẫu giáo | AW9: Giáo viên nhà trẻ | AX9: Giáo viên mẫu giáo
A10: 1 | B10: 2 | C10: 3 | D10: 4 | E10: 5 | F10: 6 | G10: 7 | H10: 8 | I10: =L10+M10 -> 5012.5 | J10: 10 | K10: 11 | L10: =F11*2.5 -> 1437.5 | M10: =G11*2.2 -> 3575 | N10: 14 | O10: =P10-1890 -> 955.5 | P10: =R10-I11 -> 2845.5 | Q10: 17 | R10: =I10+J11+K11+26 -> 5412.5 | S10: 19 | T10: 20 | U10: 21 | V10: 22 | W10: 23 | X10: 24 | Y10: 25 | Z10: 26 | AA10: 27 | AB10: 28 | AC10: 29 | AD10: 30 | AE10: 31 | AF10: 32 | AG10: 33 | AH10: 34 | AI10: 35 | AJ10: 36 | AK10: 37 | AL10: 38 | AM10: 39 | AN10: 40 | AO10: 41 | AP10: =AJ11*2 -> #REF! | AQ10: =AK11*2 -> #REF! | AR10: 44 | AS10: 45 | AT10: 46 | AU10: 47 | AV10: 48 | AW10: 49 | AX10: 50 | AY10: 51 | AZ10: 52 | BA10: 53 | BB10: =AV11+AP10+AQ10 -> #REF! | BC10: =BB10-I11 -> #REF!
C11: =C12+C21+C34+C80+C110+C144+C61 -> 145 | D11: =D12+D21+D34+D80+D110+D144+D61 -> 689 | E11: =E12+E21+E34+E80+E110+E144+E61 -> 2200 | F11: =F12+F21+F34+F80+F110+F144+F61 -> 575 | G11: =G12+G21+G34+G80+G110+G144+G61 -> 1625 | H11: =H12+H21+H34+H80+H110+H144+H61 -> 4397 | I11: =I12+I21+I34+I80+I110+I144+I61 -> 2567 | J11: =J12+J21+J34+J80+J110+J144+J61 -> 145 | ... T11: =T12+T21+T34+T80+T110+T144+T61 -> 1143 | U11: =V11+AE11 -> 4109 | V11: =V12+V21+V34+V80+V110+V144+V61 -> 2481 | W11: =W12+W21+W34+W80+W110+W144+W61 -> 142 | X11: =X12+X21+X34+X80+X110+X144+X61 -> 219 | Y11: =Y12+Y21+Y34+Y80+Y110+Y144+Y61 -> 399 | Z11: =Z12+Z21+Z34+Z80+Z110+Z144+Z61 -> 1693 | AA11: =AA12+AA21+AA34+AA80+AA110+AA144+AA61 -> 26 | AB11: =AB12+AB21+AB34+AB80+AB110+AB144+AB61 -> 0 | AC11: =AC12+AC21+AC34+AC80+AC110+AC144+AC61 -> 2 | ... AI11: =AI12+AI21+AI34+AI80+AI110+AI144+AI61 -> #REF! | AJ11: =#REF! -> #REF! | AK11: =#REF! -> #REF! | AL11: =AL12+AL21+AL34+AL80+AL110+AL144+AL61 -> #REF! | AM11: =AM12+AM21+AM34+AM80+AM110+AM144+AM61 -> #REF! | AN11: =AN12+AN21+AN34+AN80+AN110+AN144+AN61 -> 144 | AO11: =AO12+AO21+AO34+AO80+AO110+AO144+AO61 -> 227 | AP11: =AP12+AP21+AP34+AP80+AP110+AP144+AP61 -> #REF! | AQ11: =AQ12+AQ21+AQ34+AQ80+AQ110+AQ144+AQ61 -> #REF! | AR11: =AR12+AR21+AR34+AR80+AR110+AR144+AR61 -> 59 | AS11: =AS12+AS21+AS34+AS80+AS110+AS144+AS61 -> 20 | ... AU11: =AU12+AU21+AU34+AU80+AU110+AU144+AU61 -> 224 | AV11: 1890 | AW11: =AW12+AW21+AW34+AW80+AW110+AW144+AW61 -> 728 | AX11: =AX12+AX21+AX34+AX80+AX110+AX144+AX61 -> 1190 | AY11: =AY12+AY21+AY34+AY80+AY110+AY144+AY61 -> -287 | AZ11: =AZ12+AZ21+AZ34+AZ80+AZ110+AZ144+AZ61 -> #REF! | BA11: =BA12+BA21+BA34+BA80+BA110+BA144+BA61 -> #REF! | BC11: =BC10-1890 -> #REF!
A12: I | B12: LÂM BÌNH | C12: =SUM(C13:C20) -> 8 | D12: =SUM(D13:D20) -> 42 | E12: =SUM(E13:E20) -> 100 | F12: =SUM(F13:F20) -> 19 | G12: =SUM(G13:G20) -> 81 | H12: =SUM(H13:H20) -> 201 | I12: =SUM(I13:I20) -> 136 | J12: =SUM(J13:J20) -> 8 | ... T12: =SUM(T13:T20) -> 50 | U12: =V12+AE12 -> 194 | V12: =SUM(W12:AC12) -> 131 | W12: =SUM(W13:W20) -> 8 | X12: =SUM(X13:X20) -> 9 | Y12: =SUM(Y13:Y20) -> 19 | Z12: =SUM(Z13:Z20) -> 95 | AA12: =SUM(AA13:AA20) -> 0 | AB12: =SUM(AB13:AB20) -> 0 | AC12: =SUM(AC13:AC20) -> 0 | AD12: =SUM(AD13:AD20) -> 0 | ... AI12: =SUM(AI13:AI20) -> #REF! | AJ12: =#REF! -> #REF! | AK12: =#REF! -> #REF! | AL12: =SUM(AL13:AL20) -> 242 | AM12: =SUM(AM13:AM20) -> 177 | AN12: =SUM(AN13:AN20) -> 8 | AO12: =SUM(AO13:AO20) -> 9 | AP12: =SUM(AP13:AP20) -> 20 | AQ12: =SUM(AQ13:AQ20) -> 99 | AR12: =SUM(AR13:AR20) -> 3 | AS12: =SUM(AS13:AS20) -> 0 | ... BA12: =SUM(BA13:BA20) -> 48
A13: 1 | B13: MN Thượng Lâm | C13: 1 | D13: 6 | E13: =F13+G13 -> 13 | F13: 2 | G13: 11 | H13: =I13+R13 -> 28 | I13: =SUM(J13:Q13) -> 23 | J13: 1 | K13: 2 | L13: 3 | M13: 17 | R13: =S13+T13 -> 5 | S13: 1 | T13: 4 | U13: =V13+AE13 -> 28 | V13: =SUM(W13:AC13) -> 23 | W13: 1 | X13: 2 | Y13: 3 | Z13: 17 | AE13: =AF13+AG13 -> 5 | AF13: 1 | AG13: 4 | AI13: =AJ13+AK13 -> #REF! | AJ13: =#REF! -> #REF! | AK13: =#REF! -> #REF! | AL13: =AM13+AV13 -> 35 | AM13: =SUM(AN13:AU13) -> 30 | AN13: 1 | AO13: 2 | AP13: 3 | AQ13: 18 | AR13: 1 | AU13: 5 | AV13: =AW13+AX13 -> 5 | AW13: 1 | AX13: 4 | AY13: =U13-H13 -> 0 | AZ13: =AL13-H13 -> 7 | BA13: =AL13-U13 -> 7
A14: 2 | B14: MN Khuôn Hà | C14: 1 | D14: 3 | E14: =F14+G14 -> 10 | F14: 2 | G14: 8 | H14: =I14+R14 -> 19 | I14: =SUM(J14:Q14) -> 15 | J14: 1 | K14: 1 | L14: 1 | M14: 12 | R14: =S14+T14 -> 4 | S14: 2 | T14: 2 | U14: =V14+AE14 -> 19 | V14: =SUM(W14:AC14) -> 15 | W14: 1 | X14: 1 | Y14: 1 | Z14: 12 | AE14: =AF14+AG14 -> 4 | AF14: 2 | AG14: 2 | AI14: =AJ14+AK14 -> #REF! | AJ14: =#REF! -> #REF! | AK14: =#REF! -> #REF! | AL14: =AM14+AV14 -> 22 | AM14: =SUM(AN14:AU14) -> 18 | AN14: 1 | AO14: 1 | AP14: 1 | AQ14: 11 | AU14: 4 | AV14: =AW14+AX14 -> 4 | AW14: 2 | AX14: 2 | AY14: =U14-H14 -> 0 | AZ14: =AL14-H14 -> 3 | BA14: =AL14-U14 -> 3
A15: 3 | B15: MN Lăng Can | C15: 1 | D15: 7 | E15: =F15+G15 -> 17 | F15: 2 | G15: 15 | H15: =I15+R15 -> 36 | I15: =SUM(J15:Q15) -> 22 | J15: 1 | K15: 1 | L15: 2 | M15: 18 | R15: =S15+T15 -> 14 | S15: 2 | T15: 12 | U15: =V15+AE15 -> 33 | V15: =SUM(W15:AC15) -> 21 | W15: 1 | Y15: 2 | Z15: 18 | AE15: =AF15+AG15 -> 12 | AF15: 2 | AG15: 10 | AH15: 2 | AI15: =AJ15+AK15 -> #REF! | AJ15: =#REF! -> #REF! | AK15: =#REF! -> #REF! | AL15: =AM15+AV15 -> 40 | AM15: =SUM(AN15:AU15) -> 26 | AN15: 1 | AO15: 1 | AP15: 2 | AQ15: 16 | AR15: 1 | AU15: 5 | AV15: =AW15+AX15 -> 14 | AW15: 2 | AX15: 12 | AY15: =U15-H15 -> -3 | AZ15: =AL15-H15 -> 4 | BA15: =AL15-U15 -> 7
A16: 4 | B16: MN Phúc Yên | C16: 1 | D16: 6 | E16: =F16+G16 -> 10 | F16: 3 | G16: 7 | H16: =I16+R16 -> 18 | I16: =SUM(J16:Q16) -> 12 | J16: 1 | K16: 1 | L16: 1 | M16: 9 | R16: =S16+T16 -> 6 | S16: 3 | T16: 3 | U16: =V16+AE16 -> 17 | V16: =SUM(W16:AC16) -> 11 | W16: 1 | X16: 1 | Y16: 1 | Z16: 8 | AE16: =AF16+AG16 -> 6 | AF16: 3 | AG16: 3 | AH16: 1 | AI16: =AJ16+AK16 -> #REF! | AJ16: =#REF! -> #REF! | AK16: =#REF! -> #REF! | AL16: =AM16+AV16 -> 22 | AM16: =SUM(AN16:AU16) -> 16 | AN16: 1 | AO16: 1 | AP16: 2 | AQ16: 8 | AU16: 4 | AV16: =AW16+AX16 -> 6 | AW16: 3 | AX16: 3 | AY16: =U16-H16 -> -1 | AZ16: =AL16-H16 -> 4 | BA16: =AL16-U16 -> 5
A17: 5 | B17: MN Xuân Lập | C17: 1 | D17: 7 | E17: =F17+G17 -> 12 | F17: 3 | G17: 9 | H17: =I17+R17 -> 21 | I17: =SUM(J17:Q17) -> 16 | J17: 1 | K17: 1 | L17: 4 | M17: 10 | R17: =S17+T17 -> 5 | S17: 2 | T17: 3 | U17: =V17+AE17 -> 19 | V17: =SUM(W17:AC17) -> 14 | W17: 1 | X17: 1 | Y17: 4 | Z17: 8 | AE17: =AF17+AG17 -> 5 | AF17: 2 | AG17: 3 | AH17: 2 | AI17: =AJ17+AK17 -> #REF! | AJ17: =#REF! -> #REF! | AK17: =#REF! -> #REF! | AL17: =AM17+AV17 -> 28 | AM17: =SUM(AN17:AU17) -> 23 | AN17: 1 | AO17: 1 | AP17: 3 | AQ17: 13 | AU17: 5 | AV17: =AW17+AX17 -> 5 | AW17: 2 | AX17: 3 | AY17: =U17-H17 -> -2 | AZ17: =AL17-H17 -> 7 | BA17: =AL17-U17 -> 9
A18: 6 | B18: MN Bình An | C18: 1 | D18: 5 | E18: =F18+G18 -> 13 | F18: 3 | G18: 10 | H18: =I18+R18 -> 25 | I18: =SUM(J18:Q18) -> 13 | J18: 1 | K18: 1 | L18: 2 | M18: 9 | R18: =S18+T18 -> 12 | S18: 3 | T18: 9 | U18: =V18+AE18 -> 24 | V18: =SUM(W18:AC18) -> 12 | W18: 1 | X18: 1 | Y18: 2 | Z18: 8 | AE18: =AF18+AG18 -> 12 | AF18: 3 | AG18: 9 | AH18: 1 | AI18: =AJ18+AK18 -> #REF! | AJ18: =#REF! -> #REF! | AK18: =#REF! -> #REF! | AL18: =AM18+AV18 -> 31 | AM18: =SUM(AN18:AU18) -> 19 | AN18: 1 | AO18: 1 | AP18: 2 | AQ18: 10 | AU18: 5 | AV18: =AW18+AX18 -> 12 | AW18: 3 | AX18: 9 | AY18: =U18-H18 -> -1 | AZ18: =AL18-H18 -> 6 | BA18: =AL18-U18 -> 7
A19: 7 | B19: MN Thổ Bình | C19: 1 | D19: 4 | E19: =F19+G19 -> 14 | F19: 2 | G19: 12 | H19: =I19+R19 -> 31 | I19: =SUM(J19:Q19) -> 18 | J19: 1 | K19: 2 | L19: 4 | M19: 11 | R19: =S19+T19 -> 13 | S19: 0 | T19: 13 | U19: =V19+AE19 -> 31 | V19: =SUM(W19:AC19) -> 18 | W19: 1 | X19: 2 | Y19: 4 | Z19: 11 | AE19: =AF19+AG19 -> 13 | AG19: 13 | AI19: =AJ19+AK19 -> #REF! | AJ19: =#REF! -> #REF! | AK19: =#REF! -> #REF! | AL19: =AM19+AV19 -> 36 | AM19: =SUM(AN19:AU19) -> 23 | AN19: 1 | AO19: 1 | AP19: 4 | AQ19: 11 | AR19: 1 | AU19: 5 | AV19: =AW19+AX19 -> 13 | AX19: 13 | AY19: =U19-H19 -> 0 | AZ19: =AL19-H19 -> 5 | BA19: =AL19-U19 -> 5
A20: 8 | B20: MN Hồng Quang | C20: 1 | D20: 4 | E20: =F20+G20 -> 11 | F20: 2 | G20: 9 | H20: =I20+R20 -> 23 | I20: =SUM(J20:Q20) -> 17 | J20: 1 | K20: 1 | L20: 2 | M20: 13 | R20: =S20+T20 -> 6 | S20: 2 | T20: 4 | U20: =V20+AE20 -> 23 | V20: =SUM(W20:AC20) -> 17 | W20: 1 | X20: 1 | Y20: 2 | Z20: 13 | AE20: =AF20+AG20 -> 6 | AF20: 2 | AG20: 4 | AI20: =AJ20+AK20 -> #REF! | AJ20: =#REF! -> #REF! | AK20: =#REF! -> #REF! | AL20: =AM20+AV20 -> 28 | AM20: =SUM(AN20:AU20) -> 22 | AN20: 1 | AO20: 1 | AP20: 3 | AQ20: 12 | AU20: 5 | AV20: =AW20+AX20 -> 6 | AW20: 2 | AX20: 4 | AY20: =U20-H20 -> 0 | AZ20: =AL20-H20 -> 5 | BA20: =AL20-U20 -> 5
A21: II | B21: NA HANG | C21: =SUM(C22:C33) -> 12 | D21: =SUM(D22:D33) -> 83 | E21: =SUM(E22:E33) -> 165 | F21: =SUM(F22:F33) -> 43 | G21: =SUM(G22:G33) -> 122 | H21: =SUM(H22:H33) -> 280 | I21: =SUM(I22:I33) -> 181 | J21: =SUM(J22:J33) -> 12 | ... N21: =SUM(N22:N33) -> 0 | Q21: =SUM(Q22:Q33) -> 4 | R21: =SUM(R22:R33) -> 99 | S21: =SUM(S22:S33) -> 36 | T21: =SUM(T22:T33) -> 63 | U21: =V21+AE21 -> 272 | V21: =SUM(W21:AC21) -> 181 | W21: =SUM(W22:W33) -> 12 | X21: =SUM(X22:X33) -> 18 | Y21: =SUM(Y22:Y33) -> 31 | Z21: =SUM(Z22:Z33) -> 119 | AA21: =SUM(AA22:AA33) -> 1 | AD21: =SUM(AD22:AD33) -> 4 | AE21: =SUM(AE22:AE33) -> 91 | AF21: =SUM(AF22:AF33) -> 33 | AG21: =SUM(AG22:AG33) -> 58 | AH21: =SUM(AH22:AH33) -> 7 | AI21: =SUM(AI22:AI33) -> 170 | AJ21: =#REF! -> #REF! | AK21: =#REF! -> #REF! | AL21: =SUM(AL22:AL33) -> 307 | AM21: =SUM(AM22:AM33) -> 186 | AN21: =SUM(AN22:AN33) -> 12 | AO21: =SUM(AO22:AO33) -> 19 | AP21: =SUM(AP22:AP33) -> 33 | AQ21: =SUM(AQ22:AQ33) -> 118 | AR21: =SUM(AR22:AR33) -> 1 | AU21: =SUM(AU22:AU33) -> 3 | AV21: =SUM(AV22:AV33) -> 121 | AW21: =SUM(AW22:AW33) -> 50 | AX21: =SUM(AX22:AX33) -> 71 | AY21: =SUM(AY22:AY33) -> -8 | AZ21: =SUM(AZ22:AZ33) -> 27 | BA21: =SUM(BA22:BA33) -> 35
A22: 1 | B22: MN Thanh Tương | C22: 1 | D22: 6 | E22: 13 | F22: 4 | G22: 9 | H22: =I22+R22 -> 22 | I22: =J22+K22+L22+M22+N22+O22+P22 -> 17 | J22: 1 | K22: 2 | L22: 4 | M22: 10 | R22: 5 | S22: 2 | T22: 3 | U22: =V22+AE22 -> 21 | V22: =SUM(W22:AC22) -> 17 | W22: 1 | X22: 2 | Y22: 4 | Z22: 10 | AE22: 4 | AF22: 1 | AG22: 3 | AH22: 1 | AI22: 13 | AJ22: =#REF! -> #REF! | AK22: =#REF! -> #REF! | AL22: 22 | AM22: =AN22+AO22+AP22+AQ22+AR22+AS22+AT22+AU22 -> 17 | AN22: 1 | AO22: 2 | AP22: 4 | AQ22: 10 | AV22: =AW22+AX22 -> 5 | AW22: 2 | AX22: 3 | AY22: =U22-H22 -> -1 | AZ22: =AL22-H22 -> 0 | BA22: =AL22-U22 -> 1
A23: 2 | B23: MN Hoa Mai | C23: 1 | D23: 6 | E23: 20 | F23: 5 | G23: 15 | H23: =I23+R23 -> 42 | I23: =J23+K23+L23+M23+N23+O23+P23 -> 28 | J23: 1 | K23: 2 | L23: 3 | M23: 22 | Q23: 4 | R23: 14 | S23: 7 | T23: 7 | U23: =V23+AE23 -> 41 | V23: =SUM(W23:AC23) -> 28 | W23: 1 | X23: 1 | Y23: 3 | Z23: 22 | AA23: 1 | AD23: 4 | AE23: 13 | AF23: 7 | AG23: 6 | AI23: 20 | AJ23: =#REF! -> #REF! | AK23: =#REF! -> #REF! | AL23: 47 | AM23: =AN23+AO23+AP23+AQ23+AR23+AS23+AT23+AU23 -> 33 | AN23: 1 | AO23: 2 | AP23: 3 | AQ23: 23 | AR23: 1 | AU23: 3 | AV23: =AW23+AX23 -> 13 | AW23: 7 | AX23: 6 | AY23: =U23-H23 -> -1 | AZ23: =AL23-H23 -> 5 | BA23: =AL23-U23 -> 6
A24: 3 | B24: MN Năng Khả | C24: 1 | D24: 8 | E24: 17 | F24: 7 | G24: 10 | H24: =I24+R24 -> 35 | I24: =J24+K24+L24+M24+N24+O24+P24 -> 24 | J24: 1 | K24: 2 | L24: 6 | M24: 15 | R24: 11 | S24: 5 | T24: 6 | U24: =V24+AE24 -> 34 | V24: =SUM(W24:AC24) -> 24 | W24: 1 | X24: 2 | Y24: 6 | Z24: 15 | AE24: 10 | AF24: 4 | AG24: 6 | AH24: 1 | AI24: 17 | AJ24: =#REF! -> #REF! | AK24: =#REF! -> #REF! | AL24: 35 | AM24: =AN24+AO24+AP24+AQ24+AR24+AS24+AT24+AU24 -> 24 | AN24: 1 | AO24: 2 | AP24: 7 | AQ24: 14 | AV24: =AW24+AX24 -> 11 | AW24: 5 | AX24: 6 | AY24: =U24-H24 -> -1 | AZ24: =AL24-H24 -> 0 | BA24: =AL24-U24 -> 1
A25: 4 | B25: MN Sơn Phú | C25: 1 | D25: 7 | E25: 12 | F25: 3 | G25: 9 | H25: =I25+R25 -> 20 | I25: =J25+K25+L25+M25+N25+O25+P25 -> 15 | J25: 1 | K25: 1 | L25: 4 | M25: 9 | R25: 5 | S25: 0 | T25: 5 | U25: =V25+AE25 -> 19 | V25: =SUM(W25:AC25) -> 15 | W25: 1 | X25: 1 | Y25: 4 | Z25: 9 | AE25: 4 | AF25: 0 | AG25: 4 | AH25: 1 | AI25: 14 | AJ25: =#REF! -> #REF! | AK25: =#REF! -> #REF! | AL25: 24 | AM25: =AN25+AO25+AP25+AQ25+AR25+AS25+AT25+AU25 -> 15 | AN25: 1 | AO25: 1 | AP25: 4 | AQ25: 9 | AV25: =AW25+AX25 -> 9 | AW25: 4 | AX25: 5 | AY25: =U25-H25 -> -1 | AZ25: =AL25-H25 -> 4 | BA25: =AL25-U25 -> 5
A26: 5 | B26: MN ĐÀ VỊ | C26: 1 | D26: 13 | E26: 22 | F26: 5 | G26: 17 | H26: =I26+R26 -> 34 | I26: =J26+K26+L26+M26+N26+O26+P26 -> 22 | J26: 1 | K26: 2 | L26: 2 | M26: 17 | R26: 12 | S26: 6 | T26: 6 | U26: =V26+AE26 -> 34 | V26: =SUM(W26:AC26) -> 22 | W26: 1 | X26: 2 | Y26: 2 | Z26: 17 | AE26: 12 | AF26: 6 | AG26: 6 | AI26: 23 | AJ26: =#REF! -> #REF! | AK26: =#REF! -> #REF! | AL26: 35 | AM26: =AN26+AO26+AP26+AQ26+AR26+AS26+AT26+AU26 -> 22 | AN26: 1 | AO26: 2 | AP26: 2 | AQ26: 17 | AV26: =AW26+AX26 -> 13 | AW26: 7 | AX26: 6 | AY26: =U26-H26 -> 0 | AZ26: =AL26-H26 -> 1 | BA26: =AL26-U26 -> 1
A27: 6 | B27: MN Yên Hoa | C27: 1 | D27: 9 | E27: 19 | F27: 4 | G27: 15 | H27: =I27+R27 -> 30 | I27: =J27+K27+L27+M27+N27+O27+P27 -> 12 | J27: 1 | K27: 2 | L27: 1 | M27: 8 | R27: 18 | S27: 5 | T27: 13 | U27: =V27+AE27 -> 28 | V27: =SUM(W27:AC27) -> 12 | W27: 1 | X27: 2 | Y27: 1 | Z27: 8 | AE27: 16 | AF27: 5 | AG27: 11 | AH27: 2 | AI27: 18 | AJ27: =#REF! -> #REF! | AK27: =#REF! -> #REF! | AL27: 35 | AM27: =AN27+AO27+AP27+AQ27+AR27+AS27+AT27+AU27 -> 12 | AN27: 1 | AO27: 2 | AP27: 1 | AQ27: 8 | AV27: =AW27+AX27 -> 23 | AW27: 7 | AX27: 16 | AY27: =U27-H27 -> -2 | AZ27: =AL27-H27 -> 5 | BA27: =AL27-U27 -> 7
A28: 7 | B28: MN Thượng Nông | C28: 1 | D28: 8 | E28: 15 | F28: 4 | G28: 11 | H28: =I28+R28 -> 26 | I28: =J28+K28+L28+M28+N28+O28+P28 -> 14 | J28: 1 | K28: 2 | L28: 2 | M28: 9 | R28: 12 | S28: 4 | T28: 8 | U28: =V28+AE28 -> 25 | V28: =SUM(W28:AC28) -> 14 | W28: 1 | X28: 2 | Y28: 2 | Z28: 9 | AE28: 11 | AF28: 3 | AG28: 8 | AH28: 1 | AI28: 15 | AJ28: =#REF! -> #REF! | AK28: =#REF! -> #REF! | AL28: 25 | AM28: =AN28+AO28+AP28+AQ28+AR28+AS28+AT28+AU28 -> 14 | AN28: 1 | AO28: 2 | AP28: 2 | AQ28: 9 | AV28: =AW28+AX28 -> 12 | AW28: 5 | AX28: 7 | AY28: =U28-H28 -> -1 | AZ28: =AL28-H28 -> -1 | BA28: =AL28-U28 -> 0
A29: 8 | B29: MN Sinh Long | C29: 1 | D29: 12 | E29: 16 | F29: 2 | G29: 14 | H29: =I29+R29 -> 22 | I29: =J29+K29+L29+M29+N29+O29+P29 -> 16 | J29: 1 | K29: 2 | L29: 2 | M29: 11 | R29: 6 | S29: 1 | T29: 5 | U29: =V29+AE29 -> 21 | V29: =SUM(W29:AC29) -> 16 | W29: 1 | X29: 2 | Y29: 2 | Z29: 11 | AE29: 5 | AF29: 1 | AG29: 4 | AH29: 1 | AI29: 18 | AJ29: =#REF! -> #REF! | AK29: =#REF! -> #REF! | AL29: 26 | AM29: =AN29+AO29+AP29+AQ29+AR29+AS29+AT29+AU29 -> 16 | AN29: 1 | AO29: 2 | AP29: 2 | AQ29: 11 | AV29: =AW29+AX29 -> 10 | AW29: 4 | AX29: 6 | AY29: =U29-H29 -> -1 | AZ29: =AL29-H29 -> 4 | BA29: =AL29-U29 -> 5
A30: 9 | B30: MN Khâu Tinh | C30: 1 | D30: 3 | E30: 7 | F30: 2 | G30: 5 | H30: =I30+R30 -> 12 | I30: =J30+K30+L30+M30+N30+O30+P30 -> 8 | J30: 1 | K30: 1 | L30: 1 | M30: 5 | R30: 4 | S30: 2 | T30: 2 | U30: =V30+AE30 -> 12 | V30: =SUM(W30:AC30) -> 8 | W30: 1 | X30: 1 | Y30: 1 | Z30: 5 | AE30: 4 | AF30: 2 | AG30: 2 | AH30: 0 | AI30: 8 | AJ30: =#REF! -> #REF! | AK30: =#REF! -> #REF! | AL30: 14 | AM30: =AN30+AO30+AP30+AQ30+AR30+AS30+AT30+AU30 -> 8 | AN30: 1 | AO30: 1 | AP30: 1 | AQ30: 5 | AV30: =AW30+AX30 -> 6 | AW30: 4 | AX30: 2 | AY30: =U30-H30 -> 0 | AZ30: =AL30-H30 -> 2 | BA30: =AL30-U30 -> 2
A31: 10 | B31: MN Hồng Thái | C31: 1 | D31: 5 | E31: 10 | F31: 3 | G31: 7 | H31: =I31+R31 -> 14 | I31: =J31+K31+L31+M31+N31+O31+P31 -> 5 | J31: 1 | K31: 1 | L31: 2 | M31: 1 | R31: 9 | S31: 2 | T31: 7 | U31: =V31+AE31 -> 14 | V31: =SUM(W31:AC31) -> 5 | W31: 1 | X31: 1 | Y31: 2 | Z31: 1 | AE31: 9 | AF31: 2 | AG31: 7 | AI31: 10 | AJ31: =#REF! -> #REF! | AK31: =#REF! -> #REF! | AL31: 17 | AM31: =AN31+AO31+AP31+AQ31+AR31+AS31+AT31+AU31 -> 5 | AN31: 1 | AO31: 1 | AP31: 3 | AV31: =AW31+AX31 -> 12 | AW31: 3 | AX31: 9 | AY31: =U31-H31 -> 0 | AZ31: =AL31-H31 -> 3 | BA31: =AL31-U31 -> 3
A32: 11 | B32: MN Côn Lôn | C32: 1 | D32: 2 | E32: 6 | F32: 2 | G32: 4 | H32: =I32+R32 -> 12 | I32: =J32+K32+L32+M32+N32+O32+P32 -> 11 | J32: 1 | K32: 1 | L32: 3 | M32: 6 | R32: 1 | T32: 1 | U32: =V32+AE32 -> 12 | V32: =SUM(W32:AC32) -> 11 | W32: 1 | X32: 1 | Y32: 3 | Z32: 6 | AE32: 1 | AG32: 1 | AI32: 6 | AJ32: =#REF! -> #REF! | AK32: =#REF! -> #REF! | AL32: 14 | AM32: =AN32+AO32+AP32+AQ32+AR32+AS32+AT32+AU32 -> 11 | AN32: 1 | AO32: 1 | AP32: 3 | AQ32: 6 | AV32: =AW32+AX32 -> 3 | AX32: 3 | AY32: =U32-H32 -> 0 | AZ32: =AL32-H32 -> 2 | BA32: =AL32-U32 -> 2
A33: 12 | B33: MN Thượng Giáp | C33: 1 | D33: 4 | E33: 8 | F33: 2 | G33: 6 | H33: =I33+R33 -> 11 | I33: =J33+K33+L33+M33+N33+O33+P33 -> 9 | J33: 1 | K33: 1 | L33: 1 | M33: 6 | R33: 2 | S33: 2 | T33: 0 | U33: =V33+AE33 -> 11 | V33: =SUM(W33:AC33) -> 9 | W33: 1 | X33: 1 | Y33: 1 | Z33: 6 | AE33: 2 | AF33: 2 | AG33: 0 | AH33: 0 | AI33: 8 | AJ33: =#REF! -> #REF! | AK33: =#REF! -> #REF! | AL33: 13 | AM33: =AN33+AO33+AP33+AQ33+AR33+AS33+AT33+AU33 -> 9 | AN33: 1 | AO33: 1 | AP33: 1 | AQ33: 6 | AV33: =AW33+AX33 -> 4 | AW33: 2 | AX33: 2 | AY33: =U33-H33 -> 0 | AZ33: =AL33-H33 -> 2 | BA33: =AL33-U33 -> 2
A34: III | B34: CHIÊM HÓA | C34: =SUM(C35:C60) -> 26 | D34: =SUM(D35:D60) -> 112 | E34: =SUM(E35:E60) -> 361 | F34: =SUM(F35:F60) -> 81 | G34: =SUM(G35:G60) -> 280 | H34: =SUM(H35:H60) -> 703 | I34: =SUM(I35:I60) -> 418 | J34: =SUM(J35:J60) -> 26 | ... T34: =SUM(T35:T60) -> 215 | U34: =V34+AE34 -> 625 | V34: =SUM(W34:AC34) -> 382 | W34: =SUM(W35:W60) -> 26 | X34: =SUM(X35:X60) -> 51 | Y34: =SUM(Y35:Y60) -> 88 | Z34: =SUM(Z35:Z60) -> 216 | AA34: =SUM(AA35:AA60) -> 1 | AB34: =SUM(AB35:AB60) -> 0 | AC34: =SUM(AC35:AC60) -> 0 | AD34: =SUM(AD35:AD60) -> 4 | ... AI34: =SUM(AI35:AI60) -> #REF! | AJ34: =#REF! -> #REF! | AK34: =#REF! -> #REF! | AL34: =SUM(AL35:AL60) -> 754 | AM34: =SUM(AM35:AM60) -> 418 | AN34: =SUM(AN35:AN60) -> 26 | AO34: =SUM(AO35:AO60) -> 52 | AP34: =SUM(AP35:AP60) -> 99 | AQ34: =SUM(AQ35:AQ60) -> 236 | AR34: =SUM(AR35:AR60) -> 1 | AS34: =SUM(AS35:AS60) -> 0 | ... BA34: =SUM(BA35:BA60) -> 129
A35: 1 | B35: MN Minh Quang | C35: 1 | D35: 2 | E35: =F35+G35 -> 15 | F35: 3 | G35: 12 | H35: =I35+R35 -> 33 | I35: =J35+K35+L35+M35+N35+O35+P35+Q35 -> 26 | J35: 1 | K35: 2 | L35: 8 | M35: 15 | N35: 0 | O35: 0 | P35: 0 | R35: =S35+T35 -> 7 | T35: 7 | U35: =V35+AE35 -> 34 | V35: =SUM(W35:AC35) -> 26 | W35: 1 | X35: 2 | Y35: 8 | Z35: 15 | AE35: =AF35+AG35 -> 8 | AG35: 8 | AI35: =AJ35+AK35 -> #REF! | AJ35: =#REF! -> #REF! | AK35: =#REF! -> #REF! | AL35: =AM35+AV35 -> 35 | AM35: =AN35+AO35+AP35+AQ35+AR35+AS35+AT35+AU35 -> 26 | AN35: 1 | AO35: 2 | AP35: 8 | AQ35: 15 | AV35: =AW35+AX35 -> 9 | AX35: 9 | AY35: =U35-H35 -> 1 | AZ35: =AL35-H35 -> 2 | BA35: =AL35-U35 -> 1
A36: 2 | B36: MN Phúc Sơn | C36: 1 | D36: 5 | E36: 24 | F36: 5 | G36: 19 | H36: =I36+R36 -> 41 | I36: =J36+K36+L36+M36+N36+O36+P36+Q36 -> 27 | J36: 1 | K36: 2 | L36: 6 | M36: 18 | R36: 14 | S36: 2 | T36: 12 | U36: =V36+AE36 -> 40 | V36: =SUM(W36:AC36) -> 26 | W36: 1 | X36: 2 | Y36: 5 | Z36: 18 | AE36: =AF36+AG36 -> 14 | AF36: 2 | AG36: 12 | AH36: 1 | AI36: =AJ36+AK36 -> #REF! | AJ36: =#REF! -> #REF! | AK36: =#REF! -> #REF! | AL36: =AM36+AV36 -> 41 | AM36: =AN36+AO36+AP36+AQ36+AR36+AS36+AT36+AU36 -> 27 | AN36: 1 | AO36: 2 | AP36: 7 | AQ36: 17 | AV36: =AW36+AX36 -> 14 | AW36: 3 | AX36: 11 | AY36: =U36-H36 -> -1 | AZ36: =AL36-H36 -> 0 | BA36: =AL36-U36 -> 1
A37: 3 | B37: MN Tân Mỹ | C37: 1 | D37: 7 | E37: 22 | F37: 5 | G37: 17 | H37: =I37+R37 -> 43 | I37: =J37+K37+L37+M37+N37+O37+P37+Q37 -> 24 | J37: 1 | K37: 2 | L37: 4 | M37: 17 | N37: 0 | O37: 0 | P37: 0 | R37: =S37+T37 -> 19 | S37: 6 | T37: 13 | U37: =V37+AE37 -> 38 | V37: =SUM(W37:AC37) -> 25 | W37: 1 | X37: 2 | Y37: 4 | Z37: 18 | AE37: =AF37+AG37 -> 13 | AF37: 2 | AG37: 11 | AH37: 5 | AI37: =AJ37+AK37 -> #REF! | AJ37: =#REF! -> #REF! | AK37: =#REF! -> #REF! | AL37: =AM37+AV37 -> 46 | AM37: =AN37+AO37+AP37+AQ37+AR37+AS37+AT37+AU37 -> 24 | AN37: 1 | AO37: 2 | AP37: 4 | AQ37: 17 | AS37: 0 | AV37: =AW37+AX37 -> 22 | AW37: 9 | AX37: 13 | AY37: =U37-H37 -> -5 | AZ37: =AL37-H37 -> 3 | BA37: =AL37-U37 -> 8
A38: 4 | B38: MN Hùng Mỹ | C38: 1 | D38: 5 | E38: 17 | F38: 4 | G38: 13 | H38: =I38+R38 -> 30 | I38: =J38+K38+L38+M38+N38+O38+P38+Q38 -> 17 | J38: 1 | K38: 2 | L38: 5 | M38: 9 | N38: 0 | O38: 0 | P38: 0 | R38: 13 | S38: 3 | T38: 10 | U38: =V38+AE38 -> 30 | V38: =SUM(W38:AC38) -> 17 | W38: 1 | X38: 2 | Y38: 5 | Z38: 9 | AA38: 0 | AB38: 0 | AC38: 0 | AD38: 0 | AE38: =AF38+AG38 -> 13 | AF38: 3 | AG38: 10 | AH38: 0 | AI38: =AJ38+AK38 -> #REF! | AJ38: =#REF! -> #REF! | AK38: =#REF! -> #REF! | AL38: =AM38+AV38 -> 30 | AM38: =AN38+AO38+AP38+AQ38+AR38+AS38+AT38+AU38 -> 17 | AN38: 1 | AO38: 2 | AP38: 5 | AQ38: 9 | AR38: 0 | AS38: 0 | AU38: 0 | AV38: =AW38+AX38 -> 13 | AW38: 3 | AX38: 10 | AY38: =U38-H38 -> 0 | AZ38: =AL38-H38 -> 0 | BA38: =AL38-U38 -> 0
A39: 5 | B39: MN Xuân Quang | C39: 1 | D39: 4 | E39: =F39+G39 -> 12 | F39: 3 | G39: 9 | H39: =I39+R39 -> 25 | I39: =J39+K39+L39+M39+N39+O39+P39+Q39 -> 19 | J39: 1 | K39: 2 | L39: 4 | M39: 11 | O39: 1 | R39: =S39+T39 -> 6 | S39: 1 | T39: 5 | U39: =V39+AE39 -> 17 | V39: =SUM(W39:AC39) -> 12 | W39: 1 | X39: 2 | Y39: 1 | Z39: 8 | AD39: 1 | AE39: =AF39+AG39 -> 5 | AF39: 1 | AG39: 4 | AH39: 7 | AI39: =AJ39+AK39 -> #REF! | AJ39: =#REF! -> #REF! | AK39: =#REF! -> #REF! | AL39: =AM39+AV39 -> 27 | AM39: =AN39+AO39+AP39+AQ39+AR39+AS39+AT39+AU39 -> 19 | AN39: 1 | AO39: 2 | AP39: 4 | AQ39: 11 | AU39: 1 | AV39: =AW39+AX39 -> 8 | AW39: 2 | AX39: 6 | AY39: =U39-H39 -> -8 | AZ39: =AL39-H39 -> 2 | BA39: =AL39-U39 -> 10
A40: 6 | B40: MN Bình Phú | C40: 1 | D40: 2 | E40: 6 | F40: 1 | G40: 5 | H40: =I40+R40 -> 13 | I40: 7 | J40: 1 | K40: 2 | L40: 2 | M40: 2 | N40: 0 | O40: 0 | P40: 0 | R40: 6 | S40: 1 | T40: 5 | U40: =V40+AE40 -> 13 | V40: =SUM(W40:AC40) -> 7 | W40: 1 | X40: 2 | Y40: 2 | Z40: 2 | AE40: =AF40+AG40 -> 6 | AF40: 1 | AG40: 5 | AI40: =AJ40+AK40 -> #REF! | AJ40: =#REF! -> #REF! | AK40: =#REF! -> #REF! | AL40: =AM40+AV40 -> 14 | AM40: =AN40+AO40+AP40+AQ40+AR40+AS40+AT40+AU40 -> 7 | AN40: 1 | AO40: 2 | AP40: 2 | AQ40: 2 | AV40: =AW40+AX40 -> 7 | AW40: 2 | AX40: 5 | AY40: =U40-H40 -> 0 | AZ40: =AL40-H40 -> 1 | BA40: =AL40-U40 -> 1
...

Sheet PL 2B1
A1: ='PL 2A1'!A1 -> ỦY BAN NHÂN DÂN TỈNH TUYÊN QUANG
A2: Phụ lục 2B1 BIỂU RÀ SOÁT THỰC TRẠNG SỐ TRƯỜNG, LỚP, SỐ HỌC SINH NĂM HỌC 2022-2023 VÀ KẾ HOẠCH BỐ TRÍ SỐ TRƯỜNG, LỚP, SỐ HỌC SINH NĂM HỌC 2023-2024 CỦA CẤP HỌC TIỂU HỌC
A3: ='PL 2A1'!A3:AR3 -> (Kèm theo Kế hoạch số 205/KH-UBND ngày 31 tháng 8 năm 2023 của UBND tỉnh Tuyên Quang)
A4: TT | B4: Huyện | C4: Thực hiện năm học 2022-2023 | X4: Dự kiến thực hiện năm học 2023-2024 | AS4: Tăng/giảm năm học 2023-2024 so với năm học 2022-2023
C5: Tổng số trường | D5: Số lớp, số học sinh | X5: Tổng số trường | Y5: Số lớp, số học sinh
D6: Lớp 1 | H6: Lớp 2 | L6: Lớp 3 | P6: Lớp 4 | T6: Lớp 5 | Y6: Lớp 1 | AC6: Lớp 2 | AG6: Lớp 3 | AK6: Lớp 4 | AO6: Lớp 5 | AS6: Tổng cộng | AW6: Lớp 1 | BA6: Lớp 2 | BE6: Lớp 3 | BI6: Lớp 4 | BM6: Lớp 5
D7: Số lớp | F7: Số học sinh | H7: Số lớp | J7: Số học sinh | L7: Số lớp | N7: Số học sinh | P7: Số lớp | R7: Số học sinh | T7: Số lớp | V7: Số học sinh | Y7: Số lớp | AA7: Số học sinh | AC7: Số lớp | AE7: Số học sinh | AG7: Số lớp | AI7: Số học sinh | AK7: Số lớp | AM7: Số học sinh | AO7: Số lớp | AQ7: Số học sinh | AS7: Số lớp | AU7: Số học sinh | AW7: Số lớp | AY7: Số học sinh | BA7: Số lớp | BC7: Số học sinh | BE7: Số lớp | BG7: Số học sinh | BI7: Số lớp | BK7: Số học sinh | BM7: Số lớp | BO7: Số học sinh
D8: 1 buổi | E8: 2 buổi | F8: 1 buổi | G8: 2 buổi | H8: 1 buổi | I8: 2 buổi | J8: 1 buổi | K8: 2 buổi | L8: 1 buổi | M8: 2 buổi | N8: 1 buổi | O8: 2 buổi | P8: 1 buổi | Q8: 2 buổi | R8: 1 buổi | S8: 2 buổi | T8: 1 buổi | U8: 2 buổi | V8: 1 buổi | W8: 2 buổi | Y8: 1 buổi | Z8: 2 buổi | AA8: 1 buổi | AB8: 2 buổi | AC8: 1 buổi | AD8: 2 buổi | AE8: 1 buổi | AF8: 2 buổi | AG8: 1 buổi | AH8: 2 buổi | AI8: 1 buổi | AJ8: 2 buổi | AK8: 1 buổi | AL8: 2 buổi | AM8: 1 buổi | AN8: 2 buổi | AO8: 1 buổi | AP8: 2 buổi | AQ8: 1 buổi | AR8: 2 buổi | AS8: 1 buổi | AT8: 2 buổi | AU8: 1 buổi | AV8: 2 buổi | AW8: 1 buổi | AX8: 2 buổi | AY8: 1 buổi | AZ8: 2 buổi | BA8: 1 buổi | BB8: 2 buổi | BC8: 1 buổi | BD8: 2 buổi | BE8: 1 buổi | BF8: 2 buổi | BG8: 1 buổi | BH8: 2 buổi | BI8: 1 buổi | BJ8: 2 buổi | BK8: 1 buổi | BL8: 2 buổi | BM8: 1 buổi | BN8: 2 buổi | BO8: 1 buổi | BP8: 2 buổi
A9: 1 | B9: 2 | C9: 3 | D9: 4 | E9: 5 | F9: 6 | G9: 7 | H9: 8 | I9: 9 | J9: 10 | K9: 11 | L9: 12 | M9: 13 | N9: 14 | O9: 15 | P9: 16 | Q9: 17 | R9: 18 | S9: 19 | T9: 20 | U9: 21 | V9: 22 | W9: 23 | X9: 24 | Y9: 25 | Z9: 26 | AA9: 27 | AB9: 28 | AC9: 29 | AD9: 30 | AE9: 31 | AF9: 32 | AG9: 33 | AH9: 34 | AI9: 35 | AJ9: 36 | AK9: 37 | AL9: 38 | AM9: 39 | AN9: 40 | AO9: 41 | AP9: 42 | AQ9: 43 | AR9: 44 | AS9: 45 | AT9: 46 | AU9: 47 | AV9: 48 | AW9: 49 | AX9: 50 | AY9: 51 | AZ9: 52 | BA9: 53 | BB9: 54 | BC9: 55 | BD9: 56 | BE9: 57 | BF9: 58 | BG9: 59 | BH9: 60 | BI9: 61 | BJ9: 62 | BK9: 63 | BL9: 64 | BM9: 65 | BN9: 66 | BO9: 67 | BP9: 68
B10: TỔNG CỘNG | C10: =C11+C12+C13+C14+C15+C16+C17 -> 124 | D10: =D11+D12+D13+D14+D15+D16+D17 -> 63 | E10: =E11+E12+E13+E14+E15+E16+E17 -> 533 | F10: =F11+F12+F13+F14+F15+F16+F17 -> 1477 | G10: =G11+G12+G13+G14+G15+G16+G17 -> 13772 | H10: =H11+H12+H13+H14+H15+H16+H17 -> 73 | I10: =I11+I12+I13+I14+I15+I16+I17 -> 570 | J10: =J11+J12+J13+J14+J15+J16+J17 -> 1589 | ... AR10: =AR11+AR12+AR13+AR14+AR15+AR16+AR17 -> 14058 | AS10: =AW10+BA10+BE10+BI10+BM10 -> -835 | AT10: =AX10+BB10+BF10+BJ10+BN10 -> 792 | AU10: =AY10+BC10+BG10+BK10+BO10 -> -22537 | AV10: =AZ10+BD10+BH10+BL10+BP10 -> 19912 | AW10: =AW11+AW12+AW13+AW14+AW15+AW16+AW17 -> -62 | AX10: =AX11+AX12+AX13+AX14+AX15+AX16+AX17 -> 87 | AY10: =AY11+AY12+AY13+AY14+AY15+AY16+AY17 -> -1467 | AZ10: =AZ11+AZ12+AZ13+AZ14+AZ15+AZ16+AZ17 -> 2195 | BA10: =BA11+BA12+BA13+BA14+BA15+BA16+BA17 -> -70 | BB10: =BB11+BB12+BB13+BB14+BB15+BB16+BB17 -> 28 | BC10: =BC11+BC12+BC13+BC14+BC15+BC16+BC17 -> -1382 | BD10: =BD11+BD12+BD13+BD14+BD15+BD16+BD17 -> -236 | ... BP10: =BP11+BP12+BP13+BP14+BP15+BP16+BP17 -> 6500
A11: 1 | B11: UBND huyện Na Hang | C11: 4 | D11: 0 | E11: 51 | F11: 0 | G11: 831 | H11: 0 | I11: 51 | J11: 0 | K11: 935 | L11: 0 | M11: 44 | N11: 0 | O11: 934 | P11: 8 | Q11: 29 | R11: 159 | S11: 733 | T11: 13 | U11: 34 | V11: 183 | W11: 851 | X11: 4 | Y11: 0 | Z11: 48 | AA11: 0 | AB11: 831 | AC11: 0 | AD11: 52 | AE11: 0 | AF11: 844 | AG11: 0 | AH11: 42 | AI11: 0 | AJ11: 919 | AK11: 0 | AL11: 39 | AM11: 0 | AN11: 913 | AO11: 0 | AP11: 43 | AQ11: 0 | AR11: 909 | AS11: =AW11+BA11+BE11+BI11+BM11 -> -21 | AT11: =AX11+BB11+BF11+BJ11+BN11 -> 15 | AU11: =AY11+BC11+BG11+BK11+BO11 -> -342 | AV11: =AZ11+BD11+BH11+BL11+BP11 -> 132 | AW11: =Y11-D11 -> 0 | AX11: =Z11-E11 -> -3 | AY11: =AA11-F11 -> 0 | AZ11: =AB11-G11 -> 0 | BA11: =AC11-H11 -> 0 | BB11: =AD11-I11 -> 1 | BC11: =AE11-J11 -> 0 | BD11: =AF11-K11 -> -91 | ... BP11: =AR11-W11 -> 58
A12: 2 | B12: UBND huyện Lâm Bình | C12: 7 | D12: 0 | E12: 45 | F12: 0 | G12: 911 | H12: 0 | I12: 43 | J12: 0 | K12: 969 | L12: 0 | M12: 36 | N12: 0 | O12: 997 | P12: 19 | Q12: 15 | R12: 510 | S12: 435 | T12: 18 | U12: 19 | V12: 481 | W12: 519 | X12: 7 | Y12: 0 | Z12: 47 | AA12: 0 | AB12: 904 | AC12: 0 | AD12: 43 | AE12: 0 | AF12: 911 | AG12: 0 | AH12: 36 | AI12: 0 | AJ12: 969 | AK12: 0 | AL12: 36 | AM12: 0 | AN12: 997 | AO12: 0 | AP12: 34 | AQ12: 0 | AR12: 955 | AS12: =AW12+BA12+BE12+BI12+BM12 -> -37 | AT12: =AX12+BB12+BF12+BJ12+BN12 -> 38 | AU12: =AY12+BC12+BG12+BK12+BO12 -> -991 | AV12: =AZ12+BD12+BH12+BL12+BP12 -> 905 | AW12: =Y12-D12 -> 0 | AX12: =Z12-E12 -> 2 | AY12: =AA12-F12 -> 0 | AZ12: =AB12-G12 -> -7 | BA12: =AC12-H12 -> 0 | BB12: =AD12-I12 -> 0 | BC12: =AE12-J12 -> 0 | BD12: =AF12-K12 -> -58 | ... BP12: =AR12-W12 -> 436
A13: 3 | B13: UBND huyện Chiêm Hóa | C13: 20 | D13: 14 | E13: 79 | F13: 286 | G13: 1897 | H13: 21 | I13: 78 | J13: 452 | K13: 2061 | L13: 6 | M13: 73 | N13: 192 | O13: 2128 | P13: 70 | Q13: 20 | R13: 1856 | S13: 575 | T13: 75 | U13: 20 | V13: 2250 | W13: 582 | X13: 20 | Y13: 0 | Z13: 99 | AA13: 0 | AB13: 2370 | AC13: 0 | AD13: 92 | AE13: 0 | AF13: 2183 | AG13: 0 | AH13: 92 | AI13: 0 | AJ13: 2513 | AK13: 0 | AL13: 81 | AM13: 0 | AN13: 2322 | AO13: 66 | AP13: 24 | AQ13: 1785 | AR13: 705 | AS13: =AW13+BA13+BE13+BI13+BM13 -> -120 | AT13: =AX13+BB13+BF13+BJ13+BN13 -> 118 | AU13: =AY13+BC13+BG13+BK13+BO13 -> -3251 | AV13: =AZ13+BD13+BH13+BL13+BP13 -> 2850 | AW13: =Y13-D13 -> -14 | AX13: =Z13-E13 -> 20 | AY13: =AA13-F13 -> -286 | AZ13: =AB13-G13 -> 473 | BA13: =AC13-H13 -> -21 | BB13: =AD13-I13 -> 14 | BC13: =AE13-J13 -> -452 | BD13: =AF13-K13 -> 122 | ... BP13: =AR13-W13 -> 123
A14: 4 | B14: UBND huyện Hàm Yên | C14: 21 | D14: 41 | E14: 56 | F14: 1040 | G14: 1565 | H14: 43 | I14: 65 | J14: 887 | K14: 1861 | L14: 42 | M14: 60 | N14: 942 | O14: 1672 | P14: 76 | Q14: 19 | R14: 1966 | S14: 560 | T14: 76 | U14: 26 | V14: 2009 | W14: 830 | X14: 21 | Y14: 1 | Z14: 104 | AA14: 10 | AB14: 2672 | AC14: 0 | AD14: 101 | AE14: 0 | AF14: 2604 | AG14: 0 | AH14: 105 | AI14: 0 | AJ14: 2748 | AK14: 0 | AL14: 99 | AM14: 0 | AN14: 2584 | AO14: 0 | AP14: 93 | AQ14: 0 | AR14: 2526 | AS14: =AW14+BA14+BE14+BI14+BM14 -> -277 | AT14: =AX14+BB14+BF14+BJ14+BN14 -> 276 | AU14: =AY14+BC14+BG14+BK14+BO14 -> -6834 | AV14: =AZ14+BD14+BH14+BL14+BP14 -> 6646 | AW14: =Y14-D14 -> -40 | AX14: =Z14-E14 -> 48 | AY14: =AA14-F14 -> -1030 | AZ14: =AB14-G14 -> 1107 | BA14: =AC14-H14 -> -43 | BB14: =AD14-I14 -> 36 | BC14: =AE14-J14 -> -887 | BD14: =AF14-K14 -> 743 | ... BP14: =AR14-W14 -> 1696
A15: 5 | B15: UBND huyện Yên Sơn | C15: 27 | D15: 8 | E15: 107 | F15: 151 | G15: 2749 | H15: 9 | I15: 127 | J15: 250 | K15: 2936 | L15: 7 | M15: 112 | N15: 174 | O15: 2993 | P15: 56 | Q15: 62 | R15: 1487 | S15: 1696 | T15: 58 | U15: 66 | V15: 1643 | W15: 1822 | X15: 27 | Y15: 0 | Z15: 120 | AA15: 0 | AB15: 2976 | AC15: 3 | AD15: 118 | AE15: 207 | AF15: 2691 | AG15: 0 | AH15: 122 | AI15: 0 | AJ15: 3181 | AK15: 5 | AL15: 114 | AM15: 129 | AN15: 3038 | AO15: 25 | AP15: 93 | AQ15: 669 | AR15: 2514 | AS15: =AW15+BA15+BE15+BI15+BM15 -> -105 | AT15: =AX15+BB15+BF15+BJ15+BN15 -> 93 | AU15: =AY15+BC15+BG15+BK15+BO15 -> -2700 | AV15: =AZ15+BD15+BH15+BL15+BP15 -> 2204 | AW15: =Y15-D15 -> -8 | AX15: =Z15-E15 -> 13 | AY15: =AA15-F15 -> -151 | AZ15: =AB15-G15 -> 227 | BA15: =AC15-H15 -> -6 | BB15: =AD15-I15 -> -9 | BC15: =AE15-J15 -> -43 | BD15: =AF15-K15 -> -245 | ... BP15: =AR15-W15 -> 692
A16: 6 | B16: UBND huyện Sơn Dương | C16: 27 | D16: 0 | E16: 131 | F16: 0 | G16: 3617 | H16: 0 | I16: 138 | J16: 0 | K16: 3985 | L16: 0 | M16: 130 | N16: 0 | O16: 3928 | P16: 129 | Q16: 0 | R16: 3909 | S16: 0 | T16: 146 | U16: 0 | V16: 4510 | W16: 0 | X16: 27 | Y16: 0 | Z16: 133 | AA16: 0 | AB16: 3748 | AC16: 0 | AD16: 128 | AE16: 0 | AF16: 3619 | AG16: 0 | AH16: 136 | AI16: 0 | AJ16: 3989 | AK16: 0 | AL16: 130 | AM16: 0 | AN16: 3928 | AO16: 0 | AP16: 129 | AQ16: 0 | AR16: 3909 | AS16: =AW16+BA16+BE16+BI16+BM16 -> -275 | AT16: =AX16+BB16+BF16+BJ16+BN16 -> 257 | AU16: =AY16+BC16+BG16+BK16+BO16 -> -8419 | AV16: =AZ16+BD16+BH16+BL16+BP16 -> 7663 | AW16: =Y16-D16 -> 0 | AX16: =Z16-E16 -> 2 | AY16: =AA16-F16 -> 0 | AZ16: =AB16-G16 -> 131 | BA16: =AC16-H16 -> 0 | BB16: =AD16-I16 -> -10 | BC16: =AE16-J16 -> 0 | BD16: =AF16-K16 -> -366 | ... BP16: =AR16-W16 -> 3909
A17: 7 | B17: UBND thành phố TQ | C17: 18 | D17: 0 | E17: 64 | F17: 0 | G17: 2202 | H17: 0 | I17: 68 | J17: 0 | K17: 2543 | L17: 0 | M17: 67 | N17: 0 | O17: 2508 | P17: 0 | Q17: 67 | R17: 0 | S17: 2540 | T17: 0 | U17: 74 | V17: 0 | W17: 2954 | X17: 18 | Y17: 0 | Z17: 69 | AA17: 0 | AB17: 2466 | AC17: 0 | AD17: 64 | AE17: 0 | AF17: 2202 | AG17: 0 | AH17: 67 | AI17: 0 | AJ17: 2543 | AK17: 0 | AL17: 67 | AM17: 0 | AN17: 2508 | AO17: 0 | AP17: 68 | AQ17: 0 | AR17: 2540 | AS17: =AW17+BA17+BE17+BI17+BM17 -> 0 | AT17: =AX17+BB17+BF17+BJ17+BN17 -> -5 | AU17: =AY17+BC17+BG17+BK17+BO17 -> 0 | AV17: =AZ17+BD17+BH17+BL17+BP17 -> -488 | AW17: =Y17-D17 -> 0 | AX17: =Z17-E17 -> 5 | AY17: =AA17-F17 -> 0 | AZ17: =AB17-G17 -> 264 | BA17: =AC17-H17 -> 0 | BB17: =AD17-I17 -> -4 | BC17: =AE17-J17 -> 0 | BD17: =AF17-K17 -> -341 | ... BP17: =AR17-W17 -> -414

Sheet PL 2B2
A1: ='PL 2A1'!A1:D1 -> ỦY BAN NHÂN DÂN TỈNH TUYÊN QUANG
A2: Phụ lục 2B2 BIỂU RÀ SOÁT BỐ TRÍ, SẮP XẾP SỐ LƯỢNG NGƯỜI LÀM VIỆC ĐƯỢC GIAO NĂM HỌC 2022-2023 VÀ KẾ HOẠCH BỐ TRÍ, SẮP XẾP SỐ LƯỢNG NGƯỜI LÀM VIỆC ĐƯỢC GIAO NĂM HỌC 2023-2024 CỦA CẤP HỌC TIỂU HỌC
A3: ='PL 2A1'!A3:AR3 -> (Kèm theo Kế hoạch số 205/KH-UBND ngày 31 tháng 8 năm 2023 của UBND tỉnh Tuyên Quang)
A5: TT | B5: Tên trường | C5: Số được giao năm học 2022-2023 | J5: Thực trạng đội ngũ có mặt đến 31/3/2023 | T5: Nhu cầu đội ngũ năm học 2023-2024
C6: CBQL, giáo viên, nhân viên | J6: CBQL, giáo viên, nhân viên | S6: Giáo viên NQ 102 | T6: Số lớp | W6: Định mức lớp học 1 buổi/ngày 1,20; lớp học 2 buổi/ngày 1,50 | AB6: Số thiếu theo định mức
C7: Tổng cộng số CBQL, GV, NV | D7: Trong đó | J7: Tổng cộng số CBQL, GV, NV | K7: Trong đó: | T7: Tống số | U7: Trong đó | W7: Tổng cộng số CBQL, GV, NV | X7: Trong đó | AB7: Tổng cộng số CBQL, GV, NV | AC7: Trong đó
D8: Lãnh đạo quản lý | E8: Giáo viên | F8: Giáo viên làm Đội | G8: Nhân viên | H8: Trong đó | K8: Lãnh đạo | M8: Giáo viên | N8: Giáo viên làm Đội | O8: Nhân viên | P8: Trong đó | U8: Lớp học 01 buổi/ ngày | V8: Lớp học 02 buổi/ ngày | X8: Lãnh đạo quản lý | Y8: Giáo viên | Z8: Tổng phụ trách | AA8: Nhân viên | AC8: Lãnh đạo quản lý | AD8: Giáo viên | AE8: Tổng phụ trách | AF8: Nhân viên
H9: Thư viện, TB, TN, CNTT… | I9: VT, KT, YT và TQ | K9: Hiệu trưởng | L9: Phó Hiệu trưởng | P9: Thư viện, TB, TN, CNTT… | Q9: Kế toán | R9: VT, YT và TQ
A10: 1 | B10: 2 | C10: 3 | D10: 4 | E10: 5 | F10: 6 | G10: 7 | H10: 8 | I10: 10 | J10: 11 | K10: 12 | L10: 13 | M10: 14 | N10: 15 | O10: 16 | P10: 17 | Q10: 18 | R10: 19 | S10: 20 | T10: 21 | U10: 22 | V10: 23 | W10: 24 | X10: 25 | Y10: 26 | Z10: 27 | AA10: 28 | AB10: 32 | AC10: 33 | AD10: 34 | AE10: 35 | AF10: 36
B11: TỔNG CỘNG | C11: =C12+C13+C14+C15+C16+C17+C18 -> 4746 | D11: =D12+D13+D14+D15+D16+D17+D18 -> 354 | E11: =E12+E13+E14+E15+E16+E17+E18 -> 4224 | F11: =F12+F13+F14+F15+F16+F17+F18 -> 38 | G11: =G12+G13+G14+G15+G16+G17+G18 -> 130 | H11: =H12+H13+H14+H15+H16+H17+H18 -> 45 | I11: =I12+I13+I14+I15+I16+I17+I18 -> 85 | J11: =J12+J13+J14+J15+J16+J17+J18 -> 4345 | ... AF11: =AF12+AF13+AF14+AF15+AF16+AF17+AF18 -> -465
A12: 1 | B12: UBND huyện Na Hang | C12: =D12+E12+F12+G12 -> 411 | D12: 22 | E12: 356 | F12: 8 | G12: 25 | H12: 12 | I12: 13 | J12: =K12+L12+M12+N12+O12 -> 377 | K12: 4 | L12: 18 | M12: 325 | N12: 9 | O12: 21 | P12: 12 | Q12: 9 | S12: 29 | T12: =U12+V12 -> 224 | U12: ='PL 2B1'!Y11+'PL 2B1'!AC11+'PL 2B1'!AG11+'PL 2B1'!AK11+'PL 2B1'!AO11 -> 0 | V12: ='PL 2B1'!Z11+'PL 2B1'!AD11+'PL 2B1'!AH11+'PL 2B1'!AL11+'PL 2B1'!AP11 -> 224 | W12: =X12+Y12+Z12+AA12 -> 396 | X12: 20 | Y12: =(U12*1.2)+(V12*1.5) -> 336 | Z12: 8 | AA12: 32 | AB12: =AC12+AD12+AE12+AF12 -> 15 | AC12: =D12-X12 -> 2 | AD12: =E12-Y12 -> 20 | AE12: =F12-Z12 -> 0 | AF12: =G12-AA12 -> -7
A13: 2 | B13: UBND huyện Lâm Bình | C13: =D13+E13+F13+G13 -> 313 | D13: 21 | E13: 277 | F13: 7 | G13: 8 | H13: 3 | I13: 5 | J13: =K13+L13+M13+N13+O13 -> 288 | K13: 6 | L13: 14 | M13: 253 | N13: 7 | O13: 8 | P13: 3 | Q13: 5 | S13: 22 | T13: =U13+V13 -> 196 | U13: ='PL 2B1'!Y12+'PL 2B1'!AC12+'PL 2B1'!AG12+'PL 2B1'!AK12+'PL 2B1'!AO12 -> 0 | V13: ='PL 2B1'!Z12+'PL 2B1'!AD12+'PL 2B1'!AH12+'PL 2B1'!AL12+'PL 2B1'!AP12 -> 196 | W13: =X13+Y13+Z13+AA13 -> 365 | X13: 22 | Y13: =(U13*1.2)+(V13*1.5) -> 294 | Z13: 8 | AA13: 41 | AB13: =AC13+AD13+AE13+AF13 -> -52 | AC13: =D13-X13 -> -1 | AD13: =E13-Y13 -> -17 | AE13: =F13-Z13 -> -1 | AF13: =G13-AA13 -> -33
A14: 3 | B14: UBND huyện Chiêm Hóa | C14: =D14+E14+F14+G14 -> 723 | D14: 59 | E14: 645 | F14: 0 | G14: 19 | H14: 3 | I14: 16 | J14: =K14+L14+M14+N14+O14 -> 677 | K14: 20 | L14: 39 | M14: 599 | N14: 0 | O14: 19 | P14: 3 | Q14: 16 | S14: 40 | T14: =U14+V14 -> 454 | U14: ='PL 2B1'!Y13+'PL 2B1'!AC13+'PL 2B1'!AG13+'PL 2B1'!AK13+'PL 2B1'!AO13 -> 66 | V14: ='PL 2B1'!Z13+'PL 2B1'!AD13+'PL 2B1'!AH13+'PL 2B1'!AL13+'PL 2B1'!AP13 -> 388 | W14: =X14+Y14+Z14+AA14 -> 845.2 | X14: 64 | Y14: =(U14*1.2)+(V14*1.5) -> 661.2 | Z14: 20 | AA14: 100 | AB14: =AC14+AD14+AE14+AF14 -> -122.2 | AC14: =D14-X14 -> -5 | AD14: =E14-Y14 -> -16.2 | AE14: =F14-Z14 -> -20 | AF14: =G14-AA14 -> -81
A15: 4 | B15: UBND huyện Hàm Yên | C15: =D15+E15+F15+G15 -> 800 | D15: 62 | E15: 686 | F15: 21 | G15: 31 | H15: 8 | I15: 23 | J15: =K15+L15+M15+N15+O15 -> 713 | K15: 21 | L15: 40 | M15: 600 | N15: 23 | O15: 29 | P15: 7 | Q15: 19 | R15: 3 | S15: 58 | T15: =U15+V15 -> 503 | U15: ='PL 2B1'!Y14+'PL 2B1'!AC14+'PL 2B1'!AG14+'PL 2B1'!AK14+'PL 2B1'!AO14 -> 1 | V15: ='PL 2B1'!Z14+'PL 2B1'!AD14+'PL 2B1'!AH14+'PL 2B1'!AL14+'PL 2B1'!AP14 -> 502 | W15: =X15+Y15+Z15+AA15 -> 955.2 | X15: 69 | Y15: =(U15*1.2)+(V15*1.5) -> 754.2 | Z15: 21 | AA15: 111 | AB15: =AC15+AD15+AE15+AF15 -> -155.2 | AC15: =D15-X15 -> -7 | AD15: =E15-Y15 -> -68.2 | AE15: =F15-Z15 -> 0 | AF15: =G15-AA15 -> -80
A16: 5 | B16: UBND huyện Yên Sơn | C16: =D16+E16+F16+G16 -> 938 | D16: 80 | E16: 848 | F16: 1 | G16: 9 | H16: 2 | I16: 7 | J16: =K16+L16+M16+N16+O16 -> 862 | K16: 27 | L16: 50 | M16: 779 | N16: 2 | O16: 4 | P16: 2 | Q16: 2 | S16: 58 | T16: =U16+V16 -> 600 | U16: ='PL 2B1'!Y15+'PL 2B1'!AC15+'PL 2B1'!AG15+'PL 2B1'!AK15+'PL 2B1'!AO15 -> 33 | V16: ='PL 2B1'!Z15+'PL 2B1'!AD15+'PL 2B1'!AH15+'PL 2B1'!AL15+'PL 2B1'!AP15 -> 567 | W16: =X16+Y16+Z16+AA16 -> 1122.1 | X16: 88 | Y16: =(U16*1.2)+(V16*1.5) -> 890.1 | Z16: 27 | AA16: 117 | AB16: =AC16+AD16+AE16+AF16 -> -184.1 | AC16: =D16-X16 -> -8 | AD16: =E16-Y16 -> -42.1 | AE16: =F16-Z16 -> -26 | AF16: =G16-AA16 -> -108
A17: 6 | B17: UBND huyện Sơn Dương | C17: =D17+E17+F17+G17 -> 1018 | D17: 69 | E17: 924 | F17: 0 | G17: 25 | H17: 17 | I17: 8 | J17: =K17+L17+M17+N17+O17 -> 911 | K17: 26 | L17: 40 | M17: 822 | N17: 0 | O17: 23 | P17: 17 | Q17: 3 | R17: 3 | S17: 73 | T17: =U17+V17 -> 656 | U17: ='PL 2B1'!Y16+'PL 2B1'!AC16+'PL 2B1'!AG16+'PL 2B1'!AK16+'PL 2B1'!AO16 -> 0 | V17: ='PL 2B1'!Z16+'PL 2B1'!AD16+'PL 2B1'!AH16+'PL 2B1'!AL16+'PL 2B1'!AP16 -> 656 | W17: =X17+Y17+Z17+AA17 -> 1227 | X17: 90 | Y17: =(U17*1.2)+(V17*1.5) -> 984 | Z17: 27 | AA17: 126 | AB17: =AC17+AD17+AE17+AF17 -> -209 | AC17: =D17-X17 -> -21 | AD17: =E17-Y17 -> -60 | AE17: =F17-Z17 -> -27 | AF17: =G17-AA17 -> -101
A18: 7 | B18: UBND thành phố TQ | C18: =D18+E18+F18+G18 -> 543 | D18: 41 | E18: 488 | F18: 1 | G18: 13 | H18: 0 | I18: 13 | J18: =K18+L18+M18+N18+O18 -> 517 | K18: 18 | L18: 23 | M18: 468 | N18: 1 | O18: 7 | P18: 0 | Q18: 7 | S18: 8 | T18: =U18+V18 -> 335 | U18: ='PL 2B1'!Y17+'PL 2B1'!AC17+'PL 2B1'!AG17+'PL 2B1'!AK17+'PL 2B1'!AO17 -> 0 | V18: ='PL 2B1'!Z17+'PL 2B1'!AD17+'PL 2B1'!AH17+'PL 2B1'!AL17+'PL 2B1'!AP17 -> 335 | W18: =X18+Y18+Z18+AA18 -> 641.5 | X18: 53 | Y18: =(U18*1.2)+(V18*1.5) -> 502.5 | Z18: 18 | AA18: 68 | AB18: =AC18+AD18+AE18+AF18 -> -98.5 | AC18: =D18-X18 -> -12 | AD18: =E18-Y18 -> -14.5 | AE18: =F18-Z18 -> -17 | AF18: =G18-AA18 -> -55

Sheet Sheet2
F8: 136 | G8: 3151 | H8: 82755
F9: 155 | G9: 1444 | H9: 52061
F10: 31 | G10: 652 | H10: 25912
F11: =SUM(F8:F10) -> 322 | G11: =SUM(G8:G10) -> 5247 | H11: =SUM(H8:H10) -> 160728

Sheet Sheet1
F7: 135 | G7: 231 | H7: 3317.04 | I7: 232 | J7: 167 | K7: 169 | L7: 194 | M7: 14 | N7: 70 | O7: 110

Sheet PL 2C1
A2: Phụ lục 2C1 BIỂU RÀ SOÁT THỰC TRẠNG SỐ TRƯỜNG, LỚP, SỐ HỌC SINH NĂM HỌC 2022-2023 VÀ KẾ HOẠCH BỐ TRÍ SỐ TRƯỜNG, LỚP, SỐ HỌC SINH NĂM HỌC 2023-2024 CỦA CẤP HỌC TRUNG HỌC CƠ SỞ
A3: ='PL 2A1'!A3:AR3 -> (Kèm theo Kế hoạch số 205/KH-UBND ngày 31 tháng 8 năm 2023 của UBND tỉnh Tuyên Quang)
A5: TT | B5: Huyện | C5: Thực hiện năm học 2022-2023 | S5: Kế hoạch năm học 2023-2024 | AJ5: Tăng/giảm năm học 2023-2024 so với năm học 2022-2023
C6: Lớp 6 | G6: Lớp 7 | K6: Lớp 8 | O6: Lớp 9 | S6: Tổng số trường | T6: Lớp 6 | X6: Lớp 7 | AB6: Lớp 8 | AF6: Lớp 9 | AJ6: Tổng cộng | AN6: Lớp 6 | AR6: Lớp 7 | AV6: Lớp 8 | AZ6: Lớp 9
C7: Số lớp | E7: Số học sinh | G7: Số lớp | I7: Số học sinh | K7: Số lớp | M7: Số học sinh | O7: Số lớp | Q7: Số học sinh | T7: Số lớp | V7: Số học sinh | X7: Số lớp | Z7: Số học sinh | AB7: Số lớp | AD7: Số học sinh | AF7: Số lớp | AH7: Số học sinh | AJ7: Số lớp | AL7: Số học sinh | AN7: Số lớp | AP7: Số học sinh | AR7: Số lớp | AT7: Số học sinh | AV7: Số lớp | AX7: Số học sinh | AZ7: Số lớp | BB7: Số học sinh
C8: Lớp thường | D8: Nội trú/bán trú | E8: Lớp thường | F8: Nội trú/bán trú | G8: Lớp thường | H8: Nội trú/bán trú | I8: Lớp thường | J8: Nội trú/bán trú | K8: Lớp thường | L8: Nội trú/bán trú | M8: Lớp thường | N8: Nội trú/bán trú | O8: Lớp thường | P8: Nội trú/bán trú | Q8: Lớp thường | R8: Nội trú/bán trú | T8: Lớp thường | U8: Nội trú/bán trú | V8: Lớp thường | W8: Nội trú/bán trú | X8: Lớp thường | Y8: Nội trú/bán trú | Z8: Lớp thường | AA8: Nội trú/bán trú | AB8: Lớp thường | AC8: Nội trú/bán trú | AD8: Lớp thường | AE8: Nội trú/bán trú | AF8: Lớp thường | AG8: Nội trú/bán trú | AH8: Lớp thường | AI8: Nội trú/bán trú | AJ8: Lớp thường | AK8: Nội trú/bán trú | AL8: Lớp thường | AM8: Nội trú/bán trú | AN8: Lớp thường | AO8: Nội trú/bán trú | AP8: Lớp thường | AQ8: Nội trú/bán trú | AR8: Lớp thường | AS8: Nội trú/bán trú | AT8: Lớp thường | AU8: Nội trú/bán trú | AV8: Lớp thường | AW8: Nội trú/bán trú | AX8: Lớp thường | AY8: Nội trú/bán trú | AZ8: Lớp thường | BA8: Nội trú/bán trú | BB8: Lớp thường | BC8: Nội trú/bán trú
A9: 1 | B9: 2 | C9: 3 | D9: 4 | E9: 5 | F9: 6 | G9: 7 | H9: 8 | I9: 9 | J9: 10 | K9: 11 | L9: 12 | M9: 13 | N9: 14 | O9: 15 | P9: 16 | Q9: 17 | R9: 18 | S9: 19 | T9: 20 | U9: 21 | V9: 22 | W9: 23 | X9: 24 | Y9: 25 | Z9: 26 | AA9: 27 | AB9: 28 | AC9: 29 | AD9: 30 | AE9: 31 | AF9: 32 | AG9: 33 | AH9: 34 | AI9: 35 | AJ9: 36 | AK9: 37 | AL9: 38 | AM9: 39 | AN9: 40 | AO9: 41 | AP9: 42 | AQ9: 43 | AR9: 44 | AS9: 45 | AT9: 46 | AU9: 47 | AV9: 48 | AW9: 49 | AX9: 50 | AY9: 51 | AZ9: 52 | BA9: 53 | BB9: 54 | BC9: 55
B10: TỔNG CỘNG | C10: =C11+C12+C13+C14+C15+C16+C17+C18 -> 326 | D10: =D11+D12+D13+D14+D15+D16+D17+D18 -> 75 | E10: =E11+E12+E13+E14+E15+E16+E17+E18 -> 12545 | F10: =F11+F12+F13+F14+F15+F16+F17+F18 -> 2763 | G10: =G11+G12+G13+G14+G15+G16+G17+G18 -> 325 | H10: =H11+H12+H13+H14+H15+H16+H17+H18 -> 74 | I10: =I11+I12+I13+I14+I15+I16+I17+I18 -> 12600 | J10: =J11+J12+J13+J14+J15+J16+J17+J18 -> 2629 | ... BC10: =BC11+BC12+BC13+BC14+BC15+BC16+BC17+BC18 -> 281
