Workbook
Name CM: [1]Sheet1!$C$2:$C$9
Name CM: [2]Sheet1!$C$2:$C$9
Name GT: [1]Sheet1!$A$2:$A$3
Name GT: [2]Sheet1!$A$2:$A$3
Name LLCT: [1]Sheet1!$E$2:$E$6
Name LLCT: [2]Sheet1!$E$2:$E$6
Name NN: [1]Sheet1!$G$2:$G$9
Name NN: [2]Sheet1!$G$2:$G$9
Name TG: [1]Sheet1!$H$2:$H$8
Name TG: [2]Sheet1!$H$2:$H$8
Name TH: [3]Sheet1!$F$2:$F$9
Name TH: [4]Sheet1!$F$2:$F$9
Name ts: #REF!
Name ts: #REF!
Name ts: #REF!
Name ts: #REF!
Name ts: #REF!
Name ts: #REF!
Name ts: #REF!
Name ts: #REF!

Sheet PL 2A1
A1: ỦY BAN NHÂN DÂN TỈNH TUYÊN QUANG
A2: Phụ lục 2A1 BIỂU RÀ SOÁT THỰC TRẠNG SỐ TRƯỜNG, LỚP, SỐ HỌC SINH NĂM HỌC 2022-2023 VÀ KẾ HOẠCH BỐ TRÍ SỐ TRƯỜNG, LỚP, SỐ HỌC SINH NĂM HỌC 2023-2024 CỦA CẤP MẦM NON
A3: (Kèm theo Kế hoạch số 205/KH-UBND ngày 31 tháng 8 năm 2023 của UBND tỉnh Tuyên Quang)
A5: TT | B5: Huyện | C5: Thực hiện năm học 2022-2023 | P5: Kế hoạch năm học 2023-2024 | AC5: Tăng, giảm (-) năm học 2023-2024 so với năm học 2022-2023
C6: Tổng số trường | D6: Số lớp, học sinh học 2 buổi/ngày | P6: Tổng số trường | Q6: Số lớp, học sinh học 2 buổi/ngày | AC6: Tất cả các lớp đều học 2 buổi/ngày
D7: Từ 3 tháng- 12 tháng hoặc từ 3-4 tuổi | H7: Từ 13 tháng- 24 tháng hoặc từ 4-5 tuổi | L7: Từ 25 tháng - 36 tháng hoặc từ 5-6 tuổi | Q7: Từ 3 tháng- 12 tháng hoặc từ 3-4 tuổi | U7: Từ 13 tháng- 24 tháng hoặc từ 4-5 tuổi | Y7: Từ 25 tháng - 36 tháng hoặc từ 5-6 tuổi | AC7: Tổng số | AG7: Từ 3 tháng- 12 tháng hoặc từ 3-4 tuổi | AK7: Từ 13 tháng- 24 tháng hoặc từ 4-5 tuổi | AO7: Từ 25 tháng - 36 tháng hoặc từ 5-6 tuổi
D8: Số lớp | F8: Số học sinh | H8: Số lớp | J8: Số học sinh | L8: Số lớp | N8: Số học sinh | Q8: Số lớp | S8: Số học sinh | U8: Số lớp | W8: Số học sinh | Y8: Số lớp | AA8: Số học sinh | AC8: Số lớp | AE8: Số học sinh | AG8: Số lớp | AI8: Số học sinh | AK8: Số lớp | AM8: Số học sinh | AO8: Số lớp | AQ8: Số học sinh
D9: Nhà trẻ | E9: Mẫu giáo | F9: Nhà trẻ | G9: Mẫu giáo | H9: Nhà trẻ | I9: Mẫu giáo | J9: Nhà trẻ | K9: Mẫu giáo | L9: Nhà trẻ | M9: Mẫu giáo | N9: Nhà trẻ | O9: Mẫu giáo | Q9: Nhà trẻ | R9: Mẫu giáo | S9: Nhà trẻ | T9: Mẫu giáo | U9: Nhà trẻ | V9: Mẫu giáo | W9: Nhà trẻ | X9: Mẫu giáo | Y9: Nhà trẻ | Z9: Mẫu giáo | AA9: Nhà trẻ | AB9: Mẫu giáo | AC9: Nhà trẻ | AD9: Mẫu giáo | AE9: Nhà trẻ | AF9: Mẫu giáo | AG9: Nhà trẻ | AH9: Mẫu giáo | AI9: Nhà trẻ | AJ9: Mẫu giáo | AK9: Nhà trẻ | AL9: Mẫu giáo | AM9: Nhà trẻ | AN9: Mẫu giáo | AO9: Nhà trẻ | AP9: Mẫu giáo | AQ9: Nhà trẻ | AR9: Mẫu giáo
A10: 1 | B10: 2 | C10: 3 | D10: 7 | E10: 8 | F10: 9 | G10: 10 | H10: 11 | I10: 12 | J10: 13 | K10: 14 | L10: 15 | M10: 16 | N10: 17 | O10: 18 | P10: 19 | Q10: 23 | R10: 24 | S10: 25 | T10: 26 | U10: 27 | V10: 28 | W10: 29 | X10: 30 | Y10: 31 | Z10: 32 | AA10: 33 | AB10: 34 | AC10: 35 | AD10: 36 | AE10: 37 | AF10: 38 | AG10: 39 | AH10: 40 | AI10: 41 | AJ10: 42 | AK10: 43 | AL10: 44 | AM10: 45 | AN10: 46 | AO10: 47 | AP10: 48 | AQ10: 49 | AR10: 50
B11: TỔNG CỘNG | C11: =C12+C13+C14+C15+C16+C17+C18 -> 145 | D11: =D12+D13+D14+D15+D16+D17+D18 -> 0 | E11: =E12+E13+E14+E15+E16+E17+E18 -> 439 | F11: =F12+F13+F14+F15+F16+F17+F18 -> 11 | G11: =G12+G13+G14+G15+G16+G17+G18 -> 12000 | H11: =H12+H13+H14+H15+H16+H17+H18 -> 8 | I11: =I12+I13+I14+I15+I16+I17+I18 -> 407 | J11: =J12+J13+J14+J15+J16+J17+J18 -> 458 | ... AR11: =AR12+AR13+AR14+AR15+AR16+AR17+AR18 -> -1394
A12: 1 | B12: UBND huyện Na Hang | C12: 12 | D12: 0 | E12: 18 | F12: 4 | G12: 742 | H12: 1 | I12: 20 | J12: 178 | K12: 766 | L12: 47 | M12: 79 | N12: 601 | O12: 801 | P12: 12 | Q12: 0 | R12: 16 | S12: 14 | T12: 735 | U12: 4 | V12: 19 | W12: 232 | X12: 742 | Y12: 46 | Z12: 81 | AA12: 631 | AB12: 768 | AC12: =AG12+AK12+AO12 -> 2 | AD12: =AH12+AL12+AP12 -> -1 | AE12: =AI12+AM12+AQ12 -> 94 | AF12: =AJ12+AN12+AR12 -> -64 | AG12: =Q12-D12 -> 0 | AH12: =R12-E12 -> -2 | AI12: =S12-F12 -> 10 | AJ12: =T12-G12 -> -7 | AK12: =U12-H12 -> 3 | AL12: =V12-I12 -> -1 | AM12: =W12-J12 -> 54 | AN12: =X12-K12 -> -24 | ... AR12: =AB12-O12 -> -33
A13: 2 | B13: UBND huyện Lâm Bình | C13: 10 | D13: 0 | E13: 25 | F13: 0 | G13: 641 | H13: 0 | I13: 24 | J13: 17 | K13: 608 | L13: 32 | M13: 52 | N13: 795 | O13: 1250 | P13: 10 | Q13: 0 | R13: 25 | S13: 0 | T13: 671 | U13: 0 | V13: 24 | W13: 0 | X13: 603 | Y13: 32 | Z13: 50 | AA13: 750 | AB13: 1218 | AC13: =AG13+AK13+AO13 -> 0 | AD13: =AH13+AL13+AP13 -> -2 | AE13: =AI13+AM13+AQ13 -> -62 | AF13: =AJ13+AN13+AR13 -> -7 | AG13: =Q13-D13 -> 0 | AH13: =R13-E13 -> 0 | AI13: =S13-F13 -> 0 | AJ13: =T13-G13 -> 30 | AK13: =U13-H13 -> 0 | AL13: =V13-I13 -> 0 | AM13: =W13-J13 -> -17 | AN13: =X13-K13 -> -5 | ... AR13: =AB13-O13 -> -32
A14: 3 | B14: UBND huyện Chiêm Hóa | C14: 24 | D14: 0 | E14: 55 | F14: 0 | G14: 1578 | H14: 0 | I14: 52 | J14: 23 | K14: 1433 | L14: 77 | M14: 117 | N14: 1681 | O14: 3164 | P14: 24 | Q14: 0 | R14: 62 | S14: 0 | T14: 1685 | U14: 1 | V14: 59 | W14: 23 | X14: 1777 | Y14: 76 | Z14: 103 | AA14: 1629 | AB14: 2673 | AC14: =AG14+AK14+AO14 -> 0 | AD14: =AH14+AL14+AP14 -> 0 | AE14: =AI14+AM14+AQ14 -> -52 | AF14: =AJ14+AN14+AR14 -> -40 | AG14: =Q14-D14 -> 0 | AH14: =R14-E14 -> 7 | AI14: =S14-F14 -> 0 | AJ14: =T14-G14 -> 107 | AK14: =U14-H14 -> 1 | AL14: =V14-I14 -> 7 | AM14: =W14-J14 -> 0 | AN14: =X14-K14 -> 344 | ... AR14: =AB14-O14 -> -491
A15: 4 | B15: UBND huyện Hàm Yên | C15: 18 | D15: 0 | E15: 74 | F15: 0 | G15: 1961 | H15: 0 | I15: 65 | J15: 0 | K15: 2031 | L15: 62 | M15: 104 | N15: 1643 | O15: 2911 | P15: 18 | Q15: 0 | R15: 75 | S15: 0 | T15: 1880 | U15: 1 | V15: 71 | W15: 18 | X15: 2075 | Y15: 67 | Z15: 95 | AA15: 1603 | AB15: 2683 | AC15: =AG15+AK15+AO15 -> 6 | AD15: =AH15+AL15+AP15 -> -2 | AE15: =AI15+AM15+AQ15 -> -22 | AF15: =AJ15+AN15+AR15 -> -265 | AG15: =Q15-D15 -> 0 | AH15: =R15-E15 -> 1 | AI15: =S15-F15 -> 0 | AJ15: =T15-G15 -> -81 | AK15: =U15-H15 -> 1 | AL15: =V15-I15 -> 6 | AM15: =W15-J15 -> 18 | AN15: =X15-K15 -> 44 | ... AR15: =AB15-O15 -> -228
A16: 5 | B16: UBND huyện Yên Sơn | C16: 29 | D16: 0 | E16: 81 | F16: 7 | G16: 2044 | H16: 3 | I16: 72 | J16: 151 | K16: 2100 | L16: 162 | M16: 171 | N16: 2492 | O16: 3814 | P16: 29 | Q16: 0 | R16: 82 | S16: 19 | T16: 2132 | U16: 6 | V16: 69 | W16: 182 | X16: 2154 | Y16: 156 | Z16: 170 | AA16: 2310 | AB16: 3607 | AC16: =AG16+AK16+AO16 -> -3 | AD16: =AH16+AL16+AP16 -> -3 | AE16: =AI16+AM16+AQ16 -> -139 | AF16: =AJ16+AN16+AR16 -> -65 | AG16: =Q16-D16 -> 0 | AH16: =R16-E16 -> 1 | AI16: =S16-F16 -> 12 | AJ16: =T16-G16 -> 88 | AK16: =U16-H16 -> 3 | AL16: =V16-I16 -> -3 | AM16: =W16-J16 -> 31 | AN16: =X16-K16 -> 54 | ... AR16: =AB16-O16 -> -207
A17: 6 | B17: UBND huyện Sơn Dương | C17: 33 | E17: 132 | F17: 0 | G17: 3457 | H17: 0 | I17: 115 | J17: 0 | K17: 3324 | L17: 137 | M17: 100 | N17: 3126 | O17: 3692 | P17: 33 | Q17: 0 | R17: 132 | S17: 0 | T17: 3480 | U17: 0 | V17: 115 | W17: 0 | X17: 3456 | Y17: 137 | Z17: 103 | AA17: 3126 | AB17: 3355 | AC17: =AG17+AK17+AO17 -> 0 | AD17: =AH17+AL17+AP17 -> 3 | AE17: =AI17+AM17+AQ17 -> 0 | AF17: =AJ17+AN17+AR17 -> -182 | AG17: =Q17-D17 -> 0 | AH17: =R17-E17 -> 0 | AI17: =S17-F17 -> 0 | AJ17: =T17-G17 -> 23 | AK17: =U17-H17 -> 0 | AL17: =V17-I17 -> 0 | AM17: =W17-J17 -> 0 | AN17: =X17-K17 -> 132 | ... AR17: =AB17-O17 -> -337
A18: 7 | B18: UBND thành phố TQ | C18: 19 | D18: 0 | E18: 54 | F18: 0 | G18: 1577 | H18: 4 | I18: 59 | J18: 89 | K18: 1669 | L18: 73 | M18: 80 | N18: 1654 | O18: 2519 | P18: 19 | Q18: 0 | R18: 55 | S18: 0 | T18: 1536 | U18: 6 | V18: 58 | W18: 115 | X18: 1745 | Y18: 70 | Z18: 79 | AA18: 1716 | AB18: 2453 | AC18: =AG18+AK18+AO18 -> -1 | AD18: =AH18+AL18+AP18 -> -1 | AE18: =AI18+AM18+AQ18 -> 88 | AF18: =AJ18+AN18+AR18 -> -31 | AG18: =Q18-D18 -> 0 | AH18: =R18-E18 -> 1 | AI18: =S18-F18 -> 0 | AJ18: =T18-G18 -> -41 | AK18: =U18-H18 -> 2 | AL18: =V18-I18 -> -1 | AM18: =W18-J18 -> 26 | AN18: =X18-K18 -> 76 | ... AR18: =AB18-O18 -> -66

Sheet PL 2A2
A1: ='PL 2A1'!A1 -> ỦY BAN NHÂN DÂN TỈNH TUYÊN QUANG
A2: Phụ lục 2A2 BIỂU RÀ SOÁT BỐ TRÍ, SẮP XẾP SỐ LƯỢNG NGƯỜI LÀM VIỆC ĐƯỢC GIAO NĂM HỌC 2022-2023, KẾ HOẠCH NĂM HỌC 2023-2024 VÀ ĐỀ XUẤT HỢP ĐỒNG LAO ĐỘNG THEO NGHỊ ĐỊNH SỐ 111/2022/NĐ-CP CỦA CẤP HỌC MẦM NON
A3: ='PL 2A1'!A3:AR3 -> (Kèm theo Kế hoạch số 205/KH-UBND ngày 31 tháng 8 năm 2023 của UBND tỉnh Tuyên Quang)
A5: TT | B5: Huyện | C5: Số được giao năm học 2022-2023 | K5: Thực trạng đội ngũ có mặt đến 31/3/2023 | Y5: Nhu cầu đội ngũ năm học 2023-2024
C6: Tổng số CBQL, GV, NV | D6: Số lượng người làm việc được giao năm 2023 | J6: HĐ hỗ trợ phục vụ theo NĐ số 111 | K6: Tổng cộng số CBQL, GV, NV | L6: CBQL, giáo viên, nhân viên | T6: HĐ 68 | U6: HĐ hưởng chế độ chính sách theo QĐ 60/2011/QĐ-TTg | X6: Giáo viên hợp đồng (HĐ theo NQ 120 trước đây) | Y6: Số nhóm/lớp | AA6: Định mức lớp nhà trẻ 2,5, lớp mẫu giáo 2,2 | AJ6: Số còn thiếu so với định mức
D7: Tổng số | E7: Lãnh đạo QL | F7: Giáo viên | G7: Trong đó | I7: Nhân viên | L7: Tổng số | M7: Lãnh đạo QL | N7: Giáo viên | O7: Trong đó | Q7: Nhân viên | R7: Trong đó | U7: Tổng số | V7: Trong đó: | Y7: Nhà trẻ | Z7: Mẫu giáo | AA7: Tổng số | AB7: Lãnh đạo QL | AC7: Giáo viên | AD7: Trong đó | AF7: Nhân viên | AG7: Trong đó: | AJ7: Tổng số | AK7: Lãnh đạo QL | AL7: Giáo viên | AM7: Trong đó | AO7: Nhân viên | AP7: Trong đó
G8: Giáo viên nhà trẻ | H8: Giáo viên mẫu giáo | O8: Giáo viên nhà trẻ | P8: Giáo viên mẫu giáo | R8: Kế toán | S8: Văn thư | V8: Giáo viên nhà trẻ | W8: Giáo viên mẫu giáo | AD8: Giáo viên nhà trẻ | AE8: Giáo viên mẫu giáo | AG8: Kế toán | AH8: Thủ quỹ | AI8: Văn thư | AM8: Giáo viên nhà trẻ | AN8: Giáo viên mẫu giáo | AP8: Kế toán | AQ8: Thủ quỹ | AR8: Văn thư
A10: 1 | B10: 2 | C10: 3 | D10: 4 | E10: 5 | F10: 6 | G10: 7 | H10: 8 | I10: 9 | J10: 10 | K10: 11 | L10: 12 | M10: 13 | N10: 14 | O10: 15 | P10: 16 | Q10: 17 | R10: 18 | S10: 19 | T10: 20 | U10: 21 | V10: 22 | W10: 23 | X10: 24 | Y10: 25 | Z10: 26 | AA10: 27 | AB10: 28 | AC10: 29 | AD10: 30 | AE10: 31 | AF10: 32 | AG10: 33 | AH10: 34 | AI10: 35 | AJ10: 36 | AK10: 37 | AL10: 38 | AM10: 39 | AN10: 40 | AO10: 41 | AP10: 42 | AQ10: 43 | AR10: 44
B11: TỔNG CỘNG | C11: =C12+C13+C14+C15+C16+C17+C18 -> 3626 | D11: =D12+D13+D14+D15+D16+D17+D18 -> 3622 | E11: =E12+E13+E14+E15+E16+E17+E18 -> 375 | F11: =F12+F13+F14+F15+F16+F17+F18 -> 3225 | G11: =G12+G13+G14+G15+G16+G17+G18 -> 1001 | H11: =H12+H13+H14+H15+H16+H17+H18 -> 2224 | I11: =I12+I13+I14+I15+I16+I17+I18 -> 22 | J11: =J12+J13+J14+J15+J16+J17+J18 -> 4 | ... AR11: =AR12+AR13+AR14+AR15+AR16+AR17+AR18 -> -124
A12: 1 | B12: UBND huyện Na Hang | C12: 278 | D12: 274 | E12: 32 | F12: 241 | G12: 72 | H12: 169 | I12: 1 | J12: 4 | K12: 299 | L12: 184 | M12: 29 | N12: 150 | O12: 37 | P12: 113 | Q12: 1 | R12: 1 | S12: 0 | T12: 4 | U12: 82 | V12: 34 | W12: 48 | X12: 29 | Y12: ='PL 2A1'!Q12+'PL 2A1'!U12+'PL 2A1'!Y12 -> 50 | Z12: ='PL 2A1'!R12+'PL 2A1'!V12+'PL 2A1'!Z12 -> 116 | AA12: =AB12+AC12+AF12 -> 440.2 | AB12: 36 | AC12: 380.2 | AD12: =Y12*2.5 -> 125 | AE12: 255 | AF12: =AG12+AH12+AI12 -> 24 | AG12: 4 | AH12: 8 | AI12: 12 | AJ12: =AK12+AL12+AO12 -> -166 | AK12: =E12-AB12 -> -4 | AL12: =AM12+AN12 -> -139 | AM12: =G12-AD12 -> -53 | AN12: =H12-AE12 -> -86 | AO12: =I12-AF12 -> -23 | AP12: =I12-AG12 -> -3 | AQ12: =-AH12 -> -8 | AR12: =-AI12 -> -12
A13: 2 | B13: UBND huyện Lâm Bình | C13: 241 | D13: 241 | E13: 25 | F13: 216 | G13: 47 | H13: 169 | I13: 0 | J13: 0 | K13: 285 | L13: 185 | M13: 24 | N13: 161 | O13: 46 | P13: 115 | Q13: 0 | R13: 0 | S13: 0 | T13: 0 | U13: 77 | V13: 17 | W13: 60 | X13: 23 | Y13: ='PL 2A1'!Q13+'PL 2A1'!U13+'PL 2A1'!Y13 -> 32 | Z13: ='PL 2A1'!R13+'PL 2A1'!V13+'PL 2A1'!Z13 -> 99 | AA13: =AB13+AC13+AF13 -> 347.8 | AB13: 30 | AC13: 297.8 | AD13: =Y13*2.5 -> 80 | AE13: =Z13*2.2 -> 217.8 | AF13: =AG13+AH13+AI13 -> 20 | AG13: 1 | AH13: 10 | AI13: 9 | AJ13: =AK13+AL13+AO13 -> -106.8 | AK13: =E13-AB13 -> -5 | AL13: =AM13+AN13 -> -81.8 | AM13: =G13-AD13 -> -33 | AN13: =H13-AE13 -> -48.8 | AO13: =I13-AF13 -> -20 | AP13: =-AG13 -> -1 | AQ13: =-AH13 -> -10 | AR13: =-AI13 -> -9
A14: 3 | B14: UBND huyện Chiêm Hóa | C14: 506 | D14: 506 | E14: 72 | F14: 431 | G14: 131 | H14: 300 | I14: 3 | J14: 0 | K14: 627 | L14: 359 | M14: 68 | N14: 288 | O14: 83 | P14: 205 | Q14: 3 | R14: 2 | S14: 1 | T14: 0 | U14: 186 | V14: 48 | W14: 138 | X14: 82 | Y14: ='PL 2A1'!Q14+'PL 2A1'!U14+'PL 2A1'!Y14 -> 77 | Z14: ='PL 2A1'!R14+'PL 2A1'!V14+'PL 2A1'!Z14 -> 224 | AA14: =AB14+AC14+AF14 -> 805.3 | AB14: 72 | AC14: 685.3 | AD14: =Y14*2.5 -> 192.5 | AE14: =Z14*2.2 -> 492.8 | AF14: =AG14+AH14+AI14 -> 48 | AG14: 5 | AH14: 20 | AI14: 23 | AJ14: =AK14+AL14+AO14 -> -299.3 | AK14: =E14-AB14 -> 0 | AL14: =AM14+AN14 -> -254.3 | AM14: =G14-AD14 -> -61.5 | AN14: =H14-AE14 -> -192.8 | AO14: =I14-AF14 -> -45 | AP14: =2-AG14 -> -3 | AQ14: =1-AH14 -> -19 | AR14: =0-AI14 -> -23
A15: 4 | B15: UBND huyện Hàm Yên | C15: 547 | D15: 547 | E15: 51 | F15: 495 | G15: 111 | H15: 384 | I15: 1 | J15: 0 | K15: 645 | L15: 406 | M15: 48 | N15: 357 | O15: 66 | P15: 291 | Q15: 1 | R15: 1 | S15: 0 | T15: 0 | U15: 119 | V15: 25 | W15: 94 | X15: 120 | Y15: ='PL 2A1'!Q15+'PL 2A1'!U15+'PL 2A1'!Y15 -> 68 | Z15: ='PL 2A1'!R15+'PL 2A1'!V15+'PL 2A1'!Z15 -> 241 | AA15: =AB15+AC15+AF15 -> 790.2 | AB15: 54 | AC15: 700.2 | AD15: =Y15*2.5 -> 170 | AE15: =Z15*2.2 -> 530.2 | AF15: =AG15+AH15+AI15 -> 36 | AG15: 7 | AH15: 11 | AI15: 18 | AJ15: =AK15+AL15+AO15 -> -243.2 | AK15: =E15-AB15 -> -3 | AL15: =AM15+AN15 -> -205.2 | AM15: =G15-AD15 -> -59 | AN15: =H15-AE15 -> -146.2 | AO15: =I15-AF15 -> -35 | AP15: =1-AG15 -> -6 | AQ15: =0-AH15 -> -11 | AR15: =-AI15 -> -18
A16: 5 | B16: UBND huyện Yên Sơn | C16: 761 | D16: 761 | E16: 87 | F16: 673 | G16: 253 | H16: 420 | I16: 1 | J16: 0 | K16: 970 | L16: 453 | M16: 82 | N16: 370 | O16: 117 | P16: 253 | Q16: 1 | R16: 1 | S16: 0 | T16: 0 | U16: 473 | V16: 163 | W16: 310 | X16: 44 | Y16: ='PL 2A1'!Q16+'PL 2A1'!U16+'PL 2A1'!Y16 -> 162 | Z16: ='PL 2A1'!R16+'PL 2A1'!V16+'PL 2A1'!Z16 -> 321 | AA16: =AB16+AC16+AF16 -> 1256.2 | AB16: 87 | AC16: 1111.2 | AD16: =Y16*2.5 -> 405 | AE16: =Z16*2.2 -> 706.2 | AF16: =AG16+AH16+AI16 -> 58 | AG16: 22 | AH16: 7 | AI16: 29 | AJ16: =AK16+AL16+AO16 -> -495.2 | AK16: =E16-AB16 -> 0 | AL16: =AM16+AN16 -> -438.2 | AM16: =G16-AD16 -> -152 | AN16: =H16-AE16 -> -286.2 | AO16: =I16-AF16 -> -57 | AP16: =I16-AG16 -> -21 | AQ16: =0-AH16 -> -7 | AR16: =-AI16 -> -29
A17: 6 | B17: UBND huyện Sơn Dương | C17: 839 | D17: 839 | E17: 66 | F17: 773 | G17: 219 | H17: 554 | I17: 0 | J17: 0 | K17: 992 | L17: 647 | M17: 65 | N17: 582 | O17: 162 | P17: 420 | Q17: 0 | R17: 0 | S17: 0 | T17: 0 | U17: 233 | V17: 70 | W17: 163 | X17: 112 | Y17: ='PL 2A1'!Q17+'PL 2A1'!U17+'PL 2A1'!Y17 -> 137 | Z17: ='PL 2A1'!R17+'PL 2A1'!V17+'PL 2A1'!Z17 -> 350 | AA17: =AB17+AC17+AF17 -> 1277.5 | AB17: 99 | AC17: 1112.5 | AD17: =Y17*2.5 -> 342.5 | AE17: =Z17*2.2 -> 770 | AF17: =AG17+AH17+AI17 -> 66 | AG17: 3 | AH17: 30 | AI17: 33 | AJ17: =AK17+AL17+AO17 -> -438.5 | AK17: =E17-AB17 -> -33 | AL17: =AM17+AN17 -> -339.5 | AM17: =G17-AD17 -> -123.5 | AN17: =H17-AE17 -> -216 | AO17: =I17-AF17 -> -66 | AP17: =0-AG17 -> -3 | AQ17: =0-AH17 -> -30 | AR17: =-AI17 -> -33
A18: 7 | B18: UBND thành phố TQ | C18: 454 | D18: 454 | E18: 42 | F18: 396 | G18: 168 | H18: 228 | I18: 16 | J18: 0 | K18: 610 | L18: 302 | M18: 41 | N18: 253 | O18: 87 | P18: 166 | Q18: 8 | R18: 7 | S18: 1 | T18: 0 | U18: 223 | V18: 54 | W18: 169 | X18: 85 | Y18: ='PL 2A1'!Q18+'PL 2A1'!U18+'PL 2A1'!Y18 -> 76 | Z18: ='PL 2A1'!R18+'PL 2A1'!V18+'PL 2A1'!Z18 -> 192 | AA18: =AB18+AC18+AF18 -> 706.4 | AB18: 56 | AC18: 612.4 | AD18: =Y18*2.5 -> 190 | AE18: =Z18*2.2 -> 422.4 | AF18: =AG18+AH18+AI18 -> 38 | AG18: 19 | AH18: 19 | AJ18: =AK18+AL18+AO18 -> -252.4 | AK18: =E18-AB18 -> -14 | AL18: =AM18+AN18 -> -216.4 | AM18: =G18-AD18 -> -22 | AN18: =H18-AE18 -> -194.4 | AO18: =I18-AF18 -> -22 | AP18: =15-AG18 -> -4 | AQ18: =1-AH18 -> -18 | AR18: =-AI18 -> 0

Sheet B02 MN GV (2)
B1: 0
A2: BIỂU RÀ SOÁT BỐ TRÍ, SẮP XẾP SỐ LƯỢNG NGƯỜI LÀM VIỆC ĐƯỢC GIAO NĂM HỌC 2020-2021
A3: VÀ KẾ HOẠCH BỐ TRÍ, SẮP XẾP SỐ LƯỢNG NGƯỜI LÀM VIỆC ĐƯỢC GIAO NĂM HỌC 2021-2022 CỦA CẤP HỌC MẦM NON
A4: =#REF! -> #REF!
AT5: Biểu số 02
A6: TT | B6: Tên trường | C6: Số được giao năm học 2020-2021 | U6: Thực trạng đội ngũ có mặt đến tháng 2/2021 | AI6: Nhu cầu đội ngũ năm học 2021-2022 | AY6: Tăng, giảm (-)
C7: Số trường | D7: Số điểm trưởng | E7: Số nhóm, lớp | H7: Tổng cộng số CBQL, GV, NV | I7: Số lượng người làm việc (biên chế) được giao theo QĐ số 685/QĐ-UBND ngày 30/12/2020 của UBND tỉnh | R7: Giáo viên hợp đồng theo Quyết định số 60/2011/QĐ-TTg | U7: Tổng cộng số CBQL, GV, NV | V7: CBQL, giáo viên, nhân viên | AE7: Giáo viên hợp đồng theo Quyết định số 60/2011/QĐ-TTg | AH7: Giáo viên hợp đồng NQ 102 | AI7: Số nhóm, lớp | AL7: Tổng cộng số CBQL, GV, NV | AM7: Phương án bố trí số lượng người làm việc | AV7: Giáo viên hợp đồng theo Quyết định số 60/2011/QĐ-TTg | AY7: Thực trạng so với số được giao | AZ7: Nhu cầu so với số được giao | BA7: Nhu cầu so với thực trạng
E8: Tống số | F8: Trong đó | I8: Tổng số | J8: Hiệu trưởng | K8: Phó Hiệu trưởng | L8: Giáo viên | N8: Kế toán | O8: Văn thư | P8: Y tế | Q8: Nhân viên | R8: Tổng số | S8: Trong đó: | V8: Tổng số | W8: Hiệu trưởng | X8: Phó Hiệu trưởng | Y8: Giáo viên | AA8: Kế toán | AB8: Văn thư | AC8: Y tế | AD8: Nhân viên 68 | AE8: Tổng số | AF8: Trong đó: | AI8: Tống số | AJ8: Trong đó | AM8: Tổng số | AN8: Hiệu trưởng | AO8: Phó Hiệu trưởng | AP8: Giáo viên | AR8: Kế toán | AS8: Văn thư | AT8: Y tế | AU8: Nhân viên | AV8: Tổng số | AW8: Trong đó:
F9: Nhà trẻ | G9: Mẫu giáo | L9: Giáo viên nhà trẻ | M9: Giáo viên mẫu giáo | S9: Giáo viên nhà trẻ | T9: Giáo viên mẫu giáo | Y9: Giáo viên nhà trẻ | Z9: Giáo viên mẫu giáo | AF9: Giáo viên nhà trẻ | AG9: Giáo viên mẫu giáo | AJ9: Nhà trẻ | AK9: Mẫu giáo | AP9: Giáo viên nhà trẻ | AQ9: Giáo viên mẫu giáo | AW9: Giáo viên nhà trẻ | AX9: Giáo viên mẫu giáo
A10: 1 | B10: 2 | C10: 3 | D10: 4 | E10: 5 | F10: 6 | G10: 7 | H10: 8 | I10: =L10+M10 -> 5012.5 | J10: 10 | K10: 11 | L10: =F11*2.5 -> 1437.5 | M10: =G11*2.2 -> 3575 | N10: 14 | O10: =P10-1890 -> 955.5 | P10: =R10-I11 -> 2845.5 | Q10: 17 | R10: =I10+J11+K11+26 -> 5412.5 | S10: 19 | T10: 20 | U10: 21 | V10: 22 | W10: 23 | X10: 24 | Y10: 25 | Z10: 26 | AA10: 27 | AB10: 28 | AC10: 29 | AD10: 30 | AE10: 31 | AF10: 32 | AG10: 33 | AH10: 34 | AI10: 35 | AJ10: 36 | AK10: 37 | AL10: 38 | AM10: 39 | AN10: 40 | AO10: 41 | AP10: =AJ11*2 -> #REF! | AQ10: =AK11*2 -> #REF! | AR10: 44 | AS10: 45 | AT10: 46 | AU10: 47 | AV10: 48 | AW10: 49 | AX10: 50 | AY10: 51 | AZ10: 52 | BA10: 53 | BB10: =AV11+AP10+AQ10 -> #REF! | BC10: =BB10-I11 -> #REF!
C11: =C12+C21+C34+C80+C110+C144+C61 -> 145 | D11: =D12+D21+D34+D80+D110+D144+D61 -> 689 | E11: =E12+E21+E34+E80+E110+E144+E61 -> 2200 | F11: =F12+F21+F34+F80+F110+F144+F61 -> 575 | G11: =G12+G21+G34+G80+G110+G144+G61 -> 1625 | H11: =H12+H21+H34+H80+H110+H144+H61 -> 4397 | I11: =I12+I21+I34+I80+I110+I144+I61 -> 2567 | J11: =J12+J21+J34+J80+J110+J144+J61 -> 145 | ... T11: =T12+T21+T34+T80+T110+T144+T61 -> 1143 | U11: =V11+AE11 -> 4109 | V11: =V12+V21+V34+V80+V110+V144+V61 -> 2481 | W11: =W12+W21+W34+W80+W110+W144+W61 -> 142 | X11: =X12+X21+X34+X80+X110+X144+X61 -> 219 | Y11: =Y12+Y21+Y34+Y80+Y110+Y144+Y61 -> 399 | Z11: =Z12+Z21+Z34+Z80+Z110+Z144+Z61 -> 1693 | AA11: =AA12+AA21+AA34+AA80+AA110+AA144+AA61 -> 26 | AB11: =AB12+AB21+AB34+AB80+AB110+AB144+AB61 -> 0 | AC11: =AC12+AC21+AC34+AC80+AC110+AC144+AC61 -> 2 | ... AI11: =AI12+AI21+AI34+AI80+AI110+AI144+AI61 -> #REF! | AJ11: =#REF! -> #REF! | AK11: =#REF! -> #REF! | AL11: =AL12+AL21+AL34+AL80+AL110+AL144+AL61 -> #REF! | AM11: =AM12+AM21+AM34+AM80+AM110+AM144+AM61 -> #REF! | AN11: =AN12+AN21+AN34+AN80+AN110+AN144+AN61 -> 144 | AO11: =AO12+AO21+AO34+AO80+AO110+AO144+AO61 -> 227 | AP11: =AP12+AP21+AP34+AP80+AP110+AP144+AP61 -> #REF! | AQ11: =AQ12+AQ21+AQ34+AQ80+AQ110+AQ144+AQ61 -> #REF! | AR11: =AR12+AR21+AR34+AR80+AR110+AR144+AR61 -> 59 | AS11: =AS12+AS21+AS34+AS80+AS110+AS144+AS61 -> 20 | ... AU11: =AU12+AU21+AU34+AU80+AU110+AU144+AU61 -> 224 | AV11: 1890 | AW11: =AW12+AW21+AW34+AW80+AW110+AW144+AW61 -> 728 | AX11: =AX12+AX21+AX34+AX80+AX110+AX144+AX61 -> 1190 | AY11: =AY12+AY21+AY34+AY80+AY110+AY144+AY61 -> -287 | AZ11: =AZ12+AZ21+AZ34+AZ80+AZ110+AZ144+AZ61 -> #REF! | BA11: =BA12+BA21+BA34+BA80+BA110+BA144+BA61 -> #REF! | BC11: =BC10-1890 -> #REF!
A12: I | B12: LÂM BÌNH | C12: =SUM(C13:C20) -> 8 | D12: =SUM(D13:D20) -> 42 | E12: =SUM(E13:E20) -> 100 | F12: =SUM(F13:F20) -> 19 | G12: =SUM(G13:G20) -> 81 | H12: =SUM(H13:H20) -> 201 | I12: =SUM(I13:I20) -> 136 | J12: =SUM(J13:J20) -> 8 | ... T12: =SUM(T13:T20) -> 50 | U12: =V12+AE12 -> 194 | V12: =SUM(W12:AC12) -> 131 | W12: =SUM(W13:W20) -> 8 | X12: =SUM(X13:X20) -> 9 | Y12: =SUM(Y13:Y20) -> 19 | Z12: =SUM(Z13:Z20) -> 95 | AA12: =SUM(AA13:AA20) -> 0 | AB12: =SUM(AB13:AB20) -> 0 | AC12: =SUM(AC13:AC20) -> 0 | AD12: =SUM(AD13:AD20) -> 0 | ... AI12: =SUM(AI13:AI20) -> #REF! | AJ12: =#REF! -> #REF! | AK12: =#REF! -> #REF! | AL12: =SUM(AL13:AL20) -> 242 | AM12: =SUM(AM13:AM20) -> 177 | AN12: =SUM(AN13:AN20) -> 8 | AO12: =SUM(AO13:AO20) -> 9 | AP12: =SUM(AP13:AP20) -> 20 | AQ12: =SUM(AQ13:AQ20) -> 99 | AR12: =SUM(AR13:AR20) -> 3 | AS12: =SUM(AS13:AS20) -> 0 | ... BA12: =SUM(BA13:BA20) -> 48
A13: 1 | B13: MN Thượng Lâm | C13: 1 | D13: 6 | E13: =F13+G13 -> 13 | F13: 2 | G13: 11 | H13: =I13+R13 -> 28 | I13: =SUM(J13:Q13) -> 23 | J13: 1 | K13: 2 | L13: 3 | M13: 17 | R13: =S13+T13 -> 5 | S13: 1 | T13: 4 | U13: =V13+AE13 -> 28 | V13: =SUM(W13:AC13) -> 23 | W13: 1 | X13: 2 | Y13: 3 | Z13: 17 | AE13: =AF13+AG13 -> 5 | AF13: 1 | AG13: 4 | AI13: =AJ13+AK13 -> #REF! | AJ13: =#REF! -> #REF! | AK13: =#REF! -> #REF! | AL13: =AM13+AV13 -> 35 | AM13: =SUM(AN13:AU13) -> 30 | AN13: 1 | AO13: 2 | AP13: 3 | AQ13: 18 | AR13: 1 | AU13: 5 | AV13: =AW13+AX13 -> 5 | AW13: 1 | AX13: 4 | AY13: =U13-H13 -> 0 | AZ13: =AL13-H13 -> 7 | BA13: =AL13-U13 -> 7
A14: 2 | B14: MN Khuôn Hà | C14: 1 | D14: 3 | E14: =F14+G14 -> 10 | F14: 2 | G14: 8 | H14: =I14+R14 -> 19 | I14: =SUM(J14:Q14) -> 15 | J14: 1 | K14: 1 | L14: 1 | M14: 12 | R14: =S14+T14 -> 4 | S14: 2 | T14: 2 | U14: =V14+AE14 -> 19 | V14: =SUM(W14:AC14) -> 15 | W14: 1 | X14: 1 | Y14: 1 | Z14: 12 | AE14: =AF14+AG14 -> 4 | AF14: 2 | AG14: 2 | AI14: =AJ14+AK14 -> #REF! | AJ14: =#REF! -> #REF! | AK14: =#REF! -> #REF! | AL14: =AM14+AV14 -> 22 | AM14: =SUM(AN14:AU14) -> 18 | AN14: 1 | AO14: 1 | AP14: 1 | AQ14: 11 | AU14: 4 | AV14: =AW14+AX14 -> 4 | AW14: 2 | AX14: 2 | AY14: =U14-H14 -> 0 | AZ14: =AL14-H14 -> 3 | BA14: =AL14-U14 -> 3
A15: 3 | B15: MN Lăng Can | C15: 1 | D15: 7 | E15: =F15+G15 -> 17 | F15: 2 | G15: 15 | H15: =I15+R15 -> 36 | I15: =SUM(J15:Q15) -> 22 | J15: 1 | K15: 1 | L15: 2 | M15: 18 | R15: =S15+T15 -> 14 | S15: 2 | T15: 12 | U15: =V15+AE15 -> 33 | V15: =SUM(W15:AC15) -> 21 | W15: 1 | Y15: 2 | Z15: 18 | AE15: =AF15+AG15 -> 12 | AF15: 2 | AG15: 10 | AH15: 2 | AI15: =AJ15+AK15 -> #REF! | AJ15: =#REF! -> #REF! | AK15: =#REF! -> #REF! | AL15: =AM15+AV15 -> 40 | AM15: =SUM(AN15:AU15) -> 26 | AN15: 1 | AO15: 1 | AP15: 2 | AQ15: 16 | AR15: 1 | AU15: 5 | AV15: =AW15+AX15 -> 14 | AW15: 2 | AX15: 12 | AY15: =U15-H15 -> -3 | AZ15: =AL15-H15 -> 4 | BA15: =AL15-U15 -> 7
A16: 4 | B16: MN Phúc Yên | C16: 1 | D16: 6 | E16: =F16+G16 -> 10 | F16: 3 | G16: 7 | H16: =I16+R16 -> 18 | I16: =SUM(J16:Q16) -> 12 | J16: 1 | K16: 1 | L16: 1 | M16: 9 | R16: =S16+T16 -> 6 | S16: 3 | T16: 3 | U16: =V16+AE16 -> 17 | V16: =SUM(W16:AC16) -> 11 | W16: 1 | X16: 1 | Y16: 1 | Z16: 8 | AE16: =AF16+AG16 -> 6 | AF16: 3 | AG16: 3 | AH16: 1 | AI16: =AJ16+AK16 -> #REF! | AJ16: =#REF! -> #REF! | AK16: =#REF! -> #REF! | AL16: =AM16+AV16 -> 22 | AM16: =SUM(AN16:AU16) -> 16 | AN16: 1 | AO16: 1 | AP16: 2 | AQ16: 8 | AU16: 4 | AV16: =AW16+AX16 -> 6 | AW16: 3 | AX16: 3 | AY16: =U16-H16 -> -1 | AZ16: =AL16-H16 -> 4 | BA16: =AL16-U16 -> 5
A17: 5 | B17: MN Xuân Lập | C17: 1 | D17: 7 | E17: =F17+G17 -> 12 | F17: 3 | G17: 9 | H17: =I17+R17 -> 21 | I17: =SUM(J17:Q17) -> 16 | J17: 1 | K17: 1 | L17: 4 | M17: 10 | R17: =S17+T17 -> 5 | S17: 2 | T17: 3 | U17: =V17+AE17 -> 19 | V17: =SUM(W17:AC17) -> 14 | W17: 1 | X17: 1 | Y17: 4 | Z17: 8 | AE17: =AF17+AG17 -> 5 | AF17: 2 | AG17: 3 | AH17: 2 | AI17: =AJ17+AK17 -> #REF! | AJ17: =#REF! -> #REF! | AK17: =#REF! -> #REF! | AL17: =AM17+AV17 -> 28 | AM17: =SUM(AN17:AU17) -> 23 | AN17: 1 | AO17: 1 | AP17: 3 | AQ17: 13 | AU17: 5 | AV17: =AW17+AX17 -> 5 | AW17: 2 | AX17: 3 | AY17: =U17-H17 -> -2 | AZ17: =AL17-H17 -> 7 | BA17: =AL17-U17 -> 9
A18: 6 | B18: MN Bình An | C18: 1 | D18: 5 | E18: =F18+G18 -> 13 | F18: 3 | G18: 10 | H18: =I18+R18 -> 25 | I18: =SUM(J18:Q18) -> 13 | J18: 1 | K18: 1 | L18: 2 | M18: 9 | R18: =S18+T18 -> 12 | S18: 3 | T18: 9 | U18: =V18+AE18 -> 24 | V18: =SUM(W18:AC18) -> 12 | W18: 1 | X18: 1 | Y18: 2 | Z18: 8 | AE18: =AF18+AG18 -> 12 | AF18: 3 | AG18: 9 | AH18: 1 | AI18: =AJ18+AK18 -> #REF! | AJ18: =#REF! -> #REF! | AK18: =#REF! -> #REF! | AL18: =AM18+AV18 -> 31 | AM18: =SUM(AN18:AU18) -> 19 | AN18: 1 | AO18: 1 | AP18: 2 | AQ18: 10 | AU18: 5 | AV18: =AW18+AX18 -> 12 | AW18: 3 | AX18: 9 | AY18: =U18-H18 -> -1 | AZ18: =AL18-H18 -> 6 | BA18: =AL18-U18 -> 7
A19: 7 | B19: MN Thổ Bình | C19: 1 | D19: 4 | E19: =F19+G19 -> 14 | F19: 2 | G19: 12 | H19: =I19+R19 -> 31 | I19: =SUM(J19:Q19) -> 18 | J19: 1 | K19: 2 | L19: 4 | M19: 11 | R19: =S19+T19 -> 13 | S19: 0 | T19: 13 | U19: =V19+AE19 -> 31 | V19: =SUM(W19:AC19) -> 18 | W19: 1 | X19: 2 | Y19: 4 | Z19: 11 | AE19: =AF19+AG19 -> 13 | AG19: 13 | AI19: =AJ19+AK19 -> #REF! | AJ19: =#REF! -> #REF! | AK19: =#REF! -> #REF! | AL19: =AM19+AV19 -> 36 | AM19: =SUM(AN19:AU19) -> 23 | AN19: 1 | AO19: 1 | AP19: 4 | AQ19: 11 | AR19: 1 | AU19: 5 | AV19: =AW19+AX19 -> 13 | AX19: 13 | AY19: =U19-H19 -> 0 | AZ19: =AL19-H19 -> 5 | BA19: =AL19-U19 -> 5
A20: 8 | B20: MN Hồng Quang | C20: 1 | D20: 4 | E20: =F20+G20 -> 11 | F20: 2 | G20: 9 | H20: =I20+R20 -> 23 | I20: =SUM(J20:Q20) -> 17 | J20: 1 | K20: 1 | L20: 2 | M20: 13 | R20: =S20+T20 -> 6 | S20: 2 | T20: 4 | U20: =V20+AE20 -> 23 | V20: =SUM(W20:AC20) -> 17 | W20: 1 | X20: 1 | Y20: 2 | Z20: 13 | AE20: =AF20+AG20 -> 6 | AF20: 2 | AG20: 4 | AI20: =AJ20+AK20 -> #REF! | AJ20: =#REF! -> #REF! | AK20: =#REF! -> #REF! | AL20: =AM20+AV20 -> 28 | AM20: =SUM(AN20:AU20) -> 22 | AN20: 1 | AO20: 1 | AP20: 3 | AQ20: 12 | AU20: 5 | AV20: =AW20+AX20 -> 6 | AW20: 2 | AX20: 4 | AY20: =U20-H20 -> 0 | AZ20: =AL20-H20 -> 5 | BA20: =AL20-U20 -> 5
A21: II | B21: NA HANG | C21: =SUM(C22:C33) -> 12 | D21: =SUM(D22:D33) -> 83 | E21: =SUM(E22:E33) -> 165 | F21: =SUM(F22:F33) -> 43 | G21: =SUM(G22:G33) -> 122 | H21: =SUM(H22:H33) -> 280 | I21: =SUM(I22:I33) -> 181 | J21: =SUM(J22:J33) -> 12 | ... N21: =SUM(N22:N33) -> 0 | Q21: =SUM(Q22:Q33) -> 4 | R21: =SUM(R22:R33) -> 99 | S21: =SUM(S22:S33) -> 36 | T21: =SUM(T22:T33) -> 63 | U21: =V21+AE21 -> 272 | V21: =SUM(W21:AC21) -> 181 | W21: =SUM(W22:W33) -> 12 | X21: =SUM(X22:X33) -> 18 | Y21: =SUM(Y22:Y33) -> 31 | Z21: =SUM(Z22:Z33) -> 119 | AA21: =SUM(AA22:AA33) -> 1 | AD21: =SUM(AD22:AD33) -> 4 | AE21: =SUM(AE22:AE33) -> 91 | AF21: =SUM(AF22:AF33) -> 33 | AG21: =SUM(AG22:AG33) -> 58 | AH21: =SUM(AH22:AH33) -> 7 | AI21: =SUM(AI22:AI33) -> 170 | AJ21: =#REF! -> #REF! | AK21: =#REF! -> #REF! | AL21: =SUM(AL22:AL33) -> 307 | AM21: =SUM(AM22:AM33) -> 186 | AN21: =SUM(AN22:AN33) -> 12 | AO21: =SUM(AO22:AO33) -> 19 | AP21: =SUM(AP22:AP33) -> 33 | AQ21: =SUM(AQ22:AQ33) -> 118 | AR21: =SUM(AR22:AR33) -> 1 | AU21: =SUM(AU22:AU33) -> 3 | AV21: =SUM(AV22:AV33) -> 121 | AW21: =SUM(AW22:AW33) -> 50 | AX21: =SUM(AX22:AX33) -> 71 | AY21: =SUM(AY22:AY33) -> -8 | AZ21: =SUM(AZ22:AZ33) -> 27 | BA21: =SUM(BA22:BA33) -> 35
A22: 1 | B22: MN Thanh Tương | C22: 1 | D22: 6 | E22: 13 | F22: 4 | G22: 9 | H22: =I22+R22 -> 22 | I22: =J22+K22+L22+M22+N22+O22+P22 -> 17 | J22: 1 | K22: 2 | L22: 4 | M22: 10 | R22: 5 | S22: 2 | T22: 3 | U22: =V22+AE22 -> 21 | V22: =SUM(W22:AC22) -> 17 | W22: 1 | X22: 2 | Y22: 4 | Z22: 10 | AE22: 4 | AF22: 1 | AG22: 3 | AH22: 1 | AI22: 13 | AJ22: =#REF! -> #REF! | AK22: =#REF! -> #REF! | AL22: 22 | AM22: =AN22+AO22+AP22+AQ22+AR22+AS22+AT22+AU22 -> 17 | AN22: 1 | AO22: 2 | AP22: 4 | AQ22: 10 | AV22: =AW22+AX22 -> 5 | AW22: 2 | AX22: 3 | AY22: =U22-H22 -> -1 | AZ22: =AL22-H22 -> 0 | BA22: =AL22-U22 -> 1
A23: 2 | B23: MN Hoa Mai | C23: 1 | D23: 6 | E23: 20 | F23: 5 | G23: 15 | H23: =I23+R23 -> 42 | I23: =J23+K23+L23+M23+N23+O23+P23 -> 28 | J23: 1 | K23: 2 | L23: 3 | M23: 22 | Q23: 4 | R23: 14 | S23: 7 | T23: 7 | U23: =V23+AE23 -> 41 | V23: =SUM(W23:AC23) -> 28 | W23: 1 | X23: 1 | Y23: 3 | Z23: 22 | AA23: 1 | AD23: 4 | AE23: 13 | AF23: 7 | AG23: 6 | AI23: 20 | AJ23: =#REF! -> #REF! | AK23: =#REF! -> #REF! | AL23: 47 | AM23: =AN23+AO23+AP23+AQ23+AR23+AS23+AT23+AU23 -> 33 | AN23: 1 | AO23: 2 | AP23: 3 | AQ23: 23 | AR23: 1 | AU23: 3 | AV23: =AW23+AX23 -> 13 | AW23: 7 | AX23: 6 | AY23: =U23-H23 -> -1 | AZ23: =AL23-H23 -> 5 | BA23: =AL23-U23 -> 6
A24: 3 | B24: MN Năng Khả | C24: 1 | D24: 8 | E24: 17 | F24: 7 | G24: 10 | H24: =I24+R24 -> 35 | I24: =J24+K24+L24+M24+N24+O24+P24 -> 24 | J24: 1 | K24: 2 | L24: 6 | M24: 15 | R24: 11 | S24: 5 | T24: 6 | U24: =V24+AE24 -> 34 | V24: =SUM(W24:AC24) -> 24 | W24: 1 | X24: 2 | Y24: 6 | Z24: 15 | AE24: 10 | AF24: 4 | AG24: 6 | AH24: 1 | AI24: 17 | AJ24: =#REF! -> #REF! | AK24: =#REF! -> #REF! | AL24: 35 | AM24: =AN24+AO24+AP24+AQ24+AR24+AS24+AT24+AU24 -> 24 | AN24: 1 | AO24: 2 | AP24: 7 | AQ24: 14 | AV24: =AW24+AX24 -> 11 | AW24: 5 | AX24: 6 | AY24: =U24-H24 -> -1 | AZ24: =AL24-H24 -> 0 | BA24: =AL24-U24 -> 1
A25: 4 | B25: MN Sơn Phú | C25: 1 | D25: 7 | E25: 12 | F25: 3 | G25: 9 | H25: =I25+R25 -> 20 | I25: =J25+K25+L25+M25+N25+O25+P25 -> 15 | J25: 1 | K25: 1 | L25: 4 | M25: 9 | R25: 5 | S25: 0 | T25: 5 | U25: =V25+AE25 -> 19 | V25: =SUM(W25:AC25) -> 15 | W25: 1 | X25: 1 | Y25: 4 | Z25: 9 | AE25: 4 | AF25: 0 | AG25: 4 | AH25: 1 | AI25: 14 | AJ25: =#REF! -> #REF! | AK25: =#REF! -> #REF! | AL25: 24 | AM25: =AN25+AO25+AP25+AQ25+AR25+AS25+AT25+AU25 -> 15 | AN25: 1 | AO25: 1 | AP25: 4 | AQ25: 9 | AV25: =AW25+AX25 -> 9 | AW25: 4 | AX25: 5 | AY25: =U25-H25 -> -1 | AZ25: =AL25-H25 -> 4 | BA25: =AL25-U25 -> 5
A26: 5 | B26: MN ĐÀ VỊ | C26: 1 | D26: 13 | E26: 22 | F26: 5 | G26: 17 | H26: =I26+R26 -> 34 | I26: =J26+K26+L26+M26+N26+O26+P26 -> 22 | J26: 1 | K26: 2 | L26: 2 | M26: 17 | R26: 12 | S26: 6 | T26: 6 | U26: =V26+AE26 -> 34 | V26: =SUM(W26:AC26) -> 22 | W26: 1 | X26: 2 | Y26: 2 | Z26: 17 | AE26: 12 | AF26: 6 | AG26: 6 | AI26: 23 | AJ26: =#REF! -> #REF! | AK26: =#REF! -> #REF! | AL26: 35 | AM26: =AN26+AO26+AP26+AQ26+AR26+AS26+AT26+AU26 -> 22 | AN26: 1 | AO26: 2 | AP26: 2 | AQ26: 17 | AV26: =AW26+AX26 -> 13 | AW26: 7 | AX26: 6 | AY26: =U26-H26 -> 0 | AZ26: =AL26-H26 -> 1 | BA26: =AL26-U26 -> 1
A27: 6 | B27: MN Yên Hoa | C27: 1 | D27: 9 | E27: 19 | F27: 4 | G27: 15 | H27: =I27+R27 -> 30 | I27: =J27+K27+L27+M27+N27+O27+P27 -> 12 | J27: 1 | K27: 2 | L27: 1 | M27: 8 | R27: 18 | S27: 5 | T27: 13 | U27: =V27+AE27 -> 28 | V27: =SUM(W27:AC27) -> 12 | W27: 1 | X27: 2 | Y27: 1 | Z27: 8 | AE27: 16 | AF27: 5 | AG27: 11 | AH27: 2 | AI27: 18 | AJ27: =#REF! -> #REF! | AK27: =#REF! -> #REF! | AL27: 35 | AM27: =AN27+AO27+AP27+AQ27+AR27+AS27+AT27+AU27 -> 12 | AN27: 1 | AO27: 2 | AP27: 1 | AQ27: 8 | AV27: =AW27+AX27 -> 23 | AW27: 7 | AX27: 16 | AY27: =U27-H27 -> -2 | AZ27: =AL27-H27 -> 5 | BA27: =AL27-U27 -> 7
A28: 7 | B28: MN Thượng Nông | C28: 1 | D28: 8 | E28: 15 | F28: 4 | G28: 11 | H28: =I28+R28 -> 26 | I28: =J28+K28+L28+M28+N28+O28+P28 -> 14 | J28: 1 | K28: 2 | L28: 2 | M28: 9 | R28: 12 | S28: 4 | T28: 8 | U28: =V28+AE28 -> 25 | V28: =SUM(W28:AC28) -> 14 | W28: 1 | X28: 2 | Y28: 2 | Z28: 9 | AE28: 11 | AF28: 3 | AG28: 8 | AH28: 1 | AI28: 15 | AJ28: =#REF! -> #REF! | AK28: =#REF! -> #REF! | AL28: 25 | AM28: =AN28+AO28+AP28+AQ28+AR28+AS28+AT28+AU28 -> 14 | AN28: 1 | AO28: 2 | AP28: 2 | AQ28: 9 | AV28: =AW28+AX28 -> 12 | AW28: 5 | AX28: 7 | AY28: =U28-H28 -> -1 | AZ28: =AL28-H28 -> -1 | BA28: =AL28-U28 -> 0
A29: 8 | B29: MN Sinh Long | C29: 1 | D29: 12 | E29: 16 | F29: 2 | G29: 14 | H29: =I29+R29 -> 22 | I29: =J29+K29+L29+M29+N29+O29+P29 -> 16 | J29: 1 | K29: 2 | L29: 2 | M29: 11 | R29: 6 | S29: 1 | T29: 5 | U29: =V29+AE29 -> 21 | V29: =SUM(W29:AC29) -> 16 | W29: 1 | X29: 2 | Y29: 2 | Z29: 11 | AE29: 5 | AF29: 1 | AG29: 4 | AH29: 1 | AI29: 18 | AJ29: =#REF! -> #REF! | AK29: =#REF! -> #REF! | AL29: 26 | AM29: =AN29+AO29+AP29+AQ29+AR29+AS29+AT29+AU29 -> 16 | AN29: 1 | AO29: 2 | AP29: 2 | AQ29: 11 | AV29: =AW29+AX29 -> 10 | AW29: 4 | AX29: 6 | AY29: =U29-H29 -> -1 | AZ29: =AL29-H29 -> 4 | BA29: =AL29-U29 -> 5
A30: 9 | B30: MN Khâu Tinh | C30: 1 | D30: 3 | E30: 7 | F30: 2 | G30: 5 | H30: =I30+R30 -> 12 | I30: =J30+K30+L30+M30+N30+O30+P30 -> 8 | J30: 1 | K30: 1 | L30: 1 | M30: 5 | R30: 4 | S30: 2 | T30: 2 | U30: =V30+AE30 -> 12 | V30: =SUM(W30:AC30) -> 8 | W30: 1 | X30: 1 | Y30: 1 | Z30: 5 | AE30: 4 | AF30: 2 | AG30: 2 | AH30: 0 | AI30: 8 | AJ30: =#REF! -> #REF! | AK30: =#REF! -> #REF! | AL30: 14 | AM30: =AN30+AO30+AP30+AQ30+AR30+AS30+AT30+AU30 -> 8 | AN30: 1 | AO30: 1 | AP30: 1 | AQ30: 5 | AV30: =AW30+AX30 -> 6 | AW30: 4 | AX30: 2 | AY30: =U30-H30 -> 0 | AZ30: =AL30-H30 -> 2 | BA30: =AL30-U30 -> 2
A31: 10 | B31: MN Hồng Thái | C31: 1 | D31: 5 | E31: 10 | F31: 3 | G31: 7 | H31: =I31+R31 -> 14 | I31: =J31+K31+L31+M31+N31+O31+P31 -> 5 | J31: 1 | K31: 1 | L31: 2 | M31: 1 | R31: 9 | S31: 2 | T31: 7 | U31: =V31+AE31 -> 14 | V31: =SUM(W31:AC31) -> 5 | W31: 1 | X31: 1 | Y31: 2 | Z31: 1 | AE31: 9 | AF31: 2 | AG31: 7 | AI31: 10 | AJ31: =#REF! -> #REF! | AK31: =#REF! -> #REF! | AL31: 17 | AM31: =AN31+AO31+AP31+AQ31+AR31+AS31+AT31+AU31 -> 5 | AN31: 1 | AO31: 1 | AP31: 3 | AV31: =AW31+AX31 -> 12 | AW31: 3 | AX31: 9 | AY31: =U31-H31 -> 0 | AZ31: =AL31-H31 -> 3 | BA31: =AL31-U31 -> 3
A32: 11 | B32: MN Côn Lôn | C32: 1 | D32: 2 | E32: 6 | F32: 2 | G32: 4 | H32: =I32+R32 -> 12 | I32: =J32+K32+L32+M32+N32+O32+P32 -> 11 | J32: 1 | K32: 1 | L32: 3 | M32: 6 | R32: 1 | T32: 1 | U32: =V32+AE32 -> 12 | V32: =SUM(W32:AC32) -> 11 | W32: 1 | X32: 1 | Y32: 3 | Z32: 6 | AE32: 1 | AG32: 1 | AI32: 6 | AJ32: =#REF! -> #REF! | AK32: =#REF! -> #REF! | AL32: 14 | AM32: =AN32+AO32+AP32+AQ32+AR32+AS32+AT32+AU32 -> 11 | AN32: 1 | AO32: 1 | AP32: 3 | AQ32: 6 | AV32: =AW32+AX32 -> 3 | AX32: 3 | AY32: =U32-H32 -> 0 | AZ32: =AL32-H32 -> 2 | BA32: =AL32-U32 -> 2
A33: 12 | B33: MN Thượng Giáp | C33: 1 | D33: 4 | E33: 8 | F33: 2 | G33: 6 | H33: =I33+R33 -> 11 | I33: =J33+K33+L33+M33+N33+O33+P33 -> 9 | J33: 1 | K33: 1 | L33: 1 | M33: 6 | R33: 2 | S33: 2 | T33: 0 | U33: =V33+AE33 -> 11 | V33: =SUM(W33:AC33) -> 9 | W33: 1 | X33: 1 | Y33: 1 | Z33: 6 | AE33: 2 | AF33: 2 | AG33: 0 | AH33: 0 | AI33: 8 | AJ33: =#REF! -> #REF! | AK33: =#REF! -> #REF! | AL33: 13 | AM33: =AN33+AO33+AP33+AQ33+AR33+AS33+AT33+AU33 -> 9 | AN33: 1 | AO33: 1 | AP33: 1 | AQ33: 6 | AV33: =AW33+AX33 -> 4 | AW33: 2 | AX33: 2 | AY33: =U33-H33 -> 0 | AZ33: =AL33-H33 -> 2 | BA33: =AL33-U33 -> 2
A34: III | B34: CHIÊM HÓA | C34: =SUM(C35:C60) -> 26 | D34: =SUM(D35:D60) -> 112 | E34: =SUM(E35:E60) -> 361 | F34: =SUM(F35:F60) -> 81 | G34: =SUM(G35:G60) -> 280 | H34: =SUM(H35:H60) -> 703 | I34: =SUM(I35:I60) -> 418 | J34: =SUM(J35:J60) -> 26 | ... T34: =SUM(T35:T60) -> 215 | U34: =V34+AE34 -> 625 | V34: =SUM(W34:AC34) -> 382 | W34: =SUM(W35:W60) -> 26 | X34: =SUM(X35:X60) -> 51 | Y34: =SUM(Y35:Y60) -> 88 | Z34: =SUM(Z35:Z60) -> 216 | AA34: =SUM(AA35:AA60) -> 1 | AB34: =SUM(AB35:AB60) -> 0 | AC34: =SUM(AC35:AC60) -> 0 | AD34: =SUM(AD35:AD60) -> 4 | ... AI34: =SUM(AI35:AI60) -> #REF! | AJ34: =#REF! -> #REF! | AK34: =#REF! -> #REF! | AL34: =SUM(AL35:AL60) -> 754 | AM34: =SUM(AM35:AM60) -> 418 | AN34: =SUM(AN35:AN60) -> 26 | AO34: =SUM(AO35:AO60) -> 52 | AP34: =SUM(AP35:AP60) -> 99 | AQ34: =SUM(AQ35:AQ60) -> 236 | AR34: =SUM(AR35:AR60) -> 1 | AS34: =SUM(AS35:AS60) -> 0 | ... BA34: =SUM(BA35:BA60) -> 129
A35: 1 | B35: MN Minh Quang | C35: 1 | D35: 2 | E35: =F35+G35 -> 15 | F35: 3 | G35: 12 | H35: =I35+R35 -> 33 | I35: =J35+K35+L35+M35+N35+O35+P35+Q35 -> 26 | J35: 1 | K35: 2 | L35: 8 | M35: 15 | N35: 0 | O35: 0 | P35: 0 | R35: =S35+T35 -> 7 | T35: 7 | U35: =V35+AE35 -> 34 | V35: =SUM(W35:AC35) -> 26 | W35: 1 | X35: 2 | Y35: 8 | Z35: 15 | AE35: =AF35+AG35 -> 8 | AG35: 8 | AI35: =AJ35+AK35 -> #REF! | AJ35: =#REF! -> #REF! | AK35: =#REF! -> #REF! | AL35: =AM35+AV35 -> 35 | AM35: =AN35+AO35+AP35+AQ35+AR35+AS35+AT35+AU35 -> 26 | AN35: 1 | AO35: 2 | AP35: 8 | AQ35: 15 | AV35: =AW35+AX35 -> 9 | AX35: 9 | AY35: =U35-H35 -> 1 | AZ35: =AL35-H35 -> 2 | BA35: =AL35-U35 -> 1
A36: 2 | B36: MN Phúc Sơn | C36: 1 | D36: 5 | E36: 24 | F36: 5 | G36: 19 | H36: =I36+R36 -> 41 | I36: =J36+K36+L36+M36+N36+O36+P36+Q36 -> 27 | J36: 1 | K36: 2 | L36: 6 | M36: 18 | R36: 14 | S36: 2 | T36: 12 | U36: =V36+AE36 -> 40 | V36: =SUM(W36:AC36) -> 26 | W36: 1 | X36: 2 | Y36: 5 | Z36: 18 | AE36: =AF36+AG36 -> 14 | AF36: 2 | AG36: 12 | AH36: 1 | AI36: =AJ36+AK36 -> #REF! | AJ36: =#REF! -> #REF! | AK36: =#REF! -> #REF! | AL36: =AM36+AV36 -> 41 | AM36: =AN36+AO36+AP36+AQ36+AR36+AS36+AT36+AU36 -> 27 | AN36: 1 | AO36: 2 | AP36: 7 | AQ36: 17 | AV36: =AW36+AX36 -> 14 | AW36: 3 | AX36: 11 | AY36: =U36-H36 -> -1 | AZ36: =AL36-H36 -> 0 | BA36: =AL36-U36 -> 1
A37: 3 | B37: MN Tân Mỹ | C37: 1 | D37: 7 | E37: 22 | F37: 5 | G37: 17 | H37: =I37+R37 -> 43 | I37: =J37+K37+L37+M37+N37+O37+P37+Q37 -> 24 | J37: 1 | K37: 2 | L37: 4 | M37: 17 | N37: 0 | O37: 0 | P37: 0 | R37: =S37+T37 -> 19 | S37: 6 | T37: 13 | U37: =V37+AE37 -> 38 | V37: =SUM(W37:AC37) -> 25 | W37: 1 | X37: 2 | Y37: 4 | Z37: 18 | AE37: =AF37+AG37 -> 13 | AF37: 2 | AG37: 11 | AH37: 5 | AI37: =AJ37+AK37 -> #REF! | AJ37: =#REF! -> #REF! | AK37: =#REF! -> #REF! | AL37: =AM37+AV37 -> 46 | AM37: =AN37+AO37+AP37+AQ37+AR37+AS37+AT37+AU37 -> 24 | AN37: 1 | AO37: 2 | AP37: 4 | AQ37: 17 | AS37: 0 | AV37: =AW37+AX37 -> 22 | AW37: 9 | AX37: 13 | AY37: =U37-H37 -> -5 | AZ37: =AL37-H37 -> 3 | BA37: =AL37-U37 -> 8
A38: 4 | B38: MN Hùng Mỹ | C38: 1 | D38: 5 | E38: 17 | F38: 4 | G38: 13 | H38: =I38+R38 -> 30 | I38: =J38+K38+L38+M38+N38+O38+P38+Q38 -> 17 | J38: 1 | K38: 2 | L38: 5 | M38: 9 | N38: 0 | O38: 0 | P38: 0 | R38: 13 | S38: 3 | T38: 10 | U38: =V38+AE38 -> 30 | V38: =SUM(W38:AC38) -> 17 | W38: 1 | X38: 2 | Y38: 5 | Z38: 9 | AA38: 0 | AB38: 0 | AC38: 0 | AD38: 0 | AE38: =AF38+AG38 -> 13 | AF38: 3 | AG38: 10 | AH38: 0 | AI38: =AJ38+AK38 -> #REF! | AJ38: =#REF! -> #REF! | AK38: =#REF! -> #REF! | AL38: =AM38+AV38 -> 30 | AM38: =AN38+AO38+AP38+AQ38+AR38+AS38+AT38+AU38 -> 17 | AN38: 1 | AO38: 2 | AP38: 5 | AQ38: 9 | AR38: 0 | AS38: 0 | AU38: 0 | AV38: =AW38+AX38 -> 13 | AW38: 3 | AX38: 10 | AY38: =U38-H38 -> 0 | AZ38: =AL38-H38 -> 0 | BA38: =AL38-U38 -> 0
A39: 5 | B39: MN Xuân Quang | C39: 1 | D39: 4 | E39: =F39+G39 -> 12 | F39: 3 | G39: 9 | H39: =I39+R39 -> 25 | I39: =J39+K39+L39+M39+N39+O39+P39+Q39 -> 19 | J39: 1 | K39: 2 | L39: 4 | M39: 11 | O39: 1 | R39: =S39+T39 -> 6 | S39: 1 | T39: 5 | U39: =V39+AE39 -> 17 | V39: =SUM(W39:AC39) -> 12 | W39: 1 | X39: 2 | Y39: 1 | Z39: 8 | AD39: 1 | AE39: =AF39+AG39 -> 5 | AF39: 1 | AG39: 4 | AH39: 7 | AI39: =AJ39+AK39 -> #REF! | AJ39: =#REF! -> #REF! | AK39: =#REF! -> #REF! | AL39: =AM39+AV39 -> 27 | AM39: =AN39+AO39+AP39+AQ39+AR39+AS39+AT39+AU39 -> 19 | AN39: 1 | AO39: 2 | AP39: 4 | AQ39: 11 | AU39: 1 | AV39: =AW39+AX39 -> 8 | AW39: 2 | AX39: 6 | AY39: =U39-H39 -> -8 | AZ39: =AL39-H39 -> 2 | BA39: =AL39-U39 -> 10
A40: 6 | B40: MN Bình Phú | C40: 1 | D40: 2 | E40: 6 | F40: 1 | G40: 5 | H40: =I40+R40 -> 13 | I40: 7 | J40: 1 | K40: 2 | L40: 2 | M40: 2 | N40: 0 | O40: 0 | P40: 0 | R40: 6 | S40: 1 | T40: 5 | U40: =V40+AE40 -> 13 | V40: =SUM(W40:AC40) -> 7 | W40: 1 | X40: 2 | Y40: 2 | Z40: 2 | AE40: =AF40+AG40 -> 6 | AF40: 1 | AG40: 5 | AI40: =AJ40+AK40 -> #REF! | AJ40: =#REF! -> #REF! | AK40: =#REF! -> #REF! | AL40: =AM40+AV40 -> 14 | AM40: =AN40+AO40+AP40+AQ40+AR40+AS40+AT40+AU40 -> 7 | AN40: 1 | AO40: 2 | AP40: 2 | AQ40: 2 | AV40: =AW40+AX40 -> 7 | AW40: 2 | AX40: 5 | AY40: =U40-H40 -> 0 | AZ40: =AL40-H40 -> 1 | BA40: =AL40-U40 -> 1
A41: 7 | B41: MN Kiên Đài | C41: 1 | D41: 4 | E41: =F41+G41 -> 8 | F41: 2 | G41: 6 | H41: =I41+R41 -> 18 | I41: =J41+K41+L41+M41+N41+O41+P41+Q41 -> 7 | J41: 1 | K41: 2 | L41: 1 | M41: 3 | R41: =S41+T41 -> 11 | S41: 3 | T41: 8 | U41: =V41+AE41 -> 16 | V41: =SUM(W41:AC41) -> 6 | W41: 1 | X41: 2 | Y41: 1 | Z41: 2 | AE41: =AF41+AG41 -> 10 | AF41: 3 | AG41: 7 | AH41: 2 | AI41: =AJ41+AK41 -> #REF! | AJ41: =#REF! -> #REF! | AK41: =#REF! -> #REF! | AL41: =AM41+AV41 -> 18 | AM41: =AN41+AO41+AP41+AQ41+AR41+AS41+AT41+AU41 -> 7 | AN41: 1 | AO41: 2 | AP41: 1 | AQ41: 3 | AV41: =AW41+AX41 -> 11 | AW41: 3 | AX41: 8 | AY41: =U41-H41 -> -2 | AZ41: =AL41-H41 -> 0 | BA41: =AL41-U41 -> 2
A42: 8 | B42: MN Phú Bình | C42: 1 | D42: 3 | E42: 12 | F42: 3 | G42: 9 | H42: =I42+R42 -> 26 | I42: =J42+K42+L42+M42+N42+O42+P42+Q42 -> 19 | J42: 1 | K42: 2 | L42: 1 | M42: 15 | N42: 0 | O42: 0 | P42: 0 | R42: 7 | S42: 3 | T42: 4 | U42: =V42+AE42 -> 17 | V42: =SUM(W42:AC42) -> 10 | W42: 1 | X42: 2 | Y42: 1 | Z42: 6 | AE42: =AF42+AG42 -> 7 | AF42: 3 | AG42: 4 | AH42: 9 | AI42: =AJ42+AK42 -> #REF! | AJ42: =#REF! -> #REF! | AK42: =#REF! -> #REF! | AL42: =AM42+AV42 -> 27 | AM42: =AN42+AO42+AP42+AQ42+AR42+AS42+AT42+AU42 -> 19 | AN42: 1 | AO42: 2 | AP42: 4 | AQ42: 12 | AR42: 0 | AS42: 0 | AV42: =AW42+AX42 -> 8 | AW42: 3 | AX42: 5 | AY42: =U42-H42 -> -9 | AZ42: =AL42-H42 -> 1 | BA42: =AL42-U42 -> 10
A43: 9 | B43: MN Yên Lập | C43: 1 | D43: 10 | E43: 17 | F43: 4 | G43: 13 | H43: =I43+R43 -> 31 | I43: =J43+K43+L43+M43+N43+O43+P43+Q43 -> 22 | J43: 1 | K43: 2 | L43: 4 | M43: 15 | R43: 9 | S43: 4 | T43: 5 | U43: =V43+AE43 -> 27 | V43: =SUM(W43:AC43) -> 20 | W43: 1 | X43: 2 | Y43: 5 | Z43: 12 | AE43: =AF43+AG43 -> 7 | AF43: 2 | AG43: 5 | AH43: 4 | AI43: =AJ43+AK43 -> #REF! | AJ43: =#REF! -> #REF! | AK43: =#REF! -> #REF! | AL43: =AM43+AV43 -> 37 | AM43: =AN43+AO43+AP43+AQ43+AR43+AS43+AT43+AU43 -> 22 | AN43: 1 | AO43: 2 | AP43: 4 | AQ43: 15 | AU43: 0 | AV43: =AW43+AX43 -> 15 | AW43: 4 | AX43: 11 | AY43: =U43-H43 -> -4 | AZ43: =AL43-H43 -> 6 | BA43: =AL43-U43 -> 10
A44: 10 | B44: MN Ngọc Hội | C44: 1 | D44: 5 | E44: =F44+G44 -> 14 | F44: 3 | G44: 11 | H44: =I44+R44 -> 28 | I44: =J44+K44+L44+M44+N44+O44+P44+Q44 -> 14 | J44: 1 | K44: 2 | L44: 4 | M44: 7 | N44: 0 | O44: 0 | P44: 0 | R44: =S44+T44 -> 14 | S44: 7 | T44: 7 | U44: =V44+AE44 -> 21 | V44: =SUM(W44:AC44) -> 13 | W44: 1 | X44: 2 | Y44: 3 | Z44: 7 | AA44: 0 | AB44: 0 | AC44: 0 | AD44: 0 | AE44: =AF44+AG44 -> 8 | AF44: 1 | AG44: 7 | AH44: 7 | AI44: =AJ44+AK44 -> #REF! | AJ44: =#REF! -> #REF! | AK44: =#REF! -> #REF! | AL44: =AM44+AV44 -> 30 | AM44: =AN44+AO44+AP44+AQ44+AR44+AS44+AT44+AU44 -> 14 | AN44: 1 | AO44: 2 | AP44: 4 | AQ44: 7 | AU44: 0 | AV44: =AW44+AX44 -> 16 | AW44: 3 | AX44: 13 | AY44: =U44-H44 -> -7 | AZ44: =AL44-H44 -> 2 | BA44: =AL44-U44 -> 9
A45: 11 | B45: MN Linh Phú | C45: 1 | D45: 3 | E45: 10 | F45: 3 | G45: 7 | H45: =I45+R45 -> 22 | I45: =J45+K45+L45+M45+N45+O45+P45+Q45 -> 17 | J45: 1 | K45: 2 | L45: 3 | M45: 10 | N45: 0 | O45: 1 | P45: 0 | R45: 5 | S45: 3 | T45: 2 | U45: =V45+AE45 -> 13 | V45: =SUM(W45:AC45) -> 11 | W45: 1 | X45: 2 | Y45: 3 | Z45: 5 | AA45: 0 | AB45: 0 | AC45: 0 | AD45: 1 | AE45: =AF45+AG45 -> 2 | AF45: 1 | AG45: 1 | AH45: 8 | AI45: =AJ45+AK45 -> #REF! | AJ45: =#REF! -> #REF! | AK45: =#REF! -> #REF! | AL45: =AM45+AV45 -> 24 | AM45: =AN45+AO45+AP45+AQ45+AR45+AS45+AT45+AU45 -> 17 | AN45: 1 | AO45: 2 | AP45: 3 | AQ45: 10 | AU45: 1 | AV45: =AW45+AX45 -> 7 | AW45: 3 | AX45: 4 | AY45: =U45-H45 -> -9 | AZ45: =AL45-H45 -> 2 | BA45: =AL45-U45 -> 11
A46: 12 | B46: MN Tri Phú | C46: 1 | D46: 3 | E46: =F46+G46 -> 10 | F46: 3 | G46: 7 | H46: =I46+R46 -> 21 | I46: =J46+K46+L46+M46+N46+O46+P46+Q46 -> 10 | J46: 1 | K46: 2 | L46: 2 | M46: 5 | N46: 0 | O46: 0 | P46: 0 | R46: =S46+T46 -> 11 | S46: 3 | T46: 8 | U46: =V46+AE46 -> 18 | V46: =SUM(W46:AC46) -> 10 | W46: 1 | X46: 2 | Y46: 2 | Z46: 5 | AE46: =AF46+AG46 -> 8 | AF46: 2 | AG46: 6 | AH46: 3 | AI46: =AJ46+AK46 -> #REF! | AJ46: =#REF! -> #REF! | AK46: =#REF! -> #REF! | AL46: =AM46+AV46 -> 24 | AM46: =AN46+AO46+AP46+AQ46+AR46+AS46+AT46+AU46 -> 10 | AN46: 1 | AO46: 2 | AP46: 2 | AQ46: 5 | AV46: =AW46+AX46 -> 14 | AW46: 5 | AX46: 9 | AY46: =U46-H46 -> -3 | AZ46: =AL46-H46 -> 3 | BA46: =AL46-U46 -> 6
A47: 13 | B47: MN Kim Bình | C47: 1 | D47: 3 | E47: 12 | F47: 3 | G47: 9 | H47: =I47+R47 -> 28 | I47: =J47+K47+L47+M47+N47+O47+P47+Q47 -> 18 | J47: 1 | K47: 2 | L47: 4 | M47: 11 | R47: 10 | S47: 2 | T47: 8 | U47: =V47+AE47 -> 28 | V47: =SUM(W47:AC47) -> 18 | W47: 1 | X47: 2 | Y47: 4 | Z47: 11 | AE47: =AF47+AG47 -> 10 | AF47: 2 | AG47: 8 | AI47: =AJ47+AK47 -> #REF! | AJ47: =#REF! -> #REF! | AK47: =#REF! -> #REF! | AL47: =AM47+AV47 -> 28 | AM47: =AN47+AO47+AP47+AQ47+AR47+AS47+AT47+AU47 -> 18 | AN47: 1 | AO47: 2 | AP47: 5 | AQ47: 10 | AU47: 0 | AV47: =AW47+AX47 -> 10 | AW47: 2 | AX47: 8 | AY47: =U47-H47 -> 0 | AZ47: =AL47-H47 -> 0 | BA47: =AL47-U47 -> 0
A48: 14 | B48: MN Bình Nhân | C48: 1 | D48: 2 | E48: 8 | F48: 2 | G48: 6 | H48: =I48+R48 -> 13 | I48: =J48+K48+L48+M48+N48+O48+P48+Q48 -> 8 | J48: 1 | K48: 2 | L48: 2 | M48: 3 | N48: 0 | O48: 0 | P48: 0 | R48: 5 | S48: 2 | T48: 3 | U48: =V48+AE48 -> 12 | V48: =SUM(W48:AC48) -> 7 | W48: 1 | X48: 2 | Y48: 2 | Z48: 2 | AA48: 0 | AB48: 0 | AC48: 0 | AD48: 0 | AE48: =AF48+AG48 -> 5 | AF48: 2 | AG48: 3 | AH48: 1 | AI48: =AJ48+AK48 -> #REF! | AJ48: =#REF! -> #REF! | AK48: =#REF! -> #REF! | AL48: =AM48+AV48 -> 15 | AM48: =AN48+AO48+AP48+AQ48+AR48+AS48+AT48+AU48 -> 8 | AN48: 1 | AO48: 2 | AP48: 2 | AQ48: 3 | AR48: 0 | AU48: 0 | AV48: =AW48+AX48 -> 7 | AW48: 2 | AX48: 5 | AY48: =U48-H48 -> -1 | AZ48: =AL48-H48 -> 2 | BA48: =AL48-U48 -> 3
A49: 15 | B49: MN Vinh Quang | C49: 1 | D49: 3 | E49: =F49+G49 -> 18 | F49: 4 | G49: 14 | H49: =I49+R49 -> 38 | I49: =J49+K49+L49+M49+N49+O49+P49+Q49 -> 21 | J49: 1 | K49: 2 | L49: 7 | M49: 11 | N49: 0 | O49: 0 | P49: 0 | R49: =S49+T49 -> 17 | S49: 3 | T49: 14 | U49: =V49+AE49 -> 35 | V49: =SUM(W49:AC49) -> 20 | W49: 1 | X49: 2 | Y49: 7 | Z49: 10 | AE49: =AF49+AG49 -> 15 | AF49: 2 | AG49: 13 | AH49: 3 | AI49: =AJ49+AK49 -> #REF! | AJ49: =#REF! -> #REF! | AK49: =#REF! -> #REF! | AL49: =AM49+AV49 -> 41 | AM49: =AN49+AO49+AP49+AQ49+AR49+AS49+AT49+AU49 -> 21 | AN49: 1 | AO49: 2 | AP49: 7 | AQ49: 11 | AV49: =AW49+AX49 -> 20 | AW49: 3 | AX49: 17 | AY49: =U49-H49 -> -3 | AZ49: =AL49-H49 -> 3 | BA49: =AL49-U49 -> 6
A50: 16 | B50: MN Nhân Lý | C50: 1 | D50: 4 | E50: 10 | F50: 3 | G50: 7 | H50: =I50+R50 -> 15 | I50: =J50+K50+L50+M50+N50+O50+P50+Q50 -> 11 | J50: 1 | K50: 2 | L50: 4 | M50: 4 | N50: 0 | O50: 0 | P50: 0 | R50: 4 | S50: 0 | T50: 4 | U50: =V50+AE50 -> 15 | V50: =SUM(W50:AC50) -> 11 | W50: 1 | X50: 2 | Y50: 4 | Z50: 4 | AE50: =AF50+AG50 -> 4 | AG50: 4 | AI50: =AJ50+AK50 -> #REF! | AJ50: =#REF! -> #REF! | AK50: =#REF! -> #REF! | AL50: =AM50+AV50 -> 16 | AM50: =AN50+AO50+AP50+AQ50+AR50+AS50+AT50+AU50 -> 11 | AN50: 1 | AO50: 2 | AP50: 4 | AQ50: 4 | AV50: =AW50+AX50 -> 5 | AW50: 1 | AX50: 4 | AY50: =U50-H50 -> 0 | AZ50: =AL50-H50 -> 1 | BA50: =AL50-U50 -> 1
A51: 17 | B51: MN Hòa An | C51: 1 | D51: 5 | E51: 13 | F51: 3 | G51: 10 | H51: =I51+R51 -> 26 | I51: =J51+K51+L51+M51+N51+O51+P51+Q51 -> 15 | J51: 1 | K51: 2 | L51: 5 | M51: 7 | R51: 11 | S51: 2 | T51: 9 | U51: =V51+AE51 -> 26 | V51: =SUM(W51:AC51) -> 15 | W51: 1 | X51: 2 | Y51: 5 | Z51: 7 | AE51: =AF51+AG51 -> 11 | AF51: 2 | AG51: 9 | AI51: =AJ51+AK51 -> #REF! | AJ51: =#REF! -> #REF! | AK51: =#REF! -> #REF! | AL51: =AM51+AV51 -> 31 | AM51: =AN51+AO51+AP51+AQ51+AR51+AS51+AT51+AU51 -> 15 | AN51: 1 | AO51: 2 | AP51: 5 | AQ51: 7 | AV51: =AW51+AX51 -> 16 | AW51: 1 | AX51: 15 | AY51: =U51-H51 -> 0 | AZ51: =AL51-H51 -> 5 | BA51: =AL51-U51 -> 5
A52: 18 | B52: MN Trung Hòa | C52: 1 | D52: 3 | E52: 7 | F52: 2 | G52: 5 | H52: =I52+R52 -> 16 | I52: =J52+K52+L52+M52+N52+O52+P52+Q52 -> 6 | J52: 1 | K52: 2 | L52: 1 | M52: 2 | N52: 0 | O52: 0 | R52: 10 | S52: 3 | T52: 7 | U52: =V52+AE52 -> 14 | V52: =SUM(W52:AC52) -> 5 | W52: 1 | X52: 2 | Y52: 1 | Z52: 1 | AE52: =AF52+AG52 -> 9 | AF52: 3 | AG52: 6 | AH52: 2 | AI52: =AJ52+AK52 -> #REF! | AJ52: =#REF! -> #REF! | AK52: =#REF! -> #REF! | AL52: =AM52+AV52 -> 17 | AM52: =AN52+AO52+AP52+AQ52+AR52+AS52+AT52+AU52 -> 6 | AN52: 1 | AO52: 2 | AP52: 1 | AQ52: 2 | AV52: =AW52+AX52 -> 11 | AW52: 3 | AX52: 8 | AY52: =U52-H52 -> -2 | AZ52: =AL52-H52 -> 1 | BA52: =AL52-U52 -> 3
A53: 19 | B53: MN Trung Hà | C53: 1 | D53: 10 | E53: 19 | F53: 3 | G53: 16 | H53: =I53+R53 -> 33 | I53: =J53+K53+L53+M53+N53+O53+P53+Q53 -> 22 | J53: 1 | K53: 2 | L53: 5 | M53: 14 | N53: 0 | O53: 0 | P53: 0 | R53: 11 | S53: 1 | T53: 10 | U53: =V53+AE53 -> 32 | V53: =SUM(W53:AC53) -> 20 | W53: 1 | X53: 2 | Y53: 4 | Z53: 13 | AA53: 0 | AE53: =AF53+AG53 -> 12 | AF53: 2 | AG53: 10 | AH53: 1 | AI53: =AJ53+AK53 -> #REF! | AJ53: =#REF! -> #REF! | AK53: =#REF! -> #REF! | AL53: =AM53+AV53 -> 41 | AM53: =AN53+AO53+AP53+AQ53+AR53+AS53+AT53+AU53 -> 22 | AN53: 1 | AO53: 2 | AP53: 5 | AQ53: 14 | AR53: 0 | AV53: =AW53+AX53 -> 19 | AW53: 1 | AX53: 18 | AY53: =U53-H53 -> -1 | AZ53: =AL53-H53 -> 8 | BA53: =AL53-U53 -> 9
A54: 20 | B54: MN Hà Lang | C54: 1 | D54: 4 | E54: 10 | F54: 2 | G54: 8 | H54: =I54+R54 -> 24 | I54: =J54+K54+L54+M54+N54+O54+P54+Q54 -> 14 | J54: 1 | K54: 2 | L54: 4 | M54: 7 | R54: 10 | S54: 2 | T54: 8 | U54: =V54+AE54 -> 23 | V54: =SUM(W54:AC54) -> 14 | W54: 1 | X54: 2 | Y54: 4 | Z54: 7 | AE54: =AF54+AG54 -> 9 | AF54: 1 | AG54: 8 | AH54: 1 | AI54: =AJ54+AK54 -> #REF! | AJ54: =#REF! -> #REF! | AK54: =#REF! -> #REF! | AL54: =AM54+AV54 -> 27 | AM54: =AN54+AO54+AP54+AQ54+AR54+AS54+AT54+AU54 -> 14 | AN54: 1 | AO54: 2 | AP54: 4 | AQ54: 7 | AV54: =AW54+AX54 -> 13 | AW54: 4 | AX54: 9 | AY54: =U54-H54 -> -1 | AZ54: =AL54-H54 -> 3 | BA54: =AL54-U54 -> 4
A55: 21 | B55: MN Tân An | C55: 1 | D55: 6 | E55: 18 | F55: 5 | G55: 13 | H55: =I55+R55 -> 31 | I55: =J55+K55+L55+M55+N55+O55+P55+Q55 -> 17 | J55: 1 | K55: 2 | L55: 4 | M55: 9 | O55: 1 | R55: 14 | S55: 3 | T55: 11 | U55: =V55+AE55 -> 21 | V55: =SUM(W55:AC55) -> 13 | W55: 1 | X55: 2 | Y55: 4 | Z55: 6 | AD55: 1 | AE55: =AF55+AG55 -> 8 | AF55: 3 | AG55: 5 | AH55: 9 | AI55: =AJ55+AK55 -> #REF! | AJ55: =#REF! -> #REF! | AK55: =#REF! -> #REF! | AL55: =AM55+AV55 -> 31 | AM55: =AN55+AO55+AP55+AQ55+AR55+AS55+AT55+AU55 -> 17 | AN55: 1 | AO55: 2 | AP55: 4 | AQ55: 9 | AU55: 1 | AV55: =AW55+AX55 -> 14 | AW55: 3 | AX55: 11 | AY55: =U55-H55 -> -10 | AZ55: =AL55-H55 -> 0 | BA55: =AL55-U55 -> 10
A56: 22 | B56: MN Tân Thịnh | C56: 1 | D56: 3 | E56: =F56+G56 -> 13 | F56: 3 | G56: 10 | H56: =I56+R56 -> 22 | I56: =J56+K56+L56+M56+N56+O56+P56+Q56 -> 12 | J56: 1 | K56: 2 | L56: 4 | M56: 5 | R56: =S56+T56 -> 10 | S56: 1 | T56: 9 | U56: =V56+AE56 -> 20 | V56: =SUM(W56:AC56) -> 12 | W56: 1 | X56: 2 | Y56: 4 | Z56: 5 | AE56: =AF56+AG56 -> 8 | AF56: 1 | AG56: 7 | AH56: 2 | AI56: =AJ56+AK56 -> #REF! | AJ56: =#REF! -> #REF! | AK56: =#REF! -> #REF! | AL56: =AM56+AV56 -> 23 | AM56: =AN56+AO56+AP56+AQ56+AR56+AS56+AT56+AU56 -> 12 | AN56: 1 | AO56: 2 | AP56: 4 | AQ56: 5 | AV56: =AW56+AX56 -> 11 | AW56: 2 | AX56: 9 | AY56: =U56-H56 -> -2 | AZ56: =AL56-H56 -> 1 | BA56: =AL56-U56 -> 3
A57: 23 | B57: MN Phúc Thịnh | C57: 1 | D57: 4 | E57: =F57+G57 -> 12 | F57: 2 | G57: 10 | H57: =I57+R57 -> 23 | I57: =J57+K57+L57+M57+N57+O57+P57+Q57 -> 13 | J57: 1 | K57: 2 | L57: 0 | M57: 10 | N57: 0 | O57: 0 | P57: 0 | R57: =S57+T57 -> 10 | S57: 4 | T57: 6 | U57: =V57+AE57 -> 21 | V57: =SUM(W57:AC57) -> 14 | W57: 1 | X57: 2 | Y57: 0 | Z57: 11 | AE57: =AF57+AG57 -> 7 | AF57: 2 | AG57: 5 | AH57: 3 | AI57: =AJ57+AK57 -> #REF! | AJ57: =#REF! -> #REF! | AK57: =#REF! -> #REF! | AL57: =AM57+AV57 -> 24 | AM57: =AN57+AO57+AP57+AQ57+AR57+AS57+AT57+AU57 -> 13 | AN57: 1 | AO57: 2 | AQ57: 10 | AR57: 0 | AS57: 0 | AV57: =AW57+AX57 -> 11 | AW57: 4 | AX57: 7 | AY57: =U57-H57 -> -2 | AZ57: =AL57-H57 -> 1 | BA57: =AL57-U57 -> 3
A58: 24 | B58: MN Yên Nguyên | C58: 1 | D58: 5 | E58: 21 | F58: 4 | G58: 17 | H58: =I58+R58 -> 34 | I58: =J58+K58+L58+M58+N58+O58+P58+Q58 -> 16 | J58: 1 | K58: 2 | L58: 5 | M58: 8 | N58: 0 | O58: 0 | P58: 0 | R58: 18 | S58: 1 | T58: 17 | U58: =V58+AE58 -> 30 | V58: =SUM(W58:AC58) -> 16 | W58: 1 | X58: 2 | Y58: 5 | Z58: 8 | AA58: 0 | AB58: 0 | AC58: 0 | AD58: 0 | AE58: =AF58+AG58 -> 14 | AF58: 1 | AG58: 13 | AH58: 4 | AI58: =AJ58+AK58 -> #REF! | AJ58: =#REF! -> #REF! | AK58: =#REF! -> #REF! | AL58: =AM58+AV58 -> 35 | AM58: =AN58+AO58+AP58+AQ58+AR58+AS58+AT58+AU58 -> 16 | AN58: 1 | AO58: 2 | AP58: 5 | AQ58: 8 | AR58: 0 | AS58: 0 | AU58: 0 | AV58: =AW58+AX58 -> 19 | AW58: 2 | AX58: 17 | AY58: =U58-H58 -> -4 | AZ58: =AL58-H58 -> 1 | BA58: =AL58-U58 -> 5
A59: 25 | B59: MN Hòa Phú | C59: 1 | D59: 5 | E59: =F59+G59 -> 17 | F59: 4 | G59: 13 | H59: =I59+R59 -> 31 | I59: =J59+K59+L59+M59+N59+O59+P59+Q59 -> 13 | J59: 1 | K59: 2 | L59: 3 | M59: 7 | R59: =S59+T59 -> 18 | S59: 6 | T59: 12 | U59: =V59+AE59 -> 27 | V59: =SUM(W59:AC59) -> 12 | W59: 1 | X59: 1 | Y59: 3 | Z59: 7 | AE59: =AF59+AG59 -> 15 | AF59: 3 | AG59: 12 | AH59: 3 | AI59: =AJ59+AK59 -> #REF! | AJ59: =#REF! -> #REF! | AK59: =#REF! -> #REF! | AL59: 34 | AM59: =AN59+AO59+AP59+AQ59+AR59+AS59+AT59+AU59 -> 13 | AN59: 1 | AO59: 2 | AP59: 3 | AQ59: 7 | AV59: =AW59+AX59 -> 21 | AW59: 7 | AX59: 14 | AY59: =U59-H59 -> -4 | AZ59: =AL59-H59 -> 3 | BA59: =AL59-U59 -> 7
A60: 26 | B60: MN Sao Mai | C60: 1 | D60: 2 | E60: 16 | F60: 2 | G60: 14 | H60: =I60+R60 -> 38 | I60: =J60+K60+L60+M60+N60+O60+P60+Q60 -> 23 | J60: 1 | K60: 2 | L60: 1 | M60: 17 | N60: 1 | O60: 1 | P60: 0 | R60: 15 | S60: 4 | T60: 11 | U60: =V60+AE60 -> 37 | V60: =SUM(W60:AC60) -> 22 | W60: 1 | X60: 2 | Y60: 1 | Z60: 17 | AA60: 1 | AD60: 1 | AE60: =AF60+AG60 -> 15 | AF60: 4 | AG60: 11 | AH60: 0 | AI60: =AJ60+AK60 -> #REF! | AJ60: =#REF! -> #REF! | AK60: =#REF! -> #REF! | AL60: =AM60+AV60 -> 38 | AM60: =AN60+AO60+AP60+AQ60+AR60+AS60+AT60+AU60 -> 23 | AN60: 1 | AO60: 2 | AP60: 2 | AQ60: 16 | AR60: 1 | AU60: 1 | AV60: =AW60+AX60 -> 15 | AW60: 2 | AX60: 13 | AY60: =U60-H60 -> -1 | AZ60: =AL60-H60 -> 0 | BA60: =AL60-U60 -> 1
A61: III | B61: HÀM YÊN | C61: =SUM(C62:C79) -> 18 | D61: =SUM(D62:D79) -> 97 | E61: =SUM(E62:E79) -> 312 | F61: =SUM(F62:F79) -> 50 | G61: =SUM(G62:G79) -> 262 | H61: =SUM(H62:H79) -> 627 | I61: =SUM(I62:I79) -> 411 | J61: =SUM(J62:J79) -> 18 | ... T61: =SUM(T62:T79) -> 164 | U61: =V61+AE61 -> 577 | V61: =SUM(W61:AC61) -> 429 | W61: =SUM(W62:W79) -> 18 | X61: =SUM(X62:X79) -> 33 | Y61: =SUM(Y62:Y79) -> 58 | Z61: =SUM(Z62:Z79) -> 319 | AA61: =SUM(AA62:AA79) -> 1 | AB61: =SUM(AB62:AB79) -> 0 | AC61: =SUM(AC62:AC79) -> 0 | AD61: =SUM(AD62:AD79) -> 0 | ... AI61: =SUM(AI62:AI79) -> #REF! | AJ61: =#REF! -> #REF! | AK61: =#REF! -> #REF! | AL61: =SUM(AL62:AL79) -> 694 | AM61: =SUM(AM62:AM79) -> 474 | AN61: =SUM(AN62:AN79) -> 18 | AO61: =SUM(AO62:AO79) -> 36 | AP61: =SUM(AP62:AP79) -> 71 | AQ61: =SUM(AQ62:AQ79) -> 342 | AR61: =SUM(AR62:AR79) -> 3 | AS61: =SUM(AS62:AS79) -> 2 | ... BA61: =SUM(BA62:BA79) -> 117
A62: 1 | B62: MN Yên Thuận | C62: 1 | D62: 6 | E62: =F62+G62 -> 15 | F62: 3 | G62: 12 | H62: =I62+R62 -> 30 | I62: =SUM(J62:Q62) -> 20 | J62: 1 | K62: 2 | L62: 6 | M62: 11 | R62: =SUM(S62:T62) -> 10 | S62: 2 | T62: 8 | U62: =V62+AE62 -> 30 | V62: =SUM(W62:AC62) -> 29 | W62: 1 | X62: 2 | Y62: 6 | Z62: 20 | AE62: =AF62+AG62 -> 1 | AG62: 1 | AH62: 9 | AI62: =AJ62+AK62 -> #REF! | AJ62: =#REF! -> #REF! | AK62: =#REF! -> #REF! | AL62: =AM62+AV62 -> 33 | AM62: =SUM(AN62:AU62) -> 32 | AN62: 1 | AO62: 2 | AP62: 6 | AQ62: 23 | AV62: =AW62+AX62 -> 1 | AX62: 1 | AY62: =U62-H62 -> 0 | AZ62: =AL62-H62 -> 3 | BA62: =AL62-U62 -> 3
A63: 2 | B63: MN Bạch Xa | C63: 1 | D63: 4 | E63: =F63+G63 -> 10 | F63: 2 | G63: 8 | H63: =I63+R63 -> 20 | I63: =SUM(J63:Q63) -> 13 | J63: 1 | K63: 2 | L63: 3 | M63: 7 | R63: =SUM(S63:T63) -> 7 | T63: 7 | U63: =V63+AE63 -> 17 | V63: =SUM(W63:AC63) -> 12 | W63: 1 | X63: 2 | Y63: 2 | Z63: 7 | AE63: =AF63+AG63 -> 5 | AG63: 5 | AH63: 2 | AI63: =AJ63+AK63 -> #REF! | AJ63: =#REF! -> #REF! | AK63: =#REF! -> #REF! | AL63: =AM63+AV63 -> 23 | AM63: =SUM(AN63:AU63) -> 14 | AN63: 1 | AO63: 2 | AP63: 3 | AQ63: 8 | AV63: =AW63+AX63 -> 9 | AW63: 1 | AX63: 8 | AY63: =U63-H63 -> -3 | AZ63: =AL63-H63 -> 3 | BA63: =AL63-U63 -> 6
A64: 3 | B64: MN Minh Khương | C64: 1 | D64: 3 | E64: =F64+G64 -> 11 | F64: 1 | G64: 10 | H64: =I64+R64 -> 25 | I64: =SUM(J64:Q64) -> 17 | J64: 1 | K64: 1 | L64: 1 | M64: 14 | R64: =SUM(S64:T64) -> 8 | S64: 3 | T64: 5 | U64: =V64+AE64 -> 18 | V64: =SUM(W64:AC64) -> 13 | W64: 1 | X64: 1 | Y64: 1 | Z64: 10 | AE64: =AF64+AG64 -> 5 | AG64: 5 | AH64: 6 | AI64: =AJ64+AK64 -> #REF! | AJ64: =#REF! -> #REF! | AK64: =#REF! -> #REF! | AL64: =AM64+AV64 -> 29 | AM64: =SUM(AN64:AU64) -> 24 | AN64: 1 | AO64: 2 | AP64: 8 | AQ64: 13 | AV64: =AW64+AX64 -> 5 | AX64: 5 | AY64: =U64-H64 -> -7 | AZ64: =AL64-H64 -> 4 | BA64: =AL64-U64 -> 11
A65: 4 | B65: MN Minh Dân | C65: 1 | D65: 4 | E65: =F65+G65 -> 14 | F65: 3 | G65: 11 | H65: =I65+R65 -> 27 | I65: =SUM(J65:Q65) -> 18 | J65: 1 | K65: 2 | L65: 2 | M65: 13 | R65: =SUM(S65:T65) -> 9 | S65: 6 | T65: 3 | U65: =V65+AE65 -> 24 | V65: =SUM(W65:AC65) -> 21 | W65: 1 | X65: 2 | Y65: 2 | Z65: 16 | AE65: =AF65+AG65 -> 3 | AF65: 0 | AG65: 3 | AH65: 6 | AI65: =AJ65+AK65 -> #REF! | AJ65: =#REF! -> #REF! | AK65: =#REF! -> #REF! | AL65: =AM65+AV65 -> 31 | AM65: =SUM(AN65:AU65) -> 28 | AN65: 1 | AO65: 2 | AP65: 6 | AQ65: 19 | AV65: =AW65+AX65 -> 3 | AW65: 0 | AX65: 3 | AY65: =U65-H65 -> -3 | AZ65: =AL65-H65 -> 4 | BA65: =AL65-U65 -> 7
A66: 5 | B66: MN Phù Lưu | C66: 1 | D66: 7 | E66: 25 | F66: 1 | G66: 24 | H66: =I66+R66 -> 50 | I66: =SUM(J66:Q66) -> 34 | J66: 1 | K66: 2 | L66: 5 | M66: 26 | R66: =SUM(S66:T66) -> 16 | S66: 4 | T66: 12 | U66: =V66+AE66 -> 41 | V66: =SUM(W66:AC66) -> 29 | W66: 1 | X66: 2 | Y66: 1 | Z66: 25 | AE66: 12 | AG66: 12 | AH66: 7 | AI66: 25 | AJ66: =#REF! -> #REF! | AK66: =#REF! -> #REF! | AL66: =AM66+AV66 -> 53 | AM66: =SUM(AN66:AU66) -> 33 | AN66: 1 | AO66: 2 | AP66: 1 | AQ66: 29 | AV66: =AW66+AX66 -> 20 | AW66: 3 | AX66: 17 | AY66: =U66-H66 -> -9 | AZ66: =AL66-H66 -> 3 | BA66: =AL66-U66 -> 12
A67: 6 | B67: MN Tân Thành | C67: 1 | D67: 10 | E67: =F67+G67 -> 24 | F67: 4 | G67: 20 | H67: =I67+R67 -> 44 | I67: =SUM(J67:Q67) -> 31 | J67: 1 | K67: 2 | L67: 3 | M67: 25 | R67: =SUM(S67:T67) -> 13 | S67: 2 | T67: 11 | U67: =V67+AE67 -> 43 | V67: =SUM(W67:AC67) -> 30 | W67: 1 | X67: 2 | Y67: 3 | Z67: 24 | AE67: =AF67+AG67 -> 13 | AF67: 2 | AG67: 11 | AH67: 4 | AI67: =AJ67+AK67 -> #REF! | AJ67: =#REF! -> #REF! | AK67: =#REF! -> #REF! | AL67: =AM67+AV67 -> 52 | AM67: =SUM(AN67:AU67) -> 31 | AN67: 1 | AO67: 2 | AP67: 3 | AQ67: 25 | AV67: =AW67+AX67 -> 21 | AW67: 8 | AX67: 13 | AY67: =U67-H67 -> -1 | AZ67: =AL67-H67 -> 8 | BA67: =AL67-U67 -> 9
A68: 7 | B68: MN Bình Xa | C68: 1 | D68: 2 | E68: =F68+G68 -> 14 | F68: 2 | G68: 12 | H68: =I68+R68 -> 28 | I68: =SUM(J68:Q68) -> 18 | J68: 1 | K68: 1 | L68: 1 | M68: 15 | R68: =SUM(S68:T68) -> 10 | S68: 2 | T68: 8 | U68: =V68+AE68 -> 27 | V68: =SUM(W68:AC68) -> 17 | W68: 1 | X68: 1 | Y68: 1 | Z68: 14 | AE68: =AF68+AG68 -> 10 | AF68: 2 | AG68: 8 | AH68: 3 | AI68: =AJ68+AK68 -> #REF! | AJ68: =#REF! -> #REF! | AK68: =#REF! -> #REF! | AL68: =AM68+AV68 -> 32 | AM68: =SUM(AN68:AU68) -> 18 | AN68: 1 | AO68: 2 | AP68: 1 | AQ68: 14 | AV68: =AW68+AX68 -> 14 | AW68: 4 | AX68: 10 | AY68: =U68-H68 -> -1 | AZ68: =AL68-H68 -> 4 | BA68: =AL68-U68 -> 5
A69: 8 | B69: MN Minh Hương | C69: 1 | D69: 7 | E69: =F69+G69 -> 23 | F69: 3 | G69: 20 | H69: =I69+R69 -> 47 | I69: =SUM(J69:Q69) -> 32 | J69: 1 | K69: 2 | L69: 1 | M69: 28 | N69: 0 | O69: 0 | P69: 0 | R69: =SUM(S69:T69) -> 15 | S69: 4 | T69: 11 | U69: =V69+AE69 -> 40 | V69: =SUM(W69:AC69) -> 31 | W69: 1 | X69: 2 | Y69: 1 | Z69: 27 | AE69: =AF69+AG69 -> 9 | AF69: 1 | AG69: 8 | AH69: 7 | AI69: =AJ69+AK69 -> #REF! | AJ69: =#REF! -> #REF! | AK69: =#REF! -> #REF! | AL69: =AM69+AV69 -> 51 | AM69: =SUM(AN69:AU69) -> 32 | AN69: 1 | AO69: 2 | AP69: 1 | AQ69: 28 | AV69: =AW69+AX69 -> 19 | AW69: 7 | AX69: 12 | AY69: =U69-H69 -> -7 | AZ69: =AL69-H69 -> 4 | BA69: =AL69-U69 -> 11
A70: 9 | B70: MN Yên Lâm | C70: 1 | D70: 8 | E70: =F70+G70 -> 16 | F70: 3 | G70: 13 | H70: =I70+R70 -> 30 | I70: =SUM(J70:Q70) -> 20 | J70: 1 | K70: 2 | L70: 3 | M70: 14 | R70: =SUM(S70:T70) -> 10 | S70: 4 | T70: 6 | U70: =V70+AE70 -> 25 | V70: =SUM(W70:AC70) -> 19 | W70: 1 | X70: 2 | Y70: 3 | Z70: 13 | AE70: =AF70+AG70 -> 6 | AF70: 1 | AG70: 5 | AH70: 3 | AI70: =AJ70+AK70 -> #REF! | AJ70: =#REF! -> #REF! | AK70: =#REF! -> #REF! | AL70: =AM70+AV70 -> 34 | AM70: =SUM(AN70:AU70) -> 19 | AN70: 1 | AO70: 2 | AP70: 3 | AQ70: 13 | AV70: =AW70+AX70 -> 15 | AW70: 3 | AX70: 12 | AY70: =U70-H70 -> -5 | AZ70: =AL70-H70 -> 4 | BA70: =AL70-U70 -> 9
A71: 10 | B71: MN Yên Phú | C71: 1 | D71: 6 | E71: =F71+G71 -> 23 | F71: 6 | G71: 17 | H71: =I71+R71 -> 46 | I71: =SUM(J71:Q71) -> 29 | J71: 1 | K71: 2 | L71: 8 | M71: 18 | N71: 0 | O71: 0 | P71: 0 | Q71: 0 | R71: =SUM(S71:T71) -> 17 | S71: 3 | T71: 14 | U71: =V71+AE71 -> 39 | V71: =SUM(W71:AC71) -> 30 | W71: 1 | X71: 2 | Y71: 8 | Z71: 19 | AA71: 0 | AB71: 0 | AC71: 0 | AD71: 0 | AE71: =AF71+AG71 -> 9 | AF71: 1 | AG71: 8 | AH71: 9 | AI71: =AJ71+AK71 -> #REF! | AJ71: =#REF! -> #REF! | AK71: =#REF! -> #REF! | AL71: =AM71+AV71 -> 51 | AM71: =AN71+AO71+AP71+AQ71+AR71+AS71+AT71+AU71 -> 35 | AN71: 1 | AO71: 2 | AP71: 8 | AQ71: 21 | AR71: 1 | AS71: 1 | AT71: 1 | AU71: 0 | AV71: =AW71+AX71 -> 16 | AW71: 3 | AX71: 13 | AY71: =U71-H71 -> -7 | AZ71: =AL71-H71 -> 5 | BA71: =AL71-U71 -> 12
A72: 11 | B72: MNTân Yên | C72: 1 | D72: 3 | E72: =F72+G72 -> 25 | F72: 3 | G72: 22 | H72: =I72+R72 -> 57 | I72: =SUM(J72:Q72) -> 35 | J72: 1 | K72: 2 | L72: 6 | M72: 25 | N72: 1 | R72: =SUM(S72:T72) -> 22 | S72: 7 | T72: 15 | U72: =V72+AE72 -> 53 | V72: =SUM(W72:AC72) -> 37 | W72: 1 | X72: 2 | Y72: 8 | Z72: 25 | AA72: 1 | AE72: =AF72+AG72 -> 16 | AF72: 2 | AG72: 14 | AH72: 2 | AI72: =AJ72+AK72 -> #REF! | AJ72: =#REF! -> #REF! | AK72: =#REF! -> #REF! | AL72: =AM72+AV72 -> 55 | AM72: =SUM(AN72:AU72) -> 35 | AN72: 1 | AO72: 2 | AP72: 6 | AQ72: 25 | AR72: 1 | AV72: =AW72+AX72 -> 20 | AW72: 4 | AX72: 16 | AY72: =U72-H72 -> -4 | AZ72: =AL72-H72 -> -2 | BA72: =AL72-U72 -> 2
A73: 12 | B73: MN Nhân Mục | C73: 1 | D73: 1 | E73: =F73+G73 -> 8 | F73: 1 | G73: 7 | H73: =I73+R73 -> 14 | I73: =SUM(J73:Q73) -> 9 | J73: 1 | K73: 2 | M73: 6 | N73: 0 | R73: =SUM(S73:T73) -> 5 | S73: 1 | T73: 4 | U73: =V73+AE73 -> 13 | V73: =SUM(W73:AC73) -> 9 | W73: 1 | X73: 2 | Y73: 0 | Z73: 6 | AE73: =AF73+AG73 -> 4 | AG73: 4 | AH73: 3 | AI73: =AJ73+AK73 -> #REF! | AJ73: =#REF! -> #REF! | AK73: =#REF! -> #REF! | AL73: =AM73+AV73 -> 21 | AM73: =SUM(AN73:AU73) -> 9 | AN73: 1 | AO73: 2 | AQ73: 6 | AV73: =AW73+AX73 -> 12 | AW73: 5 | AX73: 7 | AY73: =U73-H73 -> -1 | AZ73: =AL73-H73 -> 7 | BA73: =AL73-U73 -> 8
A74: 13 | B74: MN Bằng Cốc | C74: 1 | D74: 3 | E74: =F74+G74 -> 8 | F74: 2 | G74: 6 | H74: =I74+R74 -> 15 | I74: =SUM(J74:Q74) -> 11 | J74: 1 | K74: 1 | L74: 2 | M74: 7 | R74: =SUM(S74:T74) -> 4 | S74: 1 | T74: 3 | U74: =V74+AE74 -> 14 | V74: =SUM(W74:AC74) -> 11 | W74: 1 | X74: 1 | Y74: 2 | Z74: 7 | AE74: =AF74+AG74 -> 3 | AG74: 3 | AH74: 2 | AI74: =AJ74+AK74 -> #REF! | AJ74: =#REF! -> #REF! | AK74: =#REF! -> #REF! | AL74: =AM74+AV74 -> 21 | AM74: =SUM(AN74:AU74) -> 14 | AN74: 1 | AO74: 2 | AP74: 2 | AQ74: 6 | AR74: 1 | AS74: 1 | AT74: 1 | AV74: =AW74+AX74 -> 7 | AW74: 2 | AX74: 5 | AY74: =U74-H74 -> -1 | AZ74: =AL74-H74 -> 6 | BA74: =AL74-U74 -> 7
A75: 14 | B75: MN Thành Long | C75: 1 | D75: 6 | E75: =F75+G75 -> 18 | F75: 2 | G75: 16 | H75: =I75+R75 -> 38 | I75: =SUM(J75:Q75) -> 25 | J75: 1 | K75: 2 | L75: 2 | M75: 20 | R75: =SUM(S75:T75) -> 13 | S75: 2 | T75: 11 | U75: =V75+AE75 -> 32 | V75: =SUM(W75:AC75) -> 25 | W75: 1 | X75: 2 | Y75: 2 | Z75: 20 | AE75: =AF75+AG75 -> 7 | AF75: 1 | AG75: 6 | AH75: 4 | AI75: =AJ75+AK75 -> #REF! | AJ75: =#REF! -> #REF! | AK75: =#REF! -> #REF! | AL75: =AM75+AV75 -> 41 | AM75: =SUM(AN75:AU75) -> 26 | AN75: 1 | AO75: 2 | AP75: 2 | AQ75: 21 | AV75: =AW75+AX75 -> 15 | AW75: 4 | AX75: 11 | AY75: =U75-H75 -> -6 | AZ75: =AL75-H75 -> 3 | BA75: =AL75-U75 -> 9
A76: 15 | B76: MN Thá Sơn | C76: 1 | D76: 5 | E76: =F76+G76 -> 16 | F76: 3 | G76: 13 | H76: =I76+R76 -> 32 | I76: =SUM(J76:Q76) -> 20 | J76: 1 | K76: 2 | L76: 3 | M76: 14 | R76: =SUM(S76:T76) -> 12 | S76: 3 | T76: 9 | U76: =V76+AE76 -> 31 | V76: =SUM(W76:AC76) -> 21 | W76: 1 | X76: 2 | Y76: 3 | Z76: 15 | AE76: =AF76+AG76 -> 10 | AF76: 1 | AG76: 9 | AH76: 2 | AI76: =AJ76+AK76 -> #REF! | AJ76: =#REF! -> #REF! | AK76: =#REF! -> #REF! | AL76: =AM76+AV76 -> 37 | AM76: =SUM(AN76:AU76) -> 21 | AN76: 1 | AO76: 2 | AP76: 3 | AQ76: 15 | AV76: =AW76+AX76 -> 16 | AW76: 7 | AX76: 9 | AY76: =U76-H76 -> -1 | AZ76: =AL76-H76 -> 5 | BA76: =AL76-U76 -> 6
A77: 16 | B77: MN Thái Hòa | C77: 1 | D77: 6 | E77: =F77+G77 -> 21 | F77: 4 | G77: 17 | H77: 41 | I77: =SUM(J77:Q77) -> 26 | J77: 1 | K77: 2 | L77: 7 | M77: 16 | R77: =SUM(S77:T77) -> 16 | S77: 5 | T77: 11 | U77: =V77+AE77 -> 53 | V77: =SUM(W77:AC77) -> 42 | W77: 1 | X77: 2 | Y77: 7 | Z77: 32 | AE77: =AF77+AG77 -> 11 | AG77: 11 | AH77: 9 | AI77: =AJ77+AK77 -> #REF! | AJ77: =#REF! -> #REF! | AK77: =#REF! -> #REF! | AL77: 45 | AM77: =SUM(AN77:AU77) -> 45 | AN77: 1 | AO77: 2 | AP77: 8 | AQ77: 34 | AV77: =AW77+AX77 -> 11 | AX77: 11 | AY77: =U77-H77 -> 12 | AZ77: =AL77-H77 -> 4 | BA77: =AL77-U77 -> -8
A78: 17 | B78: MN Đức Ninh | C78: 1 | D78: 5 | E78: =F78+G78 -> 16 | F78: 3 | G78: 13 | H78: =I78+R78 -> 32 | I78: =SUM(J78:Q78) -> 21 | J78: 1 | K78: 2 | L78: 3 | M78: 15 | R78: =SUM(S78:T78) -> 11 | S78: 2 | T78: 9 | U78: =V78+AE78 -> 31 | V78: =SUM(W78:AC78) -> 20 | W78: 1 | X78: 2 | Y78: 3 | Z78: 14 | AE78: =AF78+AG78 -> 11 | AF78: 3 | AG78: 8 | AH78: 2 | AI78: =AJ78+AK78 -> #REF! | AJ78: =#REF! -> #REF! | AK78: =#REF! -> #REF! | AL78: =AM78+AV78 -> 36 | AM78: =SUM(AN78:AU78) -> 21 | AN78: 1 | AO78: 2 | AP78: 4 | AQ78: 14 | AV78: =AW78+AX78 -> 15 | AW78: 4 | AX78: 11 | AY78: =U78-H78 -> -1 | AZ78: =AL78-H78 -> 4 | BA78: =AL78-U78 -> 5
A79: 18 | B79: MN Hùng Đức | C79: 1 | D79: 11 | E79: =F79+G79 -> 25 | F79: 4 | G79: 21 | H79: =I79+R79 -> 51 | I79: =SUM(J79:Q79) -> 32 | J79: 1 | K79: 2 | L79: 5 | M79: 24 | R79: =SUM(S79:T79) -> 19 | S79: 2 | T79: 17 | U79: =V79+AE79 -> 46 | V79: =SUM(W79:AC79) -> 33 | W79: 1 | X79: 2 | Y79: 5 | Z79: 25 | AE79: =AF79+AG79 -> 13 | AF79: 2 | AG79: 11 | AH79: 2 | AI79: =AJ79+AK79 -> #REF! | AJ79: =#REF! -> #REF! | AK79: =#REF! -> #REF! | AL79: =AM79+AV79 -> 49 | AM79: =SUM(AN79:AU79) -> 37 | AN79: 1 | AO79: 2 | AP79: 6 | AQ79: 28 | AV79: =AW79+AX79 -> 12 | AW79: 2 | AX79: 10 | AY79: =U79-H79 -> -5 | AZ79: =AL79-H79 -> -2 | BA79: =AL79-U79 -> 3
A80: V | B80: YÊN SƠN | C80: =SUM(C81:C109) -> 29 | D80: =SUM(D81:D109) -> 163 | E80: =SUM(E81:E109) -> 501 | F80: =SUM(F81:F109) -> 165 | G80: =SUM(G81:G109) -> 336 | H80: =SUM(H81:H109) -> 1006 | I80: =SUM(I81:I109) -> 466 | J80: =SUM(J81:J109) -> 29 | ... T80: =SUM(T81:T109) -> 369 | U80: =V80+AE80 -> 974 | V80: =SUM(W80:AC80) -> 453 | W80: =SUM(W81:W109) -> 28 | X80: =SUM(X81:X109) -> 51 | Y80: =SUM(Y81:Y109) -> 98 | Z80: =SUM(Z81:Z109) -> 255 | AA80: =SUM(AA81:AA109) -> 19 | AB80: =SUM(AB81:AB109) -> 0 | AC80: =SUM(AC81:AC109) -> 2 | AE80: =SUM(AE81:AE109) -> 521 | AF80: =SUM(AF81:AF109) -> 169 | AG80: =SUM(AG81:AG109) -> 352 | AH80: =SUM(AH81:AH109) -> 32 | AI80: =SUM(AI81:AI109) -> #REF! | AJ80: =#REF! -> #REF! | AK80: =#REF! -> #REF! | AL80: =SUM(AL81:AL109) -> 1267 | AM80: =SUM(AM81:AM109) -> 726 | AN80: =SUM(AN81:AN109) -> 29 | AO80: =SUM(AO81:AO109) -> 58 | AP80: =SUM(AP81:AP109) -> 124 | AQ80: =SUM(AQ81:AQ109) -> 296 | AR80: =SUM(AR81:AR109) -> 29 | AS80: =SUM(AS81:AS109) -> 0 | ... BA80: =SUM(BA81:BA109) -> 293
A81: 1 | B81: MN Đội Bình | C81: 1 | D81: 6 | E81: =SUM(F81:G81) -> 13 | F81: 5 | G81: 8 | H81: =I81+R81 -> 29 | I81: =SUM(J81:Q81) -> 12 | J81: 1 | K81: 2 | L81: 2 | M81: 7 | R81: =SUM(S81:T81) -> 17 | S81: 5 | T81: 12 | U81: =V81+AE81 -> 28 | V81: =SUM(W81:AC81) -> 12 | W81: 1 | X81: 2 | Y81: 2 | Z81: 6 | AA81: 1 | AB81: 0 | AC81: 0 | AD81: 4 | AE81: =SUM(AF81:AG81) -> 16 | AF81: 5 | AG81: 11 | AH81: 1 | AI81: =SUM(AJ81:AK81) -> #REF! | AJ81: =#REF! -> #REF! | AK81: =#REF! -> #REF! | AL81: =AM81+AV81 -> 34 | AM81: =SUM(AN81:AU81) -> 17 | AN81: 1 | AO81: 2 | AP81: 2 | AQ81: 6 | AR81: 1 | AS81: 0 | AT81: 1 | AU81: 4 | AV81: =SUM(AW81:AX81) -> 17 | AW81: 5 | AX81: 12 | AY81: =U81-H81 -> -1 | AZ81: =AL81-H81 -> 5 | BA81: =AL81-U81 -> 6
A82: 2 | B82: MN Nhữ Khê | C82: 1 | D82: 6 | E82: =SUM(F82:G82) -> 16 | F82: 6 | G82: 10 | H82: =I82+R82 -> 32 | I82: =SUM(J82:Q82) -> 17 | J82: 1 | K82: 2 | L82: 3 | M82: 11 | N82: 0 | O82: 0 | P82: 0 | Q82: 0 | R82: =SUM(S82:T82) -> 15 | S82: 6 | T82: 9 | U82: =V82+AE82 -> 33 | V82: =SUM(W82:AC82) -> 20 | W82: 1 | X82: 2 | Y82: 3 | Z82: 13 | AA82: 1 | AB82: 0 | AC82: 0 | AD82: 4 | AE82: =SUM(AF82:AG82) -> 13 | AF82: 4 | AG82: 9 | AI82: =SUM(AJ82:AK82) -> #REF! | AJ82: =#REF! -> #REF! | AK82: =#REF! -> #REF! | AL82: =AM82+AV82 -> 38 | AM82: =SUM(AN82:AU82) -> 25 | AN82: 1 | AO82: 2 | AP82: 3 | AQ82: 13 | AR82: 1 | AS82: 0 | AT82: 1 | AU82: 4 | AV82: =SUM(AW82:AX82) -> 13 | AW82: 6 | AX82: 7 | AY82: =U82-H82 -> 1 | AZ82: =AL82-H82 -> 6 | BA82: =AL82-U82 -> 5
A83: 3 | B83: MN Nhữ Hán | C83: 1 | D83: 5 | E83: =SUM(F83:G83) -> 17 | F83: 5 | G83: 12 | H83: =I83+R83 -> 36 | I83: =SUM(J83:Q83) -> 15 | J83: 1 | K83: 2 | L83: 3 | M83: 9 | R83: =SUM(S83:T83) -> 21 | S83: 6 | T83: 15 | U83: =V83+AE83 -> 32 | V83: =SUM(W83:AC83) -> 14 | W83: 1 | X83: 2 | Y83: 2 | Z83: 8 | AA83: 1 | AD83: 5 | AE83: =SUM(AF83:AG83) -> 18 | AF83: 6 | AG83: 12 | AH83: 3 | AI83: =SUM(AJ83:AK83) -> #REF! | AJ83: =#REF! -> #REF! | AK83: =#REF! -> #REF! | AL83: =AM83+AV83 -> 43 | AM83: =SUM(AN83:AU83) -> 23 | AN83: 1 | AO83: 2 | AP83: 3 | AQ83: 10 | AR83: 1 | AT83: 1 | AU83: 5 | AV83: =SUM(AW83:AX83) -> 20 | AW83: 8 | AX83: 12 | AY83: =U83-H83 -> -4 | AZ83: =AL83-H83 -> 7 | BA83: =AL83-U83 -> 11
A84: 4 | B84: MN Đình Bằng | C84: 1 | D84: 4 | E84: =SUM(F84:G84) -> 19 | F84: 6 | G84: 13 | H84: =I84+R84 -> 42 | I84: =SUM(J84:Q84) -> 15 | J84: 1 | K84: 2 | L84: 7 | M84: 5 | N84: 0 | O84: 0 | P84: 0 | Q84: 0 | R84: =SUM(S84:T84) -> 27 | S84: 7 | T84: 20 | U84: =V84+AE84 -> 37 | V84: =SUM(W84:AC84) -> 15 | W84: 0 | X84: 2 | Y84: 7 | Z84: 6 | AA84: 0 | AB84: 0 | AC84: 0 | AD84: 8 | AE84: =SUM(AF84:AG84) -> 22 | AF84: 6 | AG84: 16 | AH84: 5 | AI84: =SUM(AJ84:AK84) -> #REF! | AJ84: =#REF! -> #REF! | AK84: =#REF! -> #REF! | AL84: =AM84+AV84 -> 53 | AM84: =SUM(AN84:AU84) -> 26 | AN84: 1 | AO84: 2 | AP84: 7 | AQ84: 6 | AR84: 1 | AS84: 0 | AT84: 1 | AU84: 8 | AV84: =SUM(AW84:AX84) -> 27 | AW84: 7 | AX84: 20 | AY84: =U84-H84 -> -5 | AZ84: =AL84-H84 -> 11 | BA84: =AL84-U84 -> 16
A85: 5 | B85: MN Mỹ Bằng | C85: 1 | D85: 3 | E85: =SUM(F85:G85) -> 17 | F85: 5 | G85: 12 | H85: =I85+R85 -> 37 | I85: =SUM(J85:Q85) -> 19 | J85: 1 | K85: 2 | L85: 4 | M85: 12 | N85: 0 | O85: 0 | P85: 0 | Q85: 0 | R85: =SUM(S85:T85) -> 18 | S85: 6 | T85: 12 | U85: =V85+AE85 -> 35 | V85: =SUM(W85:AC85) -> 17 | W85: 1 | X85: 2 | Y85: 3 | Z85: 11 | AA85: 0 | AB85: 0 | AC85: 0 | AD85: 8 | AE85: =SUM(AF85:AG85) -> 18 | AF85: 7 | AG85: 11 | AH85: 2 | AI85: =SUM(AJ85:AK85) -> #REF! | AJ85: =#REF! -> #REF! | AK85: =#REF! -> #REF! | AL85: =AM85+AV85 -> 67 | AM85: =SUM(AN85:AU85) -> 47 | AN85: 1 | AO85: 2 | AP85: 10 | AQ85: 24 | AR85: 1 | AS85: 0 | AT85: 1 | AU85: 8 | AV85: =SUM(AW85:AX85) -> 20 | AW85: 7 | AX85: 13 | AY85: =U85-H85 -> -2 | AZ85: =AL85-H85 -> 30 | BA85: =AL85-U85 -> 32 | BB85: 0
A86: 6 | B86: MN Hoàng Khai | C86: 1 | D86: 3 | E86: =SUM(F86:G86) -> 18 | F86: 5 | G86: 13 | H86: =I86+R86 -> 37 | I86: =SUM(J86:Q86) -> 19 | J86: 1 | K86: 2 | L86: 6 | M86: 10 | N86: 0 | O86: 0 | P86: 0 | Q86: 0 | R86: =SUM(S86:T86) -> 18 | S86: 5 | T86: 13 | U86: =V86+AE86 -> 38 | V86: =SUM(W86:AC86) -> 18 | W86: 1 | X86: 2 | Y86: 5 | Z86: 9 | AA86: 1 | AB86: 0 | AC86: 0 | AD86: 3 | AE86: =SUM(AF86:AG86) -> 20 | AF86: 6 | AG86: 14 | AI86: =SUM(AJ86:AK86) -> #REF! | AJ86: =#REF! -> #REF! | AK86: =#REF! -> #REF! | AL86: =AM86+AV86 -> 42 | AM86: =SUM(AN86:AU86) -> 22 | AN86: 1 | AO86: 2 | AP86: 5 | AQ86: 9 | AR86: 1 | AS86: 0 | AT86: 1 | AU86: 3 | AV86: =SUM(AW86:AX86) -> 20 | AW86: 6 | AX86: 14 | AY86: =U86-H86 -> 1 | AZ86: =AL86-H86 -> 5 | BA86: =AL86-U86 -> 4 | BB86: 0
A87: 7 | B87: MN Trung Môn | C87: 1 | D87: 1 | E87: =SUM(F87:G87) -> 16 | F87: 4 | G87: 12 | H87: =I87+R87 -> 39 | I87: =SUM(J87:Q87) -> 19 | J87: 1 | K87: 2 | L87: 7 | M87: 9 | Q87: 0 | R87: =SUM(S87:T87) -> 20 | S87: 3 | T87: 17 | U87: =V87+AE87 -> 37 | V87: =SUM(W87:AC87) -> 21 | W87: 1 | X87: 2 | Y87: 5 | Z87: 11 | AA87: 1 | AC87: 1 | AD87: 7 | AE87: =SUM(AF87:AG87) -> 16 | AF87: 4 | AG87: 12 | AH87: 2 | AI87: =SUM(AJ87:AK87) -> #REF! | AJ87: =#REF! -> #REF! | AK87: =#REF! -> #REF! | AL87: =AM87+AV87 -> 62 | AM87: =SUM(AN87:AU87) -> 46 | AN87: 1 | AO87: 2 | AP87: 10 | AQ87: 24 | AR87: 1 | AT87: 1 | AU87: 7 | AV87: =SUM(AW87:AX87) -> 16 | AW87: 3 | AX87: 13 | AY87: =U87-H87 -> -2 | AZ87: =AL87-H87 -> 23 | BA87: =AL87-U87 -> 25
A88: 8 | B88: MN Chân Sơn | C88: 1 | D88: 6 | E88: =SUM(F88:G88) -> 16 | F88: 6 | G88: 10 | H88: =I88+R88 -> 31 | I88: =SUM(J88:Q88) -> 14 | J88: 1 | K88: 2 | L88: 5 | M88: 6 | O88: 0 | P88: 0 | Q88: 0 | R88: =SUM(S88:T88) -> 17 | S88: 4 | T88: 13 | U88: =V88+AE88 -> 29 | V88: =SUM(W88:AC88) -> 15 | W88: 1 | X88: 2 | Y88: 4 | Z88: 7 | AA88: 1 | AD88: 3 | AE88: =SUM(AF88:AG88) -> 14 | AF88: 5 | AG88: 9 | AH88: 1 | AI88: =SUM(AJ88:AK88) -> #REF! | AJ88: =#REF! -> #REF! | AK88: =#REF! -> #REF! | AL88: =AM88+AV88 -> 35 | AM88: =SUM(AN88:AU88) -> 19 | AN88: 1 | AO88: 2 | AP88: 4 | AQ88: 7 | AR88: 1 | AT88: 1 | AU88: 3 | AV88: =SUM(AW88:AX88) -> 16 | AW88: 5 | AX88: 11 | AY88: =U88-H88 -> -2 | AZ88: =AL88-H88 -> 4 | BA88: =AL88-U88 -> 6
A89: 9 | B89: MN Thắng Quân | C89: 1 | D89: 6 | E89: =SUM(F89:G89) -> 27 | F89: 8 | G89: 19 | H89: =I89+R89 -> 53 | I89: =SUM(J89:Q89) -> 24 | J89: 1 | K89: 2 | L89: 5 | M89: 16 | N89: 0 | O89: 0 | Q89: 0 | R89: =SUM(S89:T89) -> 29 | S89: 7 | T89: 22 | U89: =V89+AE89 -> 50 | V89: =SUM(W89:AC89) -> 23 | W89: 1 | X89: 2 | Y89: 5 | Z89: 14 | AA89: 0 | AB89: 0 | AC89: 1 | AD89: 8 | AE89: =SUM(AF89:AG89) -> 27 | AF89: 6 | AG89: 21 | AH89: 2 | AI89: =SUM(AJ89:AK89) -> #REF! | AJ89: =#REF! -> #REF! | AK89: =#REF! -> #REF! | AL89: =AM89+AV89 -> 62 | AM89: =SUM(AN89:AU89) -> 32 | AN89: 1 | AO89: 2 | AP89: 5 | AQ89: 14 | AR89: 1 | AS89: 0 | AT89: 1 | AU89: 8 | AV89: =SUM(AW89:AX89) -> 30 | AW89: 7 | AX89: 23 | AY89: =U89-H89 -> -3 | AZ89: =AL89-H89 -> 9 | BA89: =AL89-U89 -> 12 | BB89: 0
A90: 10 | B90: MN Lang Quán | C90: 1 | D90: 7 | E90: =SUM(F90:G90) -> 21 | F90: 7 | G90: 14 | H90: =I90+R90 -> 41 | I90: =SUM(J90:Q90) -> 17 | J90: 1 | K90: 2 | L90: 3 | M90: 11 | N90: 0 | O90: 0 | P90: 0 | Q90: 0 | R90: =SUM(S90:T90) -> 24 | S90: 9 | T90: 15 | U90: =V90+AE90 -> 41 | V90: =SUM(W90:AC90) -> 18 | W90: 1 | X90: 1 | Y90: 3 | Z90: 12 | AA90: 1 | AB90: 0 | AC90: 0 | AD90: 7 | AE90: =SUM(AF90:AG90) -> 23 | AF90: 9 | AG90: 14 | AH90: 0 | AI90: =SUM(AJ90:AK90) -> #REF! | AJ90: =#REF! -> #REF! | AK90: =#REF! -> #REF! | AL90: =AM90+AV90 -> 50 | AM90: =SUM(AN90:AU90) -> 26 | AN90: 1 | AO90: 2 | AP90: 5 | AQ90: 9 | AR90: 1 | AS90: 0 | AT90: 1 | AU90: 7 | AV90: =SUM(AW90:AX90) -> 24 | AW90: 8 | AX90: 16 | AY90: =U90-H90 -> 0 | AZ90: =AL90-H90 -> 9 | BA90: =AL90-U90 -> 9 | BB90: 0
A91: 11 | B91: MN Tứ Quận | C91: 1 | D91: 7 | E91: =SUM(F91:G91) -> 24 | F91: 8 | G91: 16 | H91: =I91+R91 -> 49 | I91: =SUM(J91:Q91) -> 20 | J91: 1 | K91: 2 | L91: 2 | M91: 15 | N91: 0 | O91: 0 | P91: 0 | Q91: 0 | R91: =SUM(S91:T91) -> 29 | S91: 10 | T91: 19 | U91: =V91+AE91 -> 49 | V91: =SUM(W91:AC91) -> 17 | W91: 1 | X91: 2 | Y91: 2 | Z91: 11 | AA91: 1 | AB91: 0 | AC91: 0 | AD91: 7 | AE91: =SUM(AF91:AG91) -> 32 | AF91: 10 | AG91: 22 | AH91: 2 | AI91: =SUM(AJ91:AK91) -> #REF! | AJ91: =#REF! -> #REF! | AK91: =#REF! -> #REF! | AL91: =AM91+AV91 -> 59 | AM91: =SUM(AN91:AU91) -> 29 | AN91: 1 | AO91: 2 | AP91: 2 | AQ91: 15 | AR91: 1 | AS91: 0 | AT91: 1 | AU91: 7 | AV91: =SUM(AW91:AX91) -> 30 | AW91: 13 | AX91: 17 | AY91: =U91-H91 -> 0 | AZ91: =AL91-H91 -> 10 | BA91: =AL91-U91 -> 10 | BB91: 0
A92: 12 | B92: MN Phúc Ninh | C92: 1 | D92: 3 | E92: =SUM(F92:G92) -> 16 | F92: 4 | G92: 12 | H92: =I92+R92 -> 35 | I92: =SUM(J92:Q92) -> 14 | J92: 1 | K92: 2 | L92: 3 | M92: 8 | R92: =SUM(S92:T92) -> 21 | S92: 5 | T92: 16 | U92: =V92+AE92 -> 34 | V92: =SUM(W92:AC92) -> 15 | W92: 1 | X92: 0 | Y92: 4 | Z92: 9 | AA92: 1 | AB92: 0 | AC92: 0 | AD92: 5 | AE92: =SUM(AF92:AG92) -> 19 | AF92: 5 | AG92: 14 | AI92: =SUM(AJ92:AK92) -> #REF! | AJ92: =#REF! -> #REF! | AK92: =#REF! -> #REF! | AL92: =AM92+AV92 -> 42 | AM92: =SUM(AN92:AU92) -> 23 | AN92: 1 | AO92: 2 | AP92: 4 | AQ92: 9 | AR92: 1 | AS92: 0 | AT92: 1 | AU92: 5 | AV92: =SUM(AW92:AX92) -> 19 | AW92: 6 | AX92: 13 | AY92: =U92-H92 -> -1 | AZ92: =AL92-H92 -> 7 | BA92: =AL92-U92 -> 8
A93: 13 | B93: MN Lực Hành | C93: 1 | D93: 4 | E93: =SUM(F93:G93) -> 13 | F93: 5 | G93: 8 | H93: =I93+R93 -> 30 | I93: =SUM(J93:Q93) -> 15 | J93: 1 | K93: 2 | L93: 4 | M93: 8 | R93: =SUM(S93:T93) -> 15 | S93: 7 | T93: 8 | U93: =V93+AE93 -> 29 | V93: =SUM(W93:AC93) -> 12 | W93: 1 | X93: 1 | Y93: 3 | Z93: 6 | AA93: 1 | AD93: 5 | AE93: =SUM(AF93:AG93) -> 17 | AF93: 8 | AG93: 9 | AH93: 1 | AI93: =SUM(AJ93:AK93) -> #REF! | AJ93: =#REF! -> #REF! | AK93: =#REF! -> #REF! | AL93: =AM93+AV93 -> 37 | AM93: =SUM(AN93:AU93) -> 22 | AN93: 1 | AO93: 2 | AP93: 4 | AQ93: 8 | AR93: 1 | AT93: 1 | AU93: 5 | AV93: =SUM(AW93:AX93) -> 15 | AW93: 7 | AX93: 8 | AY93: =U93-H93 -> -1 | AZ93: =AL93-H93 -> 7 | BA93: =AL93-U93 -> 8
A94: 14 | B94: MN Chiêu Yên | C94: 1 | D94: 6 | E94: =SUM(F94:G94) -> 14 | F94: 4 | G94: 10 | H94: =I94+R94 -> 26 | I94: =SUM(J94:Q94) -> 10 | J94: 1 | K94: 2 | L94: 2 | M94: 5 | N94: 0 | O94: 0 | P94: 0 | Q94: 0 | R94: =SUM(S94:T94) -> 16 | S94: 4 | T94: 12 | U94: =V94+AE94 -> 23 | V94: =SUM(W94:AC94) -> 7 | W94: 1 | X94: 1 | Y94: 2 | Z94: 3 | AA94: 0 | AB94: 0 | AC94: 0 | AD94: 4 | AE94: =SUM(AF94:AG94) -> 16 | AF94: 4 | AG94: 12 | AH94: 0 | AI94: =SUM(AJ94:AK94) -> #REF! | AJ94: =#REF! -> #REF! | AK94: =#REF! -> #REF! | AL94: =AM94+AV94 -> 33 | AM94: =SUM(AN94:AU94) -> 17 | AN94: 1 | AO94: 2 | AP94: 2 | AQ94: 6 | AR94: 1 | AS94: 0 | AT94: 1 | AU94: 4 | AV94: =SUM(AW94:AX94) -> 16 | AW94: 4 | AX94: 12 | AY94: =U94-H94 -> -3 | AZ94: =AL94-H94 -> 7 | BA94: =AL94-U94 -> 10
A95: 15 | B95: MN Quý Quân | C95: 1 | D95: 4 | E95: =SUM(F95:G95) -> 11 | F95: 4 | G95: 7 | H95: =I95+R95 -> 21 | I95: =SUM(J95:Q95) -> 14 | J95: 1 | K95: 2 | L95: 5 | M95: 6 | N95: 0 | O95: 0 | P95: 0 | Q95: 0 | R95: =SUM(S95:T95) -> 7 | S95: 3 | T95: 4 | U95: =V95+AE95 -> 21 | V95: =SUM(W95:AC95) -> 13 | W95: 1 | X95: 2 | Y95: 4 | Z95: 6 | AA95: 0 | AB95: 0 | AC95: 0 | AD95: 3 | AE95: =SUM(AF95:AG95) -> 8 | AF95: 3 | AG95: 5 | AH95: 0 | AI95: =SUM(AJ95:AK95) -> #REF! | AJ95: =#REF! -> #REF! | AK95: =#REF! -> #REF! | AL95: =AM95+AV95 -> 26 | AM95: =SUM(AN95:AU95) -> 19 | AN95: 1 | AO95: 2 | AP95: 4 | AQ95: 7 | AR95: 1 | AT95: 1 | AU95: 3 | AV95: =SUM(AW95:AX95) -> 7 | AW95: 3 | AX95: 4 | AY95: =U95-H95 -> 0 | AZ95: =AL95-H95 -> 5 | BA95: =AL95-U95 -> 5
A96: 16 | B96: MN Kiến Thiết | C96: 1 | D96: 12 | E96: =SUM(F96:G96) -> 26 | F96: 7 | G96: 19 | H96: =I96+R96 -> 45 | I96: =SUM(J96:Q96) -> 17 | J96: 1 | K96: 2 | L96: 3 | M96: 11 | N96: 0 | O96: 0 | P96: 0 | Q96: 0 | R96: =SUM(S96:T96) -> 28 | S96: 7 | T96: 21 | U96: =V96+AE96 -> 44 | V96: =SUM(W96:AC96) -> 17 | W96: 1 | X96: 2 | Y96: 3 | Z96: 11 | AA96: 0 | AB96: 0 | AC96: 0 | AD96: 5 | AE96: =SUM(AF96:AG96) -> 27 | AF96: 6 | AG96: 21 | AH96: 1 | AI96: =SUM(AJ96:AK96) -> #REF! | AJ96: =#REF! -> #REF! | AK96: =#REF! -> #REF! | AL96: =AM96+AV96 -> 53 | AM96: =SUM(AN96:AU96) -> 25 | AN96: 1 | AO96: 2 | AP96: 3 | AQ96: 11 | AR96: 1 | AT96: 1 | AU96: 6 | AV96: =SUM(AW96:AX96) -> 28 | AW96: 7 | AX96: 21 | AY96: =U96-H96 -> -1 | AZ96: =AL96-H96 -> 8 | BA96: =AL96-U96 -> 9
A97: 17 | B97: MN Trung Trực | C97: 1 | D97: 2 | E97: =SUM(F97:G97) -> 10 | F97: 3 | G97: 7 | H97: =I97+R97 -> 20 | I97: =SUM(J97:Q97) -> 14 | J97: 1 | K97: 2 | L97: 3 | M97: 8 | O97: 0 | P97: 0 | R97: =SUM(S97:T97) -> 6 | S97: 2 | T97: 4 | U97: =V97+AE97 -> 20 | V97: =SUM(W97:AC97) -> 12 | W97: 1 | X97: 2 | Y97: 2 | Z97: 6 | AA97: 1 | AB97: 0 | AC97: 0 | AD97: 3 | AE97: =SUM(AF97:AG97) -> 8 | AF97: 2 | AG97: 6 | AH97: 0 | AI97: =SUM(AJ97:AK97) -> #REF! | AJ97: =#REF! -> #REF! | AK97: =#REF! -> #REF! | AL97: =AM97+AV97 -> 24 | AM97: =SUM(AN97:AU97) -> 16 | AN97: 1 | AO97: 2 | AP97: 2 | AQ97: 6 | AR97: 1 | AS97: 0 | AT97: 1 | AU97: 3 | AV97: =SUM(AW97:AX97) -> 8 | AW97: 2 | AX97: 6 | AY97: =U97-H97 -> 0 | AZ97: =AL97-H97 -> 4 | BA97: =AL97-U97 -> 4
A98: 18 | B98: MN Xuân Vân | C98: 1 | D98: 8 | E98: =SUM(F98:G98) -> 25 | F98: 6 | G98: 19 | H98: =I98+R98 -> 52 | I98: =SUM(J98:Q98) -> 19 | J98: 1 | K98: 2 | L98: 2 | M98: 14 | N98: 0 | O98: 0 | P98: 0 | Q98: 0 | R98: =SUM(S98:T98) -> 33 | S98: 10 | T98: 23 | U98: =V98+AE98 -> 47 | V98: =SUM(W98:AC98) -> 17 | W98: 1 | X98: 2 | Y98: 2 | Z98: 11 | AA98: 1 | AB98: 0 | AC98: 0 | AD98: 9 | AE98: =SUM(AF98:AG98) -> 30 | AF98: 7 | AG98: 23 | AH98: 5 | AI98: =SUM(AJ98:AK98) -> #REF! | AJ98: =#REF! -> #REF! | AK98: =#REF! -> #REF! | AL98: =AM98+AV98 -> 62 | AM98: =SUM(AN98:AU98) -> 32 | AN98: 1 | AO98: 2 | AP98: 2 | AQ98: 16 | AR98: 1 | AS98: 0 | AT98: 1 | AU98: 9 | AV98: =SUM(AW98:AX98) -> 30 | AW98: 7 | AX98: 23 | AY98: =U98-H98 -> -5 | AZ98: =AL98-H98 -> 10 | BA98: =AL98-U98 -> 15
A99: 19 | B99: MN Tân Long | C99: 1 | D99: 4 | E99: =SUM(F99:G99) -> 18 | F99: 6 | G99: 12 | H99: =I99+R99 -> 39 | I99: =SUM(J99:Q99) -> 16 | J99: 1 | K99: 2 | L99: 4 | M99: 9 | O99: 0 | P99: 0 | Q99: 0 | R99: =SUM(S99:T99) -> 23 | S99: 6 | T99: 17 | U99: =V99+AE99 -> 39 | V99: =SUM(W99:AC99) -> 18 | W99: 1 | X99: 1 | Y99: 4 | Z99: 11 | AA99: 1 | AC99: 0 | AD99: 6 | AE99: =SUM(AF99:AG99) -> 21 | AF99: 5 | AG99: 16 | AI99: =SUM(AJ99:AK99) -> #REF! | AJ99: =#REF! -> #REF! | AK99: =#REF! -> #REF! | AL99: =AM99+AV99 -> 47 | AM99: =SUM(AN99:AU99) -> 28 | AN99: 1 | AO99: 2 | AP99: 5 | AQ99: 12 | AR99: 1 | AS99: 0 | AT99: 1 | AU99: 6 | AV99: =SUM(AW99:AX99) -> 19 | AW99: 6 | AX99: 13 | AY99: =U99-H99 -> 0 | AZ99: =AL99-H99 -> 8 | BA99: =AL99-U99 -> 8
A100: 20 | B100: MN Tân Tiến | C100: 1 | D100: 5 | E100: =SUM(F100:G100) -> 14 | F100: 5 | G100: 9 | H100: =I100+R100 -> 29 | I100: =SUM(J100:Q100) -> 13 | J100: 1 | K100: 2 | L100: 4 | M100: 6 | N100: 0 | O100: 0 | P100: 0 | Q100: 0 | R100: =SUM(S100:T100) -> 16 | S100: 6 | T100: 10 | U100: =V100+AE100 -> 31 | V100: =SUM(W100:AC100) -> 13 | W100: 1 | X100: 2 | Y100: 3 | Z100: 6 | AA100: 1 | AB100: 0 | AC100: 0 | AD100: 5 | AE100: =SUM(AF100:AG100) -> 18 | AF100: 7 | AG100: 11 | AH100: 0 | AI100: =SUM(AJ100:AK100) -> #REF! | AJ100: =#REF! -> #REF! | AK100: =#REF! -> #REF! | AL100: =AM100+AV100 -> 37 | AM100: =SUM(AN100:AU100) -> 19 | AN100: 1 | AO100: 2 | AP100: 4 | AQ100: 5 | AR100: 1 | AS100: 0 | AT100: 1 | AU100: 5 | AV100: =SUM(AW100:AX100) -> 18 | AW100: 7 | AX100: 11 | AY100: =U100-H100 -> 2 | AZ100: =AL100-H100 -> 8 | BA100: =AL100-U100 -> 6 | BB100: 0
...

Sheet PL 2B1
A1: ='PL 2A1'!A1 -> ỦY BAN NHÂN DÂN TỈNH TUYÊN QUANG
A2: Phụ lục 2B1 BIỂU RÀ SOÁT THỰC TRẠNG SỐ TRƯỜNG, LỚP, SỐ HỌC SINH NĂM HỌC 2022-2023 VÀ KẾ HOẠCH BỐ TRÍ SỐ TRƯỜNG, LỚP, SỐ HỌC SINH NĂM HỌC 2023-2024 CỦA CẤP HỌC TIỂU HỌC
A3: ='PL 2A1'!A3:AR3 -> (Kèm theo Kế hoạch số 205/KH-UBND ngày 31 tháng 8 năm 2023 của UBND tỉnh Tuyên Quang)
A4: TT | B4: Huyện | C4: Thực hiện năm học 2022-2023 | X4: Dự kiến thực hiện năm học 2023-2024 | AS4: Tăng/giảm năm học 2023-2024 so với năm học 2022-2023
C5: Tổng số trường | D5: Số lớp, số học sinh | X5: Tổng số trường | Y5: Số lớp, số học sinh
D6: Lớp 1 | H6: Lớp 2 | L6: Lớp 3 | P6: Lớp 4 | T6: Lớp 5 | Y6: Lớp 1 | AC6: Lớp 2 | AG6: Lớp 3 | AK6: Lớp 4 | AO6: Lớp 5 | AS6: Tổng cộng | AW6: Lớp 1 | BA6: Lớp 2 | BE6: Lớp 3 | BI6: Lớp 4 | BM6: Lớp 5
D7: Số lớp | F7: Số học sinh | H7: Số lớp | J7: Số học sinh | L7: Số lớp | N7: Số học sinh | P7: Số lớp | R7: Số học sinh | T7: Số lớp | V7: Số học sinh | Y7: Số lớp | AA7: Số học sinh | AC7: Số lớp | AE7: Số học sinh | AG7: Số lớp | AI7: Số học sinh | AK7: Số lớp | AM7: Số học sinh | AO7: Số lớp | AQ7: Số học sinh | AS7: Số lớp | AU7: Số học sinh | AW7: Số lớp | AY7: Số học sinh | BA7: Số lớp | BC7: Số học sinh | BE7: Số lớp | BG7: Số học sinh | BI7: Số lớp | BK7: Số học sinh | BM7: Số lớp | BO7: Số học sinh
D8: 1 buổi | E8: 2 buổi | F8: 1 buổi | G8: 2 buổi | H8: 1 buổi | I8: 2 buổi | J8: 1 buổi | K8: 2 buổi | L8: 1 buổi | M8: 2 buổi | N8: 1 buổi | O8: 2 buổi | P8: 1 buổi | Q8: 2 buổi | R8: 1 buổi | S8: 2 buổi | T8: 1 buổi | U8: 2 buổi | V8: 1 buổi | W8: 2 buổi | Y8: 1 buổi | Z8: 2 buổi | AA8: 1 buổi | AB8: 2 buổi | AC8: 1 buổi | AD8: 2 buổi | AE8: 1 buổi | AF8: 2 buổi | AG8: 1 buổi | AH8: 2 buổi | AI8: 1 buổi | AJ8: 2 buổi | AK8: 1 buổi | AL8: 2 buổi | AM8: 1 buổi | AN8: 2 buổi | AO8: 1 buổi | AP8: 2 buổi | AQ8: 1 buổi | AR8: 2 buổi | AS8: 1 buổi | AT8: 2 buổi | AU8: 1 buổi | AV8: 2 buổi | AW8: 1 buổi | AX8: 2 buổi | AY8: 1 buổi | AZ8: 2 buổi | BA8: 1 buổi | BB8: 2 buổi | BC8: 1 buổi | BD8: 2 buổi | BE8: 1 buổi | BF8: 2 buổi | BG8: 1 buổi | BH8: 2 buổi | BI8: 1 buổi | BJ8: 2 buổi | BK8: 1 buổi | BL8: 2 buổi | BM8: 1 buổi | BN8: 2 buổi | BO8: 1 buổi | BP8: 2 buổi
A9: 1 | B9: 2 | C9: 3 | D9: 4 | E9: 5 | F9: 6 | G9: 7 | H9: 8 | I9: 9 | J9: 10 | K9: 11 | L9: 12 | M9: 13 | N9: 14 | O9: 15 | P9: 16 | Q9: 17 | R9: 18 | S9: 19 | T9: 20 | U9: 21 | V9: 22 | W9: 23 | X9: 24 | Y9: 25 | Z9: 26 | AA9: 27 | AB9: 28 | AC9: 29 | AD9: 30 | AE9: 31 | AF9: 32 | AG9: 33 | AH9: 34 | AI9: 35 | AJ9: 36 | AK9: 37 | AL9: 38 | AM9: 39 | AN9: 40 | AO9: 41 | AP9: 42 | AQ9: 43 | AR9: 44 | AS9: 45 | AT9: 46 | AU9: 47 | AV9: 48 | AW9: 49 | AX9: 50 | AY9: 51 | AZ9: 52 | BA9: 53 | BB9: 54 | BC9: 55 | BD9: 56 | BE9: 57 | BF9: 58 | BG9: 59 | BH9: 60 | BI9: 61 | BJ9: 62 | BK9: 63 | BL9: 64 | BM9: 65 | BN9: 66 | BO9: 67 | BP9: 68
B10: TỔNG CỘNG | C10: =C11+C12+C13+C14+C15+C16+C17 -> 124 | D10: =D11+D12+D13+D14+D15+D16+D17 -> 63 | E10: =E11+E12+E13+E14+E15+E16+E17 -> 533 | F10: =F11+F12+F13+F14+F15+F16+F17 -> 1477 | G10: =G11+G12+G13+G14+G15+G16+G17 -> 13772 | H10: =H11+H12+H13+H14+H15+H16+H17 -> 73 | I10: =I11+I12+I13+I14+I15+I16+I17 -> 570 | J10: =J11+J12+J13+J14+J15+J16+J17 -> 1589 | ... AR10: =AR11+AR12+AR13+AR14+AR15+AR16+AR17 -> 14058 | AS10: =AW10+BA10+BE10+BI10+BM10 -> -835 | AT10: =AX10+BB10+BF10+BJ10+BN10 -> 792 | AU10: =AY10+BC10+BG10+BK10+BO10 -> -22537 | AV10: =AZ10+BD10+BH10+BL10+BP10 -> 19912 | AW10: =AW11+AW12+AW13+AW14+AW15+AW16+AW17 -> -62 | AX10: =AX11+AX12+AX13+AX14+AX15+AX16+AX17 -> 87 | AY10: =AY11+AY12+AY13+AY14+AY15+AY16+AY17 -> -1467 | AZ10: =AZ11+AZ12+AZ13+AZ14+AZ15+AZ16+AZ17 -> 2195 | BA10: =BA11+BA12+BA13+BA14+BA15+BA16+BA17 -> -70 | BB10: =BB11+BB12+BB13+BB14+BB15+BB16+BB17 -> 28 | BC10: =BC11+BC12+BC13+BC14+BC15+BC16+BC17 -> -1382 | BD10: =BD11+BD12+BD13+BD14+BD15+BD16+BD17 -> -236 | ... BP10: =BP11+BP12+BP13+BP14+BP15+BP16+BP17 -> 6500
A11: 1 | B11: UBND huyện Na Hang | C11: 4 | D11: 0 | E11: 51 | F11: 0 | G11: 831 | H11: 0 | I11: 51 | J11: 0 | K11: 935 | L11: 0 | M11: 44 | N11: 0 | O11: 934 | P11: 8 | Q11: 29 | R11: 159 | S11: 733 | T11: 13 | U11: 34 | V11: 183 | W11: 851 | X11: 4 | Y11: 0 | Z11: 48 | AA11: 0 | AB11: 831 | AC11: 0 | AD11: 52 | AE11: 0 | AF11: 844 | AG11: 0 | AH11: 42 | AI11: 0 | AJ11: 919 | AK11: 0 | AL11: 39 | AM11: 0 | AN11: 913 | AO11: 0 | AP11: 43 | AQ11: 0 | AR11: 909 | AS11: =AW11+BA11+BE11+BI11+BM11 -> -21 | AT11: =AX11+BB11+BF11+BJ11+BN11 -> 15 | AU11: =AY11+BC11+BG11+BK11+BO11 -> -342 | AV11: =AZ11+BD11+BH11+BL11+BP11 -> 132 | AW11: =Y11-D11 -> 0 | AX11: =Z11-E11 -> -3 | AY11: =AA11-F11 -> 0 | AZ11: =AB11-G11 -> 0 | BA11: =AC11-H11 -> 0 | BB11: =AD11-I11 -> 1 | BC11: =AE11-J11 -> 0 | BD11: =AF11-K11 -> -91 | ... BP11: =AR11-W11 -> 58
A12: 2 | B12: UBND huyện Lâm Bình | C12: 7 | D12: 0 | E12: 45 | F12: 0 | G12: 911 | H12: 0 | I12: 43 | J12: 0 | K12: 969 | L12: 0 | M12: 36 | N12: 0 | O12: 997 | P12: 19 | Q12: 15 | R12: 510 | S12: 435 | T12: 18 | U12: 19 | V12: 481 | W12: 519 | X12: 7 | Y12: 0 | Z12: 47 | AA12: 0 | AB12: 904 | AC12: 0 | AD12: 43 | AE12: 0 | AF12: 911 | AG12: 0 | AH12: 36 | AI12: 0 | AJ12: 969 | AK12: 0 | AL12: 36 | AM12: 0 | AN12: 997 | AO12: 0 | AP12: 34 | AQ12: 0 | AR12: 955 | AS12: =AW12+BA12+BE12+BI12+BM12 -> -37 | AT12: =AX12+BB12+BF12+BJ12+BN12 -> 38 | AU12: =AY12+BC12+BG12+BK12+BO12 -> -991 | AV12: =AZ12+BD12+BH12+BL12+BP12 -> 905 | AW12: =Y12-D12 -> 0 | AX12: =Z12-E12 -> 2 | AY12: =AA12-F12 -> 0 | AZ12: =AB12-G12 -> -7 | BA12: =AC12-H12 -> 0 | BB12: =AD12-I12 -> 0 | BC12: =AE12-J12 -> 0 | BD12: =AF12-K12 -> -58 | ... BP12: =AR12-W12 -> 436
A13: 3 | B13: UBND huyện Chiêm Hóa | C13: 20 | D13: 14 | E13: 79 | F13: 286 | G13: 1897 | H13: 21 | I13: 78 | J13: 452 | K13: 2061 | L13: 6 | M13: 73 | N13: 192 | O13: 2128 | P13: 70 | Q13: 20 | R13: 1856 | S13: 575 | T13: 75 | U13: 20 | V13: 2250 | W13: 582 | X13: 20 | Y13: 0 | Z13: 99 | AA13: 0 | AB13: 2370 | AC13: 0 | AD13: 92 | AE13: 0 | AF13: 2183 | AG13: 0 | AH13: 92 | AI13: 0 | AJ13: 2513 | AK13: 0 | AL13: 81 | AM13: 0 | AN13: 2322 | AO13: 66 | AP13: 24 | AQ13: 1785 | AR13: 705 | AS13: =AW13+BA13+BE13+BI13+BM13 -> -120 | AT13: =AX13+BB13+BF13+BJ13+BN13 -> 118 | AU13: =AY13+BC13+BG13+BK13+BO13 -> -3251 | AV13: =AZ13+BD13+BH13+BL13+BP13 -> 2850 | AW13: =Y13-D13 -> -14 | AX13: =Z13-E13 -> 20 | AY13: =AA13-F13 -> -286 | AZ13: =AB13-G13 -> 473 | BA13: =AC13-H13 -> -21 | BB13: =AD13-I13 -> 14 | BC13: =AE13-J13 -> -452 | BD13: =AF13-K13 -> 122 | ... BP13: =AR13-W13 -> 123
A14: 4 | B14: UBND huyện Hàm Yên | C14: 21 | D14: 41 | E14: 56 | F14: 1040 | G14: 1565 | H14: 43 | I14: 65 | J14: 887 | K14: 1861 | L14: 42 | M14: 60 | N14: 942 | O14: 1672 | P14: 76 | Q14: 19 | R14: 1966 | S14: 560 | T14: 76 | U14: 26 | V14: 2009 | W14: 830 | X14: 21 | Y14: 1 | Z14: 104 | AA14: 10 | AB14: 2672 | AC14: 0 | AD14: 101 | AE14: 0 | AF14: 2604 | AG14: 0 | AH14: 105 | AI14: 0 | AJ14: 2748 | AK14: 0 | AL14: 99 | AM14: 0 | AN14: 2584 | AO14: 0 | AP14: 93 | AQ14: 0 | AR14: 2526 | AS14: =AW14+BA14+BE14+BI14+BM14 -> -277 | AT14: =AX14+BB14+BF14+BJ14+BN14 -> 276 | AU14: =AY14+BC14+BG14+BK14+BO14 -> -6834 | AV14: =AZ14+BD14+BH14+BL14+BP14 -> 6646 | AW14: =Y14-D14 -> -40 | AX14: =Z14-E14 -> 48 | AY14: =AA14-F14 -> -1030 | AZ14: =AB14-G14 -> 1107 | BA14: =AC14-H14 -> -43 | BB14: =AD14-I14 -> 36 | BC14: =AE14-J14 -> -887 | BD14: =AF14-K14 -> 743 | ... BP14: =AR14-W14 -> 1696
A15: 5 | B15: UBND huyện Yên Sơn | C15: 27 | D15: 8 | E15: 107 | F15: 151 | G15: 2749 | H15: 9 | I15: 127 | J15: 250 | K15: 2936 | L15: 7 | M15: 112 | N15: 174 | O15: 2993 | P15: 56 | Q15: 62 | R15: 1487 | S15: 1696 | T15: 58 | U15: 66 | V15: 1643 | W15: 1822 | X15: 27 | Y15: 0 | Z15: 120 | AA15: 0 | AB15: 2976 | AC15: 3 | AD15: 118 | AE15: 207 | AF15: 2691 | AG15: 0 | AH15: 122 | AI15: 0 | AJ15: 3181 | AK15: 5 | AL15: 114 | AM15: 129 | AN15: 3038 | AO15: 25 | AP15: 93 | AQ15: 669 | AR15: 2514 | AS15: =AW15+BA15+BE15+BI15+BM15 -> -105 | AT15: =AX15+BB15+BF15+BJ15+BN15 -> 93 | AU15: =AY15+BC15+BG15+BK15+BO15 -> -2700 | AV15: =AZ15+BD15+BH15+BL15+BP15 -> 2204 | AW15: =Y15-D15 -> -8 | AX15: =Z15-E15 -> 13 | AY15: =AA15-F15 -> -151 | AZ15: =AB15-G15 -> 227 | BA15: =AC15-H15 -> -6 | BB15: =AD15-I15 -> -9 | BC15: =AE15-J15 -> -43 | BD15: =AF15-K15 -> -245 | ... BP15: =AR15-W15 -> 692
A16: 6 | B16: UBND huyện Sơn Dương | C16: 27 | D16: 0 | E16: 131 | F16: 0 | G16: 3617 | H16: 0 | I16: 138 | J16: 0 | K16: 3985 | L16: 0 | M16: 130 | N16: 0 | O16: 3928 | P16: 129 | Q16: 0 | R16: 3909 | S16: 0 | T16: 146 | U16: 0 | V16: 4510 | W16: 0 | X16: 27 | Y16: 0 | Z16: 133 | AA16: 0 | AB16: 3748 | AC16: 0 | AD16: 128 | AE16: 0 | AF16: 3619 | AG16: 0 | AH16: 136 | AI16: 0 | AJ16: 3989 | AK16: 0 | AL16: 130 | AM16: 0 | AN16: 3928 | AO16: 0 | AP16: 129 | AQ16: 0 | AR16: 3909 | AS16: =AW16+BA16+BE16+BI16+BM16 -> -275 | AT16: =AX16+BB16+BF16+BJ16+BN16 -> 257 | AU16: =AY16+BC16+BG16+BK16+BO16 -> -8419 | AV16: =AZ16+BD16+BH16+BL16+BP16 -> 7663 | AW16: =Y16-D16 -> 0 | AX16: =Z16-E16 -> 2 | AY16: =AA16-F16 -> 0 | AZ16: =AB16-G16 -> 131 | BA16: =AC16-H16 -> 0 | BB16: =AD16-I16 -> -10 | BC16: =AE16-J16 -> 0 | BD16: =AF16-K16 -> -366 | ... BP16: =AR16-W16 -> 3909
A17: 7 | B17: UBND thành phố TQ | C17: 18 | D17: 0 | E17: 64 | F17: 0 | G17: 2202 | H17: 0 | I17: 68 | J17: 0 | K17: 2543 | L17: 0 | M17: 67 | N17: 0 | O17: 2508 | P17: 0 | Q17: 67 | R17: 0 | S17: 2540 | T17: 0 | U17: 74 | V17: 0 | W17: 2954 | X17: 18 | Y17: 0 | Z17: 69 | AA17: 0 | AB17: 2466 | AC17: 0 | AD17: 64 | AE17: 0 | AF17: 2202 | AG17: 0 | AH17: 67 | AI17: 0 | AJ17: 2543 | AK17: 0 | AL17: 67 | AM17: 0 | AN17: 2508 | AO17: 0 | AP17: 68 | AQ17: 0 | AR17: 2540 | AS17: =AW17+BA17+BE17+BI17+BM17 -> 0 | AT17: =AX17+BB17+BF17+BJ17+BN17 -> -5 | AU17: =AY17+BC17+BG17+BK17+BO17 -> 0 | AV17: =AZ17+BD17+BH17+BL17+BP17 -> -488 | AW17: =Y17-D17 -> 0 | AX17: =Z17-E17 -> 5 | AY17: =AA17-F17 -> 0 | AZ17: =AB17-G17 -> 264 | BA17: =AC17-H17 -> 0 | BB17: =AD17-I17 -> -4 | BC17: =AE17-J17 -> 0 | BD17: =AF17-K17 -> -341 | ... BP17: =AR17-W17 -> -414

Sheet PL 2B2
A1: ='PL 2A1'!A1:D1 -> ỦY BAN NHÂN DÂN TỈNH TUYÊN QUANG
A2: Phụ lục 2B2 BIỂU RÀ SOÁT BỐ TRÍ, SẮP XẾP SỐ LƯỢNG NGƯỜI LÀM VIỆC ĐƯỢC GIAO NĂM HỌC 2022-2023 VÀ KẾ HOẠCH BỐ TRÍ, SẮP XẾP SỐ LƯỢNG NGƯỜI LÀM VIỆC ĐƯỢC GIAO NĂM HỌC 2023-2024 CỦA CẤP HỌC TIỂU HỌC
A3: ='PL 2A1'!A3:AR3 -> (Kèm theo Kế hoạch số 205/KH-UBND ngày 31 tháng 8 năm 2023 của UBND tỉnh Tuyên Quang)
A5: TT | B5: Tên trường | C5: Số được giao năm học 2022-2023 | J5: Thực trạng đội ngũ có mặt đến 31/3/2023 | T5: Nhu cầu đội ngũ năm học 2023-2024
C6: CBQL, giáo viên, nhân viên | J6: CBQL, giáo viên, nhân viên | S6: Giáo viên NQ 102 | T6: Số lớp | W6: Định mức lớp học 1 buổi/ngày 1,20; lớp học 2 buổi/ngày 1,50 | AB6: Số thiếu theo định mức
C7: Tổng cộng số CBQL, GV, NV | D7: Trong đó | J7: Tổng cộng số CBQL, GV, NV | K7: Trong đó: | T7: Tống số | U7: Trong đó | W7: Tổng cộng số CBQL, GV, NV | X7: Trong đó | AB7: Tổng cộng số CBQL, GV, NV | AC7: Trong đó
D8: Lãnh đạo quản lý | E8: Giáo viên | F8: Giáo viên làm Đội | G8: Nhân viên | H8: Trong đó | K8: Lãnh đạo | M8: Giáo viên | N8: Giáo viên làm Đội | O8: Nhân viên | P8: Trong đó | U8: Lớp học 01 buổi/ ngày | V8: Lớp học 02 buổi/ ngày | X8: Lãnh đạo quản lý | Y8: Giáo viên | Z8: Tổng phụ trách | AA8: Nhân viên | AC8: Lãnh đạo quản lý | AD8: Giáo viên | AE8: Tổng phụ trách | AF8: Nhân viên
H9: Thư viện, TB, TN, CNTT… | I9: VT, KT, YT và TQ | K9: Hiệu trưởng | L9: Phó Hiệu trưởng | P9: Thư viện, TB, TN, CNTT… | Q9: Kế toán | R9: VT, YT và TQ
A10: 1 | B10: 2 | C10: 3 | D10: 4 | E10: 5 | F10: 6 | G10: 7 | H10: 8 | I10: 10 | J10: 11 | K10: 12 | L10: 13 | M10: 14 | N10: 15 | O10: 16 | P10: 17 | Q10: 18 | R10: 19 | S10: 20 | T10: 21 | U10: 22 | V10: 23 | W10: 24 | X10: 25 | Y10: 26 | Z10: 27 | AA10: 28 | AB10: 32 | AC10: 33 | AD10: 34 | AE10: 35 | AF10: 36
B11: TỔNG CỘNG | C11: =C12+C13+C14+C15+C16+C17+C18 -> 4746 | D11: =D12+D13+D14+D15+D16+D17+D18 -> 354 | E11: =E12+E13+E14+E15+E16+E17+E18 -> 4224 | F11: =F12+F13+F14+F15+F16+F17+F18 -> 38 | G11: =G12+G13+G14+G15+G16+G17+G18 -> 130 | H11: =H12+H13+H14+H15+H16+H17+H18 -> 45 | I11: =I12+I13+I14+I15+I16+I17+I18 -> 85 | J11: =J12+J13+J14+J15+J16+J17+J18 -> 4345 | ... AF11: =AF12+AF13+AF14+AF15+AF16+AF17+AF18 -> -465
A12: 1 | B12: UBND huyện Na Hang | C12: =D12+E12+F12+G12 -> 411 | D12: 22 | E12: 356 | F12: 8 | G12: 25 | H12: 12 | I12: 13 | J12: =K12+L12+M12+N12+O12 -> 377 | K12: 4 | L12: 18 | M12: 325 | N12: 9 | O12: 21 | P12: 12 | Q12: 9 | S12: 29 | T12: =U12+V12 -> 224 | U12: ='PL 2B1'!Y11+'PL 2B1'!AC11+'PL 2B1'!AG11+'PL 2B1'!AK11+'PL 2B1'!AO11 -> 0 | V12: ='PL 2B1'!Z11+'PL 2B1'!AD11+'PL 2B1'!AH11+'PL 2B1'!AL11+'PL 2B1'!AP11 -> 224 | W12: =X12+Y12+Z12+AA12 -> 396 | X12: 20 | Y12: =(U12*1.2)+(V12*1.5) -> 336 | Z12: 8 | AA12: 32 | AB12: =AC12+AD12+AE12+AF12 -> 15 | AC12: =D12-X12 -> 2 | AD12: =E12-Y12 -> 20 | AE12: =F12-Z12 -> 0 | AF12: =G12-AA12 -> -7
A13: 2 | B13: UBND huyện Lâm Bình | C13: =D13+E13+F13+G13 -> 313 | D13: 21 | E13: 277 | F13: 7 | G13: 8 | H13: 3 | I13: 5 | J13: =K13+L13+M13+N13+O13 -> 288 | K13: 6 | L13: 14 | M13: 253 | N13: 7 | O13: 8 | P13: 3 | Q13: 5 | S13: 22 | T13: =U13+V13 -> 196 | U13: ='PL 2B1'!Y12+'PL 2B1'!AC12+'PL 2B1'!AG12+'PL 2B1'!AK12+'PL 2B1'!AO12 -> 0 | V13: ='PL 2B1'!Z12+'PL 2B1'!AD12+'PL 2B1'!AH12+'PL 2B1'!AL12+'PL 2B1'!AP12 -> 196 | W13: =X13+Y13+Z13+AA13 -> 365 | X13: 22 | Y13: =(U13*1.2)+(V13*1.5) -> 294 | Z13: 8 | AA13: 41 | AB13: =AC13+AD13+AE13+AF13 -> -52 | AC13: =D13-X13 -> -1 | AD13: =E13-Y13 -> -17 | AE13: =F13-Z13 -> -1 | AF13: =G13-AA13 -> -33
A14: 3 | B14: UBND huyện Chiêm Hóa | C14: =D14+E14+F14+G14 -> 723 | D14: 59 | E14: 645 | F14: 0 | G14: 19 | H14: 3 | I14: 16 | J14: =K14+L14+M14+N14+O14 -> 677 | K14: 20 | L14: 39 | M14: 599 | N14: 0 | O14: 19 | P14: 3 | Q14: 16 | S14: 40 | T14: =U14+V14 -> 454 | U14: ='PL 2B1'!Y13+'PL 2B1'!AC13+'PL 2B1'!AG13+'PL 2B1'!AK13+'PL 2B1'!AO13 -> 66 | V14: ='PL 2B1'!Z13+'PL 2B1'!AD13+'PL 2B1'!AH13+'PL 2B1'!AL13+'PL 2B1'!AP13 -> 388 | W14: =X14+Y14+Z14+AA14 -> 845.2 | X14: 64 | Y14: =(U14*1.2)+(V14*1.5) -> 661.2 | Z14: 20 | AA14: 100 | AB14: =AC14+AD14+AE14+AF14 -> -122.2 | AC14: =D14-X14 -> -5 | AD14: =E14-Y14 -> -16.2 | AE14: =F14-Z14 -> -20 | AF14: =G14-AA14 -> -81
A15: 4 | B15: UBND huyện Hàm Yên | C15: =D15+E15+F15+G15 -> 800 | D15: 62 | E15: 686 | F15: 21 | G15: 31 | H15: 8 | I15: 23 | J15: =K15+L15+M15+N15+O15 -> 713 | K15: 21 | L15: 40 | M15: 600 | N15: 23 | O15: 29 | P15: 7 | Q15: 19 | R15: 3 | S15: 58 | T15: =U15+V15 -> 503 | U15: ='PL 2B1'!Y14+'PL 2B1'!AC14+'PL 2B1'!AG14+'PL 2B1'!AK14+'PL 2B1'!AO14 -> 1 | V15: ='PL 2B1'!Z14+'PL 2B1'!AD14+'PL 2B1'!AH14+'PL 2B1'!AL14+'PL 2B1'!AP14 -> 502 | W15: =X15+Y15+Z15+AA15 -> 955.2 | X15: 69 | Y15: =(U15*1.2)+(V15*1.5) -> 754.2 | Z15: 21 | AA15: 111 | AB15: =AC15+AD15+AE15+AF15 -> -155.2 | AC15: =D15-X15 -> -7 | AD15: =E15-Y15 -> -68.2 | AE15: =F15-Z15 -> 0 | AF15: =G15-AA15 -> -80
A16: 5 | B16: UBND huyện Yên Sơn | C16: =D16+E16+F16+G16 -> 938 | D16: 80 | E16: 848 | F16: 1 | G16: 9 | H16: 2 | I16: 7 | J16: =K16+L16+M16+N16+O16 -> 862 | K16: 27 | L16: 50 | M16: 779 | N16: 2 | O16: 4 | P16: 2 | Q16: 2 | S16: 58 | T16: =U16+V16 -> 600 | U16: ='PL 2B1'!Y15+'PL 2B1'!AC15+'PL 2B1'!AG15+'PL 2B1'!AK15+'PL 2B1'!AO15 -> 33 | V16: ='PL 2B1'!Z15+'PL 2B1'!AD15+'PL 2B1'!AH15+'PL 2B1'!AL15+'PL 2B1'!AP15 -> 567 | W16: =X16+Y16+Z16+AA16 -> 1122.1 | X16: 88 | Y16: =(U16*1.2)+(V16*1.5) -> 890.1 | Z16: 27 | AA16: 117 | AB16: =AC16+AD16+AE16+AF16 -> -184.1 | AC16: =D16-X16 -> -8 | AD16: =E16-Y16 -> -42.1 | AE16: =F16-Z16 -> -26 | AF16: =G16-AA16 -> -108
A17: 6 | B17: UBND huyện Sơn Dương | C17: =D17+E17+F17+G17 -> 1018 | D17: 69 | E17: 924 | F17: 0 | G17: 25 | H17: 17 | I17: 8 | J17: =K17+L17+M17+N17+O17 -> 911 | K17: 26 | L17: 40 | M17: 822 | N17: 0 | O17: 23 | P17: 17 | Q17: 3 | R17: 3 | S17: 73 | T17: =U17+V17 -> 656 | U17: ='PL 2B1'!Y16+'PL 2B1'!AC16+'PL 2B1'!AG16+'PL 2B1'!AK16+'PL 2B1'!AO16 -> 0 | V17: ='PL 2B1'!Z16+'PL 2B1'!AD16+'PL 2B1'!AH16+'PL 2B1'!AL16+'PL 2B1'!AP16 -> 656 | W17: =X17+Y17+Z17+AA17 -> 1227 | X17: 90 | Y17: =(U17*1.2)+(V17*1.5) -> 984 | Z17: 27 | AA17: 126 | AB17: =AC17+AD17+AE17+AF17 -> -209 | AC17: =D17-X17 -> -21 | AD17: =E17-Y17 -> -60 | AE17: =F17-Z17 -> -27 | AF17: =G17-AA17 -> -101
A18: 7 | B18: UBND thành phố TQ | C18: =D18+E18+F18+G18 -> 543 | D18: 41 | E18: 488 | F18: 1 | G18: 13 | H18: 0 | I18: 13 | J18: =K18+L18+M18+N18+O18 -> 517 | K18: 18 | L18: 23 | M18: 468 | N18: 1 | O18: 7 | P18: 0 | Q18: 7 | S18: 8 | T18: =U18+V18 -> 335 | U18: ='PL 2B1'!Y17+'PL 2B1'!AC17+'PL 2B1'!AG17+'PL 2B1'!AK17+'PL 2B1'!AO17 -> 0 | V18: ='PL 2B1'!Z17+'PL 2B1'!AD17+'PL 2B1'!AH17+'PL 2B1'!AL17+'PL 2B1'!AP17 -> 335 | W18: =X18+Y18+Z18+AA18 -> 641.5 | X18: 53 | Y18: =(U18*1.2)+(V18*1.5) -> 502.5 | Z18: 18 | AA18: 68 | AB18: =AC18+AD18+AE18+AF18 -> -98.5 | AC18: =D18-X18 -> -12 | AD18: =E18-Y18 -> -14.5 | AE18: =F18-Z18 -> -17 | AF18: =G18-AA18 -> -55

Sheet Sheet2
F8: 136 | G8: 3151 | H8: 82755
F9: 155 | G9: 1444 | H9: 52061
F10: 31 | G10: 652 | H10: 25912
F11: =SUM(F8:F10) -> 322 | G11: =SUM(G8:G10) -> 5247 | H11: =SUM(H8:H10) -> 160728

Sheet Sheet1
F7: 135 | G7: 231 | H7: 3317.04 | I7: 232 | J7: 167 | K7: 169 | L7: 194 | M7: 14 | N7: 70 | O7: 110

Sheet PL 2C1
A2: Phụ lục 2C1 BIỂU RÀ SOÁT THỰC TRẠNG SỐ TRƯỜNG, LỚP, SỐ HỌC SINH NĂM HỌC 2022-2023 VÀ KẾ HOẠCH BỐ TRÍ SỐ TRƯỜNG, LỚP, SỐ HỌC SINH NĂM HỌC 2023-2024 CỦA CẤP HỌC TRUNG HỌC CƠ SỞ
A3: ='PL 2A1'!A3:AR3 -> (Kèm theo Kế hoạch số 205/KH-UBND ngày 31 tháng 8 năm 2023 của UBND tỉnh Tuyên Quang)
A5: TT | B5: Huyện | C5: Thực hiện năm học 2022-2023 | S5: Kế hoạch năm học 2023-2024 | AJ5: Tăng/giảm năm học 2023-2024 so với năm học 2022-2023
C6: Lớp 6 | G6: Lớp 7 | K6: Lớp 8 | O6: Lớp 9 | S6: Tổng số trường | T6: Lớp 6 | X6: Lớp 7 | AB6: Lớp 8 | AF6: Lớp 9 | AJ6: Tổng cộng | AN6: Lớp 6 | AR6: Lớp 7 | AV6: Lớp 8 | AZ6: Lớp 9
C7: Số lớp | E7: Số học sinh | G7: Số lớp | I7: Số học sinh | K7: Số lớp | M7: Số học sinh | O7: Số lớp | Q7: Số học sinh | T7: Số lớp | V7: Số học sinh | X7: Số lớp | Z7: Số học sinh | AB7: Số lớp | AD7: Số học sinh | AF7: Số lớp | AH7: Số học sinh | AJ7: Số lớp | AL7: Số học sinh | AN7: Số lớp | AP7: Số học sinh | AR7: Số lớp | AT7: Số học sinh | AV7: Số lớp | AX7: Số học sinh | AZ7: Số lớp | BB7: Số học sinh
C8: Lớp thường | D8: Nội trú/bán trú | E8: Lớp thường | F8: Nội trú/bán trú | G8: Lớp thường | H8: Nội trú/bán trú | I8: Lớp thường | J8: Nội trú/bán trú | K8: Lớp thường | L8: Nội trú/bán trú | M8: Lớp thường | N8: Nội trú/bán trú | O8: Lớp thường | P8: Nội trú/bán trú | Q8: Lớp thường | R8: Nội trú/bán trú | T8: Lớp thường | U8: Nội trú/bán trú | V8: Lớp thường | W8: Nội trú/bán trú | X8: Lớp thường | Y8: Nội trú/bán trú | Z8: Lớp thường | AA8: Nội trú/bán trú | AB8: Lớp thường | AC8: Nội trú/bán trú | AD8: Lớp thường | AE8: Nội trú/bán trú | AF8: Lớp thường | AG8: Nội trú/bán trú | AH8: Lớp thường | AI8: Nội trú/bán trú | AJ8: Lớp thường | AK8: Nội trú/bán trú | AL8: Lớp thường | AM8: Nội trú/bán trú | AN8: Lớp thường | AO8: Nội trú/bán trú | AP8: Lớp thường | AQ8: Nội trú/bán trú | AR8: Lớp thường | AS8: Nội trú/bán trú | AT8: Lớp thường | AU8: Nội trú/bán trú | AV8: Lớp thường | AW8: Nội trú/bán trú | AX8: Lớp thường | AY8: Nội trú/bán trú | AZ8: Lớp thường | BA8: Nội trú/bán trú | BB8: Lớp thường | BC8: Nội trú/bán trú
A9: 1 | B9: 2 | C9: 3 | D9: 4 | E9: 5 | F9: 6 | G9: 7 | H9: 8 | I9: 9 | J9: 10 | K9: 11 | L9: 12 | M9: 13 | N9: 14 | O9: 15 | P9: 16 | Q9: 17 | R9: 18 | S9: 19 | T9: 20 | U9: 21 | V9: 22 | W9: 23 | X9: 24 | Y9: 25 | Z9: 26 | AA9: 27 | AB9: 28 | AC9: 29 | AD9: 30 | AE9: 31 | AF9: 32 | AG9: 33 | AH9: 34 | AI9: 35 | AJ9: 36 | AK9: 37 | AL9: 38 | AM9: 39 | AN9: 40 | AO9: 41 | AP9: 42 | AQ9: 43 | AR9: 44 | AS9: 45 | AT9: 46 | AU9: 47 | AV9: 48 | AW9: 49 | AX9: 50 | AY9: 51 | AZ9: 52 | BA9: 53 | BB9: 54 | BC9: 55
B10: TỔNG CỘNG | C10: =C11+C12+C13+C14+C15+C16+C17+C18 -> 326 | D10: =D11+D12+D13+D14+D15+D16+D17+D18 -> 75 | E10: =E11+E12+E13+E14+E15+E16+E17+E18 -> 12545 | F10: =F11+F12+F13+F14+F15+F16+F17+F18 -> 2763 | G10: =G11+G12+G13+G14+G15+G16+G17+G18 -> 325 | H10: =H11+H12+H13+H14+H15+H16+H17+H18 -> 74 | I10: =I11+I12+I13+I14+I15+I16+I17+I18 -> 12600 | J10: =J11+J12+J13+J14+J15+J16+J17+J18 -> 2629 | ... BC10: =BC11+BC12+BC13+BC14+BC15+BC16+BC17+BC18 -> 281
A11: 1 | B11: UBND huyện Na Hang | C11: 5 | D11: 18 | E11: 166 | F11: 616 | G11: 5 | H11: 16 | I11: 195 | J11: 538 | K11: 5 | L11: 17 | M11: 171 | N11: 556 | O11: 5 | P11: 15 | Q11: 145 | R11: 511 | S11: 12 | T11: 6 | U11: 20 | V11: 223 | W11: 748 | X11: 5 | Y11: 18 | Z11: 166 | AA11: 616 | AB11: 5 | AC11: 16 | AD11: 195 | AE11: 538 | AF11: 5 | AG11: 17 | AH11: 171 | AI11: 557 | AJ11: =AN11+AR11+AV11+AZ11 -> 1 | AK11: =AO11+AS11+AW11+BA11 -> 5 | AL11: =AP11+AT11+AX11+BB11 -> 78 | AM11: =AQ11+AU11+AY11+BC11 -> 238 | AN11: =T11-C11 -> 1 | AO11: =U11-D11 -> 2 | AP11: =V11-E11 -> 57 | AQ11: =W11-F11 -> 132 | AR11: =X11-G11 -> 0 | AS11: =Y11-H11 -> 2 | AT11: =Z11-I11 -> -29 | AU11: =AA11-J11 -> 78 | ... BC11: =AI11-R11 -> 46
A12: 2 | B12: UBND huyện Lâm Bình | C12: 5 | D12: 12 | E12: 228 | F12: 464 | G12: 8 | H12: 14 | I12: 255 | J12: 471 | K12: 6 | L12: 13 | M12: 229 | N12: 491 | O12: 6 | P12: 12 | Q12: 208 | R12: 395 | S12: 9 | T12: 8 | U12: 16 | V12: 264 | W12: 561 | X12: 6 | Y12: 13 | Z12: 228 | AA12: 464 | AB12: 8 | AC12: 14 | AD12: 255 | AE12: 471 | AF12: 6 | AG12: 13 | AH12: 229 | AI12: 491 | AJ12: =AN12+AR12+AV12+AZ12 -> 3 | AK12: =AO12+AS12+AW12+BA12 -> 5 | AL12: =AP12+AT12+AX12+BB12 -> 56 | AM12: =AQ12+AU12+AY12+BC12 -> 166 | AN12: =T12-C12 -> 3 | AO12: =U12-D12 -> 4 | AP12: =V12-E12 -> 36 | AQ12: =W12-F12 -> 97 | AR12: =X12-G12 -> -2 | AS12: =Y12-H12 -> -1 | AT12: =Z12-I12 -> -27 | AU12: =AA12-J12 -> -7 | ... BC12: =AI12-R12 -> 96
A13: 3 | B13: UBND huyện Chiêm Hóa | C13: 47 | D13: 11 | E13: 1744 | F13: 431 | G13: 47 | H13: 11 | I13: 1767 | J13: 406 | K13: 45 | L13: 12 | M13: 1546 | N13: 418 | O13: 37 | P13: 9 | Q13: 1327 | R13: 335 | S13: 24 | T13: 60 | U13: 13 | V13: 2344 | W13: 507 | X13: 47 | Y13: 11 | Z13: 1744 | AA13: 426 | AB13: 46 | AC13: 11 | AD13: 1767 | AE13: 407 | AF13: 45 | AG13: 12 | AH13: 1647 | AI13: 424 | AJ13: =AN13+AR13+AV13+AZ13 -> 22 | AK13: =AO13+AS13+AW13+BA13 -> 4 | AL13: =AP13+AT13+AX13+BB13 -> 1118 | AM13: =AQ13+AU13+AY13+BC13 -> 174 | AN13: =T13-C13 -> 13 | AO13: =U13-D13 -> 2 | AP13: =V13-E13 -> 600 | AQ13: =W13-F13 -> 76 | AR13: =X13-G13 -> 0 | AS13: =Y13-H13 -> 0 | AT13: =Z13-I13 -> -23 | AU13: =AA13-J13 -> 20 | ... BC13: =AI13-R13 -> 89
A14: 4 | B14: UBND huyện Hàm Yên | C14: 50 | D14: 11 | E14: 1853 | F14: 435 | G14: 48 | H14: 9 | I14: 1904 | J14: 382 | K14: 49 | L14: 11 | M14: 1802 | N14: 449 | O14: 42 | P14: 11 | Q14: 1406 | R14: 481 | S14: 23 | T14: 60 | U14: 13 | V14: 2306 | W14: 510 | X14: 50 | Y14: 11 | Z14: 1853 | AA14: 435 | AB14: 46 | AC14: 9 | AD14: 1904 | AE14: 382 | AF14: 48 | AG14: 11 | AH14: 1802 | AI14: 449 | AJ14: =AN14+AR14+AV14+AZ14 -> 15 | AK14: =AO14+AS14+AW14+BA14 -> 2 | AL14: =AP14+AT14+AX14+BB14 -> 900 | AM14: =AQ14+AU14+AY14+BC14 -> 29 | AN14: =T14-C14 -> 10 | AO14: =U14-D14 -> 2 | AP14: =V14-E14 -> 453 | AQ14: =W14-F14 -> 75 | AR14: =X14-G14 -> 2 | AS14: =Y14-H14 -> 2 | AT14: =Z14-I14 -> -51 | AU14: =AA14-J14 -> 53 | ... BC14: =AI14-R14 -> -32
A15: 5 | B15: UBND huyện Yên Sơn | C15: 64 | D15: 13 | E15: 2434 | F15: 469 | G15: 63 | H15: 13 | I15: 2355 | J15: 446 | K15: 60 | L15: 11 | M15: 2463 | N15: 295 | O15: 56 | P15: 10 | Q15: 1887 | R15: 367 | S15: 29 | T15: 76 | U15: 16 | V15: 2958 | W15: 605 | X15: 64 | Y15: 13 | Z15: 2428 | AA15: 469 | AB15: 62 | AC15: 13 | AD15: 2355 | AE15: 448 | AF15: 60 | AG15: 11 | AH15: 2349 | AI15: 415 | AJ15: =AN15+AR15+AV15+AZ15 -> 19 | AK15: =AO15+AS15+AW15+BA15 -> 6 | AL15: =AP15+AT15+AX15+BB15 -> 951 | AM15: =AQ15+AU15+AY15+BC15 -> 360 | AN15: =T15-C15 -> 12 | AO15: =U15-D15 -> 3 | AP15: =V15-E15 -> 524 | AQ15: =W15-F15 -> 136 | AR15: =X15-G15 -> 1 | AS15: =Y15-H15 -> 0 | AT15: =Z15-I15 -> 73 | AU15: =AA15-J15 -> 23 | ... BC15: =AI15-R15 -> 48
A16: 6 | B16: UBND huyện Sơn Dương | C16: 96 | D16: 0 | E16: 3554 | F16: 0 | G16: 96 | H16: 0 | I16: 3661 | J16: 0 | K16: 93 | L16: 0 | M16: 3310 | N16: 0 | O16: 83 | P16: 0 | Q16: 2892 | R16: 0 | S16: 36 | T16: 115 | U16: 0 | V16: 4448 | W16: 0 | X16: 96 | Y16: 0 | Z16: 3554 | AA16: 0 | AB16: 97 | AC16: 0 | AD16: 3661 | AE16: 0 | AF16: 92 | AG16: 0 | AH16: 3310 | AI16: 0 | AJ16: =AN16+AR16+AV16+AZ16 -> 32 | AK16: =AO16+AS16+AW16+BA16 -> 0 | AL16: =AP16+AT16+AX16+BB16 -> 1556 | AM16: =AQ16+AU16+AY16+BC16 -> 0 | AN16: =T16-C16 -> 19 | AO16: =U16-D16 -> 0 | AP16: =V16-E16 -> 894 | AQ16: =W16-F16 -> 0 | AR16: =X16-G16 -> 0 | AS16: =Y16-H16 -> 0 | AT16: =Z16-I16 -> -107 | AU16: =AA16-J16 -> 0 | ... BC16: =AI16-R16 -> 0
A17: 7 | B17: UBND thành phố TQ | C17: 55 | D17: 0 | E17: 2411 | F17: 0 | G17: 54 | H17: 0 | I17: 2317 | J17: 0 | K17: 51 | L17: 0 | M17: 2161 | N17: 0 | O17: 48 | P17: 0 | Q17: 2080 | R17: 0 | S17: 16 | T17: 59 | U17: 0 | V17: 2570 | W17: 0 | X17: 55 | Y17: 0 | Z17: 2411 | AA17: 0 | AB17: 54 | AC17: 0 | AD17: 2309 | AE17: 0 | AF17: 51 | AG17: 0 | AH17: 2161 | AI17: 0 | AJ17: =AN17+AR17+AV17+AZ17 -> 11 | AK17: =AO17+AS17+AW17+BA17 -> 0 | AL17: =AP17+AT17+AX17+BB17 -> 482 | AM17: =AQ17+AU17+AY17+BC17 -> 0 | AN17: =T17-C17 -> 4 | AO17: =U17-D17 -> 0 | AP17: =V17-E17 -> 159 | AQ17: =W17-F17 -> 0 | AR17: =X17-G17 -> 1 | AS17: =Y17-H17 -> 0 | AT17: =Z17-I17 -> 94 | AU17: =AA17-J17 -> 0 | ... BC17: =AI17-R17 -> 0
A18: 8 | B18: Sở Giáo dục và đào tạo | C18: 4 | D18: 10 | E18: 155 | F18: 348 | G18: 4 | H18: 11 | I18: 146 | J18: 386 | K18: 6 | L18: 11 | M18: 190 | N18: 383 | O18: 5 | P18: 10 | Q18: 171 | R18: 351 | T18: 5 | U18: 10 | V18: 183 | W18: 350 | X18: 4 | Y18: 10 | Z18: 150 | AA18: 350 | AB18: 6 | AC18: 11 | AD18: 317 | AE18: 285 | AF18: 6 | AG18: 11 | AH18: 187 | AI18: 385 | AJ18: =AN18+AR18+AV18+AZ18 -> 2 | AK18: =AO18+AS18+AW18+BA18 -> 0 | AL18: =AP18+AT18+AX18+BB18 -> 175 | AM18: =AQ18+AU18+AY18+BC18 -> -98 | AN18: =T18-C18 -> 1 | AO18: =U18-D18 -> 0 | AP18: =V18-E18 -> 28 | AQ18: =W18-F18 -> 2 | AR18: =X18-G18 -> 0 | AS18: =Y18-H18 -> -1 | AT18: =Z18-I18 -> 4 | AU18: =AA18-J18 -> -36 | ... BC18: =AI18-R18 -> 34

Sheet PL 2C2
A1: ='PL 2A1'!A1:D1 -> ỦY BAN NHÂN DÂN TỈNH TUYÊN QUANG
A2: Phụ lục 2C2 BIỂU RÀ SOÁT BỐ TRÍ, SẮP XẾP SỐ LƯỢNG NGƯỜI LÀM VIỆC ĐƯỢC GIAO NĂM HỌC 2022-2023 VÀ KẾ HOẠCH BỐ TRÍ, SẮP XẾP SỐ LƯỢNG NGƯỜI LÀM VIỆC ĐƯỢC GIAO NĂM HỌC 2023-2024 CỦA CẤP HỌC TRUNG HỌC CƠ SỞ
A3: ='PL 2A1'!A3:AR3 -> (Kèm theo Kế hoạch số 205/KH-UBND ngày 31 tháng 8 năm 2023 của UBND tỉnh Tuyên Quang)
A5: TT | B5: Huyện | C5: Số được giao năm học 2022-2023 | J5: Thực trạng đội ngũ năm học đến 31/3/2023 | T5: Nhu cầu đội ngũ năm học 2023-2024
C6: CBQL, giáo viên, nhân viên | J6: CBQL, giáo viên, nhân viên | S6: Giáo viên hợp đồng NQ 102 | T6: Số lớp | V6: Định mức lớp thường 1,9; lớp NT, BT 2,20 | AA6: Số thiếu theo định mức
C7: Tổng số CBQL GV, NV | D7: Trong đó | J7: Tổng số CBQL GV, NV | K7: Trong đó: | T7: Thường | U7: NT, BT | V7: Tổng số CBQL GV, NV | W7: Trong đó: | AA7: Tổng số CBQL, GV, NV | AB7: Trong đó
D8: LĐ, QL | E8: Giáo viên | F8: GV làm đoàn, đội | G8: Nhân viên | H8: Trong đó | K8: Lãnh đạo | M8: Giáo viên | N8: GV làm đoàn, đội | O8: Nhân viên | P8: Trong đó | W8: LĐ, QL | X8: Giáo viên | Y8: GV làm Đội | Z8: Nhân viên | AB8: Lãnh đạo quản lý | AC8: Giáo viên | AD8: Tổng phụ trách | AE8: Nhân viên
H9: Thư viện, TB, TN, CNTT… | I9: VT, KT, YT và TQ | K9: Hiệu trưởng | L9: Phó Hiệu trưởng | P9: Thư viện, TB, TN, CNTT… | Q9: Kế toán | R9: VT, YT và TQ
A10: 1 | B10: 2 | C10: 3 | D10: 4 | E10: 5 | F10: 6 | G10: 7 | H10: 8 | I10: 9 | J10: 10 | K10: 11 | L10: 12 | M10: 13 | N10: 14 | O10: 15 | P10: 16 | Q10: 17 | R10: 18 | S10: 19 | T10: 20 | U10: 21 | V10: 22 | W10: 23 | X10: 24 | Y10: 25 | Z10: 26 | AA10: 29 | AB10: 30 | AC10: 31 | AD10: 32 | AE10: 33
B11: TỔNG CỘNG | C11: =C12+C13+C14+C15+C16+C17+C18+C19 -> 3199 | D11: =D12+D13+D14+D15+D16+D17+D18+D19 -> 313 | E11: =E12+E13+E14+E15+E16+E17+E18+E19 -> 2806 | F11: =F12+F13+F14+F15+F16+F17+F18+F19 -> 7 | G11: =G12+G13+G14+G15+G16+G17+G18+G19 -> 73 | H11: =H12+H13+H14+H15+H16+H17+H18+H19 -> 12 | I11: =I12+I13+I14+I15+I16+I17+I18+I19 -> 61 | J11: =J12+J13+J14+J15+J16+J17+J18+J19 -> 2863 | ... AE11: =AE12+AE13+AE14+AE15+AE16+AE17+AE18+AE19 -> -604
A12: 1 | B12: UBND huyện Na Hang | C12: =D12+E12+F12+G12 -> 210 | D12: 28 | E12: 174 | F12: 0 | G12: 8 | H12: 8 | J12: =K12+L12+M12+N12+O12 -> 189 | K12: 12 | L12: 16 | M12: 153 | N12: 0 | O12: 8 | P12: 8 | S12: 11 | T12: ='PL 2C1'!T11+'PL 2C1'!X11+'PL 2C1'!AB11+'PL 2C1'!AF11 -> 21 | U12: ='PL 2C1'!U11+'PL 2C1'!Y11+'PL 2C1'!AC11+'PL 2C1'!AG11 -> 71 | V12: =W12+X12+Y12+Z12 -> 272.1 | W12: 28 | X12: =(T12*1.9)+(U12*2.2) -> 196.1 | Y12: 8 | Z12: 40 | AA12: =AB12+AC12+AD12+AE12 -> -62.1 | AB12: =D12-W12 -> 0 | AC12: =E12-X12 -> -22.1 | AD12: =F12-Y12 -> -8 | AE12: =G12-Z12 -> -32
A13: 2 | B13: UBND huyện Lâm Bình | C13: =D13+E13+F13+G13 -> 179 | D13: 20 | E13: 148 | F13: 3 | G13: 8 | H13: 1 | I13: 7 | J13: =K13+L13+M13+N13+O13 -> 157 | K13: 8 | L13: 9 | M13: 129 | N13: 3 | O13: 8 | P13: 1 | Q13: 5 | R13: 2 | S13: 13 | T13: ='PL 2C1'!T12+'PL 2C1'!X12+'PL 2C1'!AB12+'PL 2C1'!AF12 -> 28 | U13: ='PL 2C1'!U12+'PL 2C1'!Y12+'PL 2C1'!AC12+'PL 2C1'!AG12 -> 56 | V13: =W13+X13+Y13+Z13 -> 254.4 | W13: 25 | X13: =(T13*1.9)+(U13*2.2) -> 176.4 | Y13: 8 | Z13: 45 | AA13: =AB13+AC13+AD13+AE13 -> -75.4 | AB13: =D13-W13 -> -5 | AC13: =E13-X13 -> -28.4 | AD13: =F13-Y13 -> -5 | AE13: =G13-Z13 -> -37
A14: 3 | B14: UBND huyện Chiêm Hóa | C14: =D14+E14+F14+G14 -> 481 | D14: 52 | E14: 418 | F14: 0 | G14: 11 | I14: 11 | J14: =K14+L14+M14+N14+O14 -> 440 | K14: 24 | L14: 24 | M14: 382 | N14: 0 | O14: 10 | Q14: 6 | R14: 5 | S14: 32 | T14: ='PL 2C1'!T13+'PL 2C1'!X13+'PL 2C1'!AB13+'PL 2C1'!AF13 -> 198 | U14: ='PL 2C1'!U13+'PL 2C1'!Y13+'PL 2C1'!AC13+'PL 2C1'!AG13 -> 47 | V14: =W14+X14+Y14+Z14 -> 682.6 | W14: 69 | X14: =(T14*1.9)+(U14*2.2) -> 479.6 | Y14: 24 | Z14: 110 | AA14: =AB14+AC14+AD14+AE14 -> -201.6 | AB14: =D14-W14 -> -17 | AC14: =E14-X14 -> -61.6 | AD14: =F14-Y14 -> -24 | AE14: =G14-Z14 -> -99
A15: 4 | B15: UBND huyện Hàm Yên | C15: =D15+E15+F15+G15 -> 474 | D15: 51 | E15: 417 | F15: 3 | G15: 3 | I15: 3 | J15: =K15+L15+M15+N15+O15 -> 427 | K15: 23 | L15: 28 | M15: 371 | N15: 3 | O15: 2 | Q15: 1 | R15: 1 | S15: 27 | T15: ='PL 2C1'!T14+'PL 2C1'!X14+'PL 2C1'!AB14+'PL 2C1'!AF14 -> 204 | U15: ='PL 2C1'!U14+'PL 2C1'!Y14+'PL 2C1'!AC14+'PL 2C1'!AG14 -> 44 | V15: =W15+X15+Y15+Z15 -> 656.4 | W15: 63 | X15: =(T15*1.9)+(U15*2.2) -> 484.4 | Y15: 23 | Z15: 86 | AA15: =AB15+AC15+AD15+AE15 -> -182.4 | AB15: =D15-W15 -> -12 | AC15: =E15-X15 -> -67.4 | AD15: =F15-Y15 -> -20 | AE15: =G15-Z15 -> -83
A16: 5 | B16: UBND huyện Yên Sơn | C16: =D16+E16+F16+G16 -> 571 | D16: 62 | E16: 495 | F16: 1 | G16: 13 | H16: 3 | I16: 10 | J16: =K16+L16+M16+N16+O16 -> 486 | K16: 29 | L16: 30 | M16: 419 | N16: 1 | O16: 7 | P16: 3 | Q16: 4 | S16: 44 | T16: ='PL 2C1'!T15+'PL 2C1'!X15+'PL 2C1'!AB15+'PL 2C1'!AF15 -> 262 | U16: ='PL 2C1'!U15+'PL 2C1'!Y15+'PL 2C1'!AC15+'PL 2C1'!AG15 -> 53 | V16: =W16+X16+Y16+Z16 -> 871.4 | W16: 82 | X16: =(T16*1.9)+(U16*2.2) -> 614.4 | Y16: 29 | Z16: 146 | AA16: =AB16+AC16+AD16+AE16 -> -300.4 | AB16: =D16-W16 -> -20 | AC16: =E16-X16 -> -119.4 | AD16: =F16-Y16 -> -28 | AE16: =G16-Z16 -> -133
A17: 6 | B17: UBND huyện Sơn Dương | C17: =D17+E17+F17+G17 -> 752 | D17: 67 | E17: 659 | F17: 0 | G17: 26 | I17: 26 | J17: =K17+L17+M17+N17+O17 -> 663 | K17: 36 | L17: 29 | M17: 572 | N17: 0 | O17: 26 | Q17: 22 | R17: 4 | S17: 0 | T17: ='PL 2C1'!T16+'PL 2C1'!X16+'PL 2C1'!AB16+'PL 2C1'!AF16 -> 400 | U17: ='PL 2C1'!U16+'PL 2C1'!Y16+'PL 2C1'!AC16+'PL 2C1'!AG16 -> 0 | V17: =W17+X17+Y17+Z17 -> 1063 | W17: 99 | X17: =(T17*1.9)+(U17*2.2) -> 760 | Y17: 36 | Z17: 168 | AA17: =AB17+AC17+AD17+AE17 -> -311 | AB17: =D17-W17 -> -32 | AC17: =E17-X17 -> -101 | AD17: =F17-Y17 -> -36 | AE17: =G17-Z17 -> -142
A18: 7 | B18: UBND thành phố TQ | C18: =D18+E18+F18+G18 -> 408 | D18: 33 | E18: 371 | F18: 0 | G18: 4 | I18: 4 | J18: =K18+L18+M18+N18+O18 -> 386 | K18: 16 | L18: 16 | M18: 350 | N18: 0 | O18: 4 | Q18: 4 | S18: 5 | T18: ='PL 2C1'!T17+'PL 2C1'!X17+'PL 2C1'!AB17+'PL 2C1'!AF17 -> 219 | U18: ='PL 2C1'!U17+'PL 2C1'!Y17+'PL 2C1'!AC17+'PL 2C1'!AG17 -> 0 | V18: =W18+X18+Y18+Z18 -> 562.1 | W18: 48 | X18: =(T18*1.9)+(U18*2.2) -> 416.1 | Y18: 16 | Z18: 82 | AA18: =AB18+AC18+AD18+AE18 -> -154.1 | AB18: =D18-W18 -> -15 | AC18: =E18-X18 -> -45.1 | AD18: =F18-Y18 -> -16 | AE18: =G18-Z18 -> -78
A19: 8 | B19: Sở Giáo dục và Đào tạo | C19: =D19+E19+F19+G19 -> 124 | D19: 0 | E19: 124 | F19: 0 | G19: 0 | J19: =K19+L19+M19+N19+O19 -> 115 | K19: 0 | L19: 0 | M19: 115 | N19: 0 | O19: 0 | S19: 0 | T19: ='PL 2C1'!T18+'PL 2C1'!X18+'PL 2C1'!AB18+'PL 2C1'!AF18 -> 21 | U19: ='PL 2C1'!U18+'PL 2C1'!Y18+'PL 2C1'!AC18+'PL 2C1'!AG18 -> 42 | V19: =W19+X19+Y19+Z19 -> 132.3 | W19: 0 | X19: =(T19*1.9)+(U19*2.2) -> 132.3 | Y19: 0 | Z19: 0 | AA19: =AB19+AC19+AD19+AE19 -> -8.3 | AB19: =D19-W19 -> 0 | AC19: =E19-X19 -> -8.3 | AD19: =F19-Y19 -> 0 | AE19: =G19-Z19 -> 0

Sheet PL 2D
A1: ='PL 2C2'!A1:E1 -> ỦY BAN NHÂN DÂN TỈNH TUYÊN QUANG
A2: Phụ lục 2D BIỂU THỐNG KÊ SỐ LỚP, SỐ HỌC SINH VÀ NHU CẦU SỐ LƯỢNG NGƯỜI LÀM VIỆC TRONG CÁC ĐƠN VỊ SỰ NGHIỆP GIÁO DỤC CẤP THPT NĂM HỌC 2023-2024
A3: ='PL 2A1'!A3:AR3 -> (Kèm theo Kế hoạch số 205/KH-UBND ngày 31 tháng 8 năm 2023 của UBND tỉnh Tuyên Quang)
B5: Cấp học | C5: Thực hiện năm học 2022-2023 | AC5: Dự kiến thực hiện năm học 2023-2024
C6: Số lớp, số học sinh | E6: Số lớp, số học sinh | K6: Số lượng người làm việc được UBND tỉnh giao năm 2023 | T6: Thực trạng số lượng người làm việc 31/3/2023 | AC6: Số lớp, số học sinh | AG6: Số lớp, số học sinh | AY6: Nhu cầu số lượng người làm việc (theo định mức) | BD6: Số thiếu theo định mức
C7: Số lớp | D7: Số học sinh | E7: Lớp 10 | G7: Lớp 11 | I7: Lớp 12 | K7: Tổng số | L7: Trong đó | S7: HĐLĐ theo NĐ 68 | T7: Tổng số | U7: Trong đó | AB7: HĐLĐ theo NĐ 68 | AC7: Số lớp | AF7: Số học sinh | AG7: Lớp 10 | AM7: Lớp 11 | AS7: Lớp 12 | AY7: Tổng số | AZ7: Trong đó | BD7: Tổng số CBQL, GV, NV | BE7: Trong đó
E8: Số lớp | F8: Số học sinh | G8: Số lớp | H8: Số học sinh | I8: Số lớp | J8: Số học sinh | L8: CB QL | M8: Giáo viên | N8: Bí thư Đoàn | O8: Nhân viên | P8: Trong đó | U8: CB QL | V8: Giáo viên | W8: Bí thư Đoàn | X8: Nhân viên | Y8: Trong đó | AC8: Thường | AD8: NT | AE8: Chuyên | AG8: Số lớp | AJ8: Số học sinh | AM8: Số lớp | AP8: Số học sinh | AS8: Số lớp | AV8: Số học sinh | AZ8: CB QL | BA8: Giáo viên | BB8: Bí thư Đoàn | BC8: Nhân viên | BE8: LĐ, QL | BF8: Giáo viên | BG8: Bí thư Đoàn | BH8: Nhân viên
P9: Thư viện, TB, TN, CNTT… | Q9: Giáo vụ, hỗ trợ NKT | R9: VT, KT, YT và TQ | Y9: Thư viện, TB, TN, CNTT… | Z9: Giáo vụ, hỗ trợ NKT | AA9: VT, KT, YT và TQ
AG10: Thường | AH10: NT | AI10: Chuyên | AJ10: Thường | AK10: NT | AL10: Chuyên | AM10: Thường | AN10: NT | AO10: Chuyên | AP10: Thường | AQ10: NT | AR10: Chuyên | AS10: Thường | AT10: NT | AU10: Chuyên | AV10: Thường | AW10: NT | AX10: Chuyên
A11: 1 | B11: 2 | C11: 3 | D11: 4 | E11: 5 | F11: 6 | G11: 7 | H11: 8 | I11: 9 | J11: 10 | K11: 5 | L11: 6 | M11: 7 | N11: 8 | O11: 9 | P11: 10 | Q11: 11 | R11: 12 | S11: 13 | T11: 14 | U11: 15 | V11: 16 | W11: 17 | X11: 18 | Y11: 19 | Z11: 20 | AA11: 21 | AB11: 22 | AC11: 23 | AD11: 24 | AE11: 25 | AF11: 26 | AG11: 27 | AH11: 28 | AI11: 29 | AJ11: 30 | AK11: 31 | AL11: 32 | AM11: 33 | AN11: 34 | AO11: 35 | AP11: 36 | AQ11: 37 | AR11: 38 | AS11: 39 | AT11: 40 | AU11: 41 | AV11: 42 | AW11: 43 | AX11: 44 | AY11: 27 | AZ11: 28 | BA11: 29 | BB11: 30 | BC11: 31 | BD11: 32 | BE11: 33 | BF11: 34 | BG11: 35 | BH11: 36
B12: Tổng cộng | C12: =C13+C36 -> 637 | D12: =D13+D36 -> 25827 | E12: =E13+E36 -> 237 | F12: =F13+F36 -> 9773 | G12: =G13+G36 -> 210 | H12: =H13+H36 -> 8405 | I12: =I13+I36 -> 190 | J12: =J13+J36 -> 7649 | ... BH12: =BH13+BH36 -> -115
A13: I | B13: Đơn vị nhóm 3 | C13: =SUM(C14:C35) -> 527 | D13: =SUM(D14:D35) -> 21684 | E13: =SUM(E14:E35) -> 194 | F13: =SUM(F14:F35) -> 8147 | G13: =SUM(G14:G35) -> 173 | H13: =SUM(H14:H35) -> 7028 | I13: =SUM(I14:I35) -> 160 | J13: =SUM(J14:J35) -> 6509 | ... BH13: =SUM(BH14:BH35) -> -65
A14: 1 | B14: Trường THPT Lâm Bình | C14: =E14+G14+I14 -> 11 | D14: =F14+H14+J14 -> 419 | E14: 4 | F14: 142 | G14: 4 | H14: 155 | I14: 3 | J14: 122 | K14: =L14+M14+N14+O14 -> 29 | L14: 3 | M14: 22 | N14: 1 | O14: 3 | P14: 2 | R14: 1 | S14: 1 | T14: =U14+V14+W14+X14 -> 23 | U14: 3 | V14: 19 | W14: 1 | X14: 0 | AB14: 1 | AC14: =AG14+AM14+AS14 -> 11 | AD14: =AH14+AN14+AT14 -> 0 | AE14: =AI14+AO14+AU14 -> 0 | AF14: =AJ14+AK14+AL14+AP14+AQ14+AR14+AV14+AW14+AX14 -> 458 | AG14: 4 | AJ14: 180 | AM14: 3 | AP14: 128 | AS14: 4 | AV14: 150 | AY14: =(AZ14+BA14+BB14+BC14) -> 33.75 | AZ14: 3 | BA14: =((AG14+AM14+AS14)*2.25) -> 24.75 | BB14: 1 | BC14: 5 | BD14: =BE14+BF14+BH14 -> -4.75 | BE14: =L14-AZ14 -> 0 | BF14: =M14-BA14 -> -2.75 | BG14: =N14-BB14 -> 0 | BH14: =O14-BC14 -> -2
A15: 2 | B15: Trường THPT Na Hang | C15: =E15+G15+I15 -> 10 | D15: =F15+H15+J15 -> 370 | E15: 4 | F15: 140 | G15: 3 | H15: 110 | I15: 3 | J15: 120 | K15: =L15+M15+N15+O15 -> 28 | L15: 3 | M15: 22 | N15: 1 | O15: 2 | P15: 1 | R15: 1 | S15: 1 | T15: =U15+V15+W15+X15 -> 27 | U15: 2 | V15: 22 | W15: 1 | X15: 2 | Y15: 1 | AA15: 1 | AB15: 1 | AC15: =AG15+AM15+AS15 -> 11 | AD15: =AH15+AN15+AT15 -> 0 | AE15: =AI15+AO15+AU15 -> 0 | AF15: =AJ15+AK15+AL15+AP15+AQ15+AR15+AV15+AW15+AX15 -> 400 | AG15: 4 | AJ15: 150 | AM15: 4 | AP15: 140 | AS15: 3 | AV15: 110 | AY15: =(AZ15+BA15+BB15+BC15) -> 33.75 | AZ15: 3 | BA15: =((AG15+AM15+AS15)*2.25) -> 24.75 | BB15: 1 | BC15: 5 | BD15: =BE15+BF15+BH15 -> -5.75 | BE15: =L15-AZ15 -> 0 | BF15: =M15-BA15 -> -2.75 | BG15: =N15-BB15 -> 0 | BH15: =O15-BC15 -> -3
A16: 3 | B16: THPT Chiêm Hóa | C16: =E16+G16+I16 -> 28 | D16: =F16+H16+J16 -> 1092 | E16: 10 | F16: 407 | G16: 9 | H16: 332 | I16: 9 | J16: 353 | K16: =L16+M16+N16+O16 -> 68 | L16: 3 | M16: 61 | N16: 1 | O16: 3 | P16: 2 | R16: 1 | T16: =U16+V16+W16+X16 -> 67 | U16: 3 | V16: 60 | W16: 1 | X16: 3 | Y16: 2 | AA16: 1 | AC16: =AG16+AM16+AS16 -> 28 | AD16: =AH16+AN16+AT16 -> 0 | AE16: =AI16+AO16+AU16 -> 0 | AF16: =AJ16+AK16+AL16+AP16+AQ16+AR16+AV16+AW16+AX16 -> 1175 | AG16: 10 | AJ16: 425 | AM16: 10 | AP16: 415 | AS16: 8 | AV16: 335 | AY16: =(AZ16+BA16+BB16+BC16) -> 73 | AZ16: 3 | BA16: =((AG16+AM16+AS16)*2.25) -> 63 | BB16: 1 | BC16: 6 | BD16: =BE16+BF16+BH16 -> -5 | BE16: =L16-AZ16 -> 0 | BF16: =M16-BA16 -> -2 | BG16: =N16-BB16 -> 0 | BH16: =O16-BC16 -> -3
A17: 4 | B17: Trường THPT Đầm Hồng | C17: =E17+G17+I17 -> 14 | D17: =F17+H17+J17 -> 571 | E17: 5 | F17: 221 | G17: 4 | H17: 151 | I17: 5 | J17: 199 | K17: =L17+M17+N17+O17 -> 37 | L17: 3 | M17: 31 | N17: 1 | O17: 2 | P17: 1 | R17: 1 | T17: =U17+V17+W17+X17 -> 37 | U17: 3 | V17: 31 | W17: 1 | X17: 2 | Y17: 1 | AA17: 1 | AC17: =AG17+AM17+AS17 -> 14 | AD17: =AH17+AN17+AT17 -> 0 | AE17: =AI17+AO17+AU17 -> 0 | AF17: =AJ17+AK17+AL17+AP17+AQ17+AR17+AV17+AW17+AX17 -> 601 | AG17: 5 | AJ17: 230 | AM17: 5 | AP17: 221 | AS17: 4 | AV17: 150 | AY17: =(AZ17+BA17+BB17+BC17) -> 40.5 | AZ17: 3 | BA17: =((AG17+AM17+AS17)*2.25) -> 31.5 | BB17: 1 | BC17: 5 | BD17: =BE17+BF17+BH17 -> -3.5 | BE17: =L17-AZ17 -> 0 | BF17: =M17-BA17 -> -0.5 | BG17: =N17-BB17 -> 0 | BH17: =O17-BC17 -> -3
A18: 5 | B18: Trường THPT Kim Bình | C18: =E18+G18+I18 -> 17 | D18: =F18+H18+J18 -> 712 | E18: 6 | F18: 265 | G18: 6 | H18: 238 | I18: 5 | J18: 209 | K18: =L18+M18+N18+O18 -> 43 | L18: 3 | M18: 36 | N18: 1 | O18: 3 | P18: 2 | R18: 1 | T18: =U18+V18+W18+X18 -> 38 | U18: 3 | V18: 33 | W18: 1 | X18: 1 | AA18: 1 | AC18: =AG18+AM18+AS18 -> 18 | AD18: =AH18+AN18+AT18 -> 0 | AE18: =AI18+AO18+AU18 -> 0 | AF18: =AJ18+AK18+AL18+AP18+AQ18+AR18+AV18+AW18+AX18 -> 767 | AG18: 6 | AJ18: 267 | AM18: 6 | AP18: 265 | AS18: 6 | AV18: 235 | AY18: =(AZ18+BA18+BB18+BC18) -> 49.5 | AZ18: 3 | BA18: =((AG18+AM18+AS18)*2.25) -> 40.5 | BB18: 1 | BC18: 5 | BD18: =BE18+BF18+BH18 -> -6.5 | BE18: =L18-AZ18 -> 0 | BF18: =M18-BA18 -> -4.5 | BG18: =N18-BB18 -> 0 | BH18: =O18-BC18 -> -2
A19: 6 | B19: Trường THPT Hòa Phú | C19: =E19+G19+I19 -> 13 | D19: =F19+H19+J19 -> 506 | E19: 5 | F19: 198 | G19: 4 | H19: 165 | I19: 4 | J19: 143 | K19: =L19+M19+N19+O19 -> 34 | L19: 3 | M19: 27 | N19: 1 | O19: 3 | P19: 2 | R19: 1 | T19: =U19+V19+W19+X19 -> 31 | U19: 3 | V19: 24 | W19: 1 | X19: 3 | Y19: 2 | AA19: 1 | AC19: =AG19+AM19+AS19 -> 13 | AD19: =AH19+AN19+AT19 -> 0 | AE19: =AI19+AO19+AU19 -> 0 | AF19: =AJ19+AK19+AL19+AP19+AQ19+AR19+AV19+AW19+AX19 -> 555 | AG19: 5 | AJ19: 196 | AM19: 4 | AP19: 196 | AS19: 4 | AV19: 163 | AY19: =(AZ19+BA19+BB19+BC19) -> 38.25 | AZ19: 3 | BA19: =((AG19+AM19+AS19)*2.25) -> 29.25 | BB19: 1 | BC19: 5 | BD19: =BE19+BF19+BH19 -> -4.25 | BE19: =L19-AZ19 -> 0 | BF19: =M19-BA19 -> -2.25 | BG19: =N19-BB19 -> 0 | BH19: =O19-BC19 -> -2
A20: 7 | B20: Trường THPT Hàm Yên | C20: =E20+G20+I20 -> 31 | D20: =F20+H20+J20 -> 1289 | E20: 12 | F20: 485 | G20: 9 | H20: 379 | I20: 10 | J20: 425 | K20: =L20+M20+N20+O20 -> 71 | L20: 4 | M20: 63 | N20: 1 | O20: 3 | P20: 2 | R20: 1 | S20: 1 | T20: =U20+V20+W20+X20 -> 65 | U20: 4 | V20: 58 | W20: 1 | X20: 2 | Y20: 1 | AA20: 1 | AB20: 1 | AC20: =AG20+AM20+AS20 -> 31 | AD20: =AH20+AN20+AT20 -> 0 | AE20: =AI20+AO20+AU20 -> 0 | AF20: =AJ20+AK20+AL20+AP20+AQ20+AR20+AV20+AW20+AX20 -> 1345 | AG20: 11 | AJ20: 495 | AM20: 11 | AP20: 465 | AS20: 9 | AV20: 385 | AY20: =(AZ20+BA20+BB20+BC20) -> 79.75 | AZ20: 3 | BA20: =((AG20+AM20+AS20)*2.25) -> 69.75 | BB20: 1 | BC20: 6 | BD20: =BE20+BF20+BH20 -> -8.75 | BE20: =L20-AZ20 -> 1 | BF20: =M20-BA20 -> -6.75 | BG20: =N20-BB20 -> 0 | BH20: =O20-BC20 -> -3
A21: 8 | B21: Trường THPT Phù Lưu | C21: =E21+G21+I21 -> 19 | D21: =F21+H21+J21 -> 717 | E21: 7 | F21: 271 | G21: 6 | H21: 220 | I21: 6 | J21: 226 | K21: =L21+M21+N21+O21 -> 47 | L21: 2 | M21: 41 | N21: 1 | O21: 3 | P21: 2 | R21: 1 | T21: =U21+V21+W21+X21 -> 46 | U21: 2 | V21: 40 | W21: 1 | X21: 3 | Y21: 2 | AA21: 1 | AC21: =AG21+AM21+AS21 -> 19 | AD21: =AH21+AN21+AT21 -> 0 | AE21: =AI21+AO21+AU21 -> 0 | AF21: =AJ21+AK21+AL21+AP21+AQ21+AR21+AV21+AW21+AX21 -> 755 | AG21: 7 | AJ21: 280 | AM21: 6 | AP21: 260 | AS21: 6 | AV21: 215 | AY21: =(AZ21+BA21+BB21+BC21) -> 51.75 | AZ21: 3 | BA21: =((AG21+AM21+AS21)*2.25) -> 42.75 | BB21: 1 | BC21: 5 | BD21: =BE21+BF21+BH21 -> -4.75 | BE21: =L21-AZ21 -> -1 | BF21: =M21-BA21 -> -1.75 | BG21: =N21-BB21 -> 0 | BH21: =O21-BC21 -> -2
A22: 9 | B22: Trường THPT Thái Hoà | C22: =E22+G22+I22 -> 33 | D22: =F22+H22+J22 -> 1323 | E22: 12 | F22: 485 | G22: 11 | H22: 432 | I22: 10 | J22: 406 | K22: =L22+M22+N22+O22 -> 74 | L22: 3 | M22: 67 | N22: 1 | O22: 3 | P22: 2 | R22: 1 | T22: =U22+V22+W22+X22 -> 64 | U22: 3 | V22: 57 | W22: 1 | X22: 3 | Y22: 2 | AA22: 1 | AC22: =AG22+AM22+AS22 -> 33 | AD22: =AH22+AN22+AT22 -> 0 | AE22: =AI22+AO22+AU22 -> 0 | AF22: =AJ22+AK22+AL22+AP22+AQ22+AR22+AV22+AW22+AX22 -> 1417 | AG22: 12 | AJ22: 500 | AM22: 11 | AP22: 485 | AS22: 10 | AV22: 432 | AY22: =(AZ22+BA22+BB22+BC22) -> 84.25 | AZ22: 3 | BA22: =((AG22+AM22+AS22)*2.25) -> 74.25 | BB22: 1 | BC22: 6 | BD22: =BE22+BF22+BH22 -> -10.25 | BE22: =L22-AZ22 -> 0 | BF22: =M22-BA22 -> -7.25 | BG22: =N22-BB22 -> 0 | BH22: =O22-BC22 -> -3
A23: 10 | B23: Trường THPT Xuân Huy | C23: =E23+G23+I23 -> 22 | D23: =F23+H23+J23 -> 924 | E23: 8 | F23: 343 | G23: 8 | H23: 322 | I23: 6 | J23: 259 | K23: =L23+M23+N23+O23 -> 54 | L23: 3 | M23: 47 | N23: 1 | O23: 3 | P23: 2 | R23: 1 | T23: =U23+V23+W23+X23 -> 53 | U23: 3 | V23: 46 | W23: 1 | X23: 3 | Y23: 2 | AA23: 1 | AC23: =AG23+AM23+AS23 -> 22 | AD23: =AH23+AN23+AT23 -> 0 | AE23: =AI23+AO23+AU23 -> 0 | AF23: =AJ23+AK23+AL23+AP23+AQ23+AR23+AV23+AW23+AX23 -> 970 | AG23: 7 | AJ23: 320 | AM23: 8 | AP23: 335 | AS23: 7 | AV23: 315 | AY23: =(AZ23+BA23+BB23+BC23) -> 59.5 | AZ23: 3 | BA23: =((AG23+AM23+AS23)*2.25) -> 49.5 | BB23: 1 | BC23: 6 | BD23: =BE23+BF23+BH23 -> -5.5 | BE23: =L23-AZ23 -> 0 | BF23: =M23-BA23 -> -2.5 | BG23: =N23-BB23 -> 0 | BH23: =O23-BC23 -> -3
A24: 11 | B24: Trường THPT Tháng 10 | C24: =E24+G24+I24 -> 22 | D24: =F24+H24+J24 -> 887 | E24: 8 | F24: 340 | G24: 7 | H24: 277 | I24: 7 | J24: 270 | K24: =L24+M24+N24+O24 -> 53 | L24: 3 | M24: 46 | N24: 1 | O24: 3 | P24: 2 | R24: 1 | T24: =U24+V24+W24+X24 -> 51 | U24: 3 | V24: 44 | W24: 1 | X24: 3 | Y24: 2 | AA24: 1 | AC24: =AG24+AM24+AS24 -> 22 | AD24: =AH24+AN24+AT24 -> 0 | AE24: =AI24+AO24+AU24 -> 0 | AF24: =AJ24+AK24+AL24+AP24+AQ24+AR24+AV24+AW24+AX24 -> 960 | AG24: 8 | AJ24: 350 | AM24: 8 | AP24: 340 | AS24: 6 | AV24: 270 | AY24: =(AZ24+BA24+BB24+BC24) -> 59.5 | AZ24: 3 | BA24: =((AG24+AM24+AS24)*2.25) -> 49.5 | BB24: 1 | BC24: 6 | BD24: =BE24+BF24+BH24 -> -6.5 | BE24: =L24-AZ24 -> 0 | BF24: =M24-BA24 -> -3.5 | BG24: =N24-BB24 -> 0 | BH24: =O24-BC24 -> -3
A25: 12 | B25: Trường THPT Xuân Vân | C25: =E25+G25+I25 -> 21 | D25: =F25+H25+J25 -> 883 | E25: 9 | F25: 373 | G25: 6 | H25: 260 | I25: 6 | J25: 250 | K25: =L25+M25+N25+O25 -> 50 | L25: 3 | M25: 43 | N25: 1 | O25: 3 | P25: 2 | R25: 1 | T25: =U25+V25+W25+X25 -> 45 | U25: 3 | V25: 38 | W25: 1 | X25: 3 | Y25: 2 | AA25: 1 | AC25: =AG25+AM25+AS25 -> 22 | AD25: =AH25+AN25+AT25 -> 0 | AE25: =AI25+AO25+AU25 -> 0 | AF25: =AJ25+AK25+AL25+AP25+AQ25+AR25+AV25+AW25+AX25 -> 950 | AG25: 8 | AJ25: 350 | AM25: 8 | AP25: 350 | AS25: 6 | AV25: 250 | AY25: =(AZ25+BA25+BB25+BC25) -> 59.5 | AZ25: 3 | BA25: =((AG25+AM25+AS25)*2.25) -> 49.5 | BB25: 1 | BC25: 6 | BD25: =BE25+BF25+BH25 -> -9.5 | BE25: =L25-AZ25 -> 0 | BF25: =M25-BA25 -> -6.5 | BG25: =N25-BB25 -> 0 | BH25: =O25-BC25 -> -3
A26: 13 | B26: Trường THPT Chuyên | C26: =E26+G26+I26 -> 27 | D26: =F26+H26+J26 -> 960 | E26: 9 | F26: 323 | G26: 9 | H26: 320 | I26: 9 | J26: 317 | K26: =L26+M26+N26+O26 -> 79 | L26: 3 | M26: 70 | N26: 1 | O26: 5 | P26: 2 | R26: 3 | T26: =U26+V26+W26+X26 -> 71 | U26: 3 | V26: 65 | W26: 1 | X26: 2 | Y26: 1 | AA26: 1 | AC26: =AG26+AM26+AS26 -> 3 | AD26: =AH26+AN26+AT26 -> 0 | AE26: =AI26+AO26+AU26 -> 24 | AF26: =AJ26+AK26+AL26+AP26+AQ26+AR26+AV26+AW26+AX26 -> 968 | AG26: 1 | AI26: 8 | AJ26: 45 | AL26: 280 | AM26: 1 | AO26: 8 | AP26: 43 | AR26: 280 | AS26: 1 | AU26: 8 | AV26: 45 | AX26: 275 | AY26: =(AZ26+BA26+BB26+BC26) -> 96.15 | AZ26: 3 | BA26: =((AG26+AM26+AS26)*2.25)+((AI26+AO26+AU26)*3.1) -> 81.15 | BB26: 1 | BC26: 11 | BD26: =BE26+BF26+BH26 -> -17.15 | BE26: =L26-AZ26 -> 0 | BF26: =M26-BA26 -> -11.15 | BG26: =N26-BB26 -> 0 | BH26: =O26-BC26 -> -6
A27: 14 | B27: Trường THPT Tân Trào | C27: =E27+G27+I27 -> 35 | D27: =F27+H27+J27 -> 1517 | E27: 13 | F27: 578 | G27: 12 | H27: 514 | I27: 10 | J27: 425 | K27: =L27+M27+N27+O27 -> 81 | L27: 3 | M27: 74 | N27: 1 | O27: 3 | P27: 1 | R27: 2 | T27: =U27+V27+W27+X27 -> 75 | U27: 3 | V27: 69 | W27: 1 | X27: 2 | Y27: 1 | AA27: 1 | AC27: =AG27+AM27+AS27 -> 35 | AD27: =AH27+AN27+AT27 -> 0 | AE27: =AI27+AO27+AU27 -> 0 | AF27: =AJ27+AK27+AL27+AP27+AQ27+AR27+AV27+AW27+AX27 -> 1542 | AG27: 10 | AJ27: 450 | AM27: 13 | AP27: 578 | AS27: 12 | AV27: 514 | AY27: =(AZ27+BA27+BB27+BC27) -> 88.75 | AZ27: 3 | BA27: =((AG27+AM27+AS27)*2.25) -> 78.75 | BB27: 1 | BC27: 6 | BD27: =BE27+BF27+BH27 -> -7.75 | BE27: =L27-AZ27 -> 0 | BF27: =M27-BA27 -> -4.75 | BG27: =N27-BB27 -> 0 | BH27: =O27-BC27 -> -3
A28: 15 | B28: Trường THPT Nguyễn Văn Huyên | C28: =E28+G28+I28 -> 35 | D28: =F28+H28+J28 -> 1538 | E28: 13 | F28: 584 | G28: 11 | H28: 499 | I28: 11 | J28: 455 | K28: =L28+M28+N28+O28 -> 81 | L28: 3 | M28: 74 | N28: 1 | O28: 3 | P28: 2 | R28: 1 | S28: 1 | T28: =U28+V28+W28+X28 -> 76 | U28: 3 | V28: 70 | W28: 1 | X28: 2 | Y28: 1 | AA28: 1 | AB28: 1 | AC28: =AG28+AM28+AS28 -> 36 | AD28: =AH28+AN28+AT28 -> 0 | AE28: =AI28+AO28+AU28 -> 0 | AF28: =AJ28+AK28+AL28+AP28+AQ28+AR28+AV28+AW28+AX28 -> 1605 | AG28: 12 | AJ28: 540 | AM28: 13 | AP28: 575 | AS28: 11 | AV28: 490 | AY28: =(AZ28+BA28+BB28+BC28) -> 91 | AZ28: 3 | BA28: =((AG28+AM28+AS28)*2.25) -> 81 | BB28: 1 | BC28: 6 | BD28: =BE28+BF28+BH28 -> -10 | BE28: =L28-AZ28 -> 0 | BF28: =M28-BA28 -> -7 | BG28: =N28-BB28 -> 0 | BH28: =O28-BC28 -> -3
A29: 16 | B29: Trường THPT Ỷ La | C29: =E29+G29+I29 -> 24 | D29: =F29+H29+J29 -> 1016 | E29: 9 | F29: 407 | G29: 8 | H29: 316 | I29: 7 | J29: 293 | K29: =L29+M29+N29+O29 -> 57 | L29: 3 | M29: 50 | N29: 1 | O29: 3 | P29: 2 | R29: 1 | T29: =U29+V29+W29+X29 -> 56 | U29: 3 | V29: 49 | W29: 1 | X29: 3 | Y29: 2 | AA29: 1 | AC29: =AG29+AM29+AS29 -> 26 | AD29: =AH29+AN29+AT29 -> 0 | AE29: =AI29+AO29+AU29 -> 0 | AF29: =AJ29+AK29+AL29+AP29+AQ29+AR29+AV29+AW29+AX29 -> 1123 | AG29: 9 | AJ29: 400 | AM29: 9 | AP29: 407 | AS29: 8 | AV29: 316 | AY29: =(AZ29+BA29+BB29+BC29) -> 68.5 | AZ29: 3 | BA29: =((AG29+AM29+AS29)*2.25) -> 58.5 | BB29: 1 | BC29: 6 | BD29: =BE29+BF29+BH29 -> -11.5 | BE29: =L29-AZ29 -> 0 | BF29: =M29-BA29 -> -8.5 | BG29: =N29-BB29 -> 0 | BH29: =O29-BC29 -> -3
A30: 17 | B30: Trường THPT Sông Lô | C30: =E30+G30+I30 -> 24 | D30: =F30+H30+J30 -> 994 | E30: 9 | F30: 382 | G30: 8 | H30: 332 | I30: 7 | J30: 280 | K30: =L30+M30+N30+O30 -> 57 | L30: 3 | M30: 50 | N30: 1 | O30: 3 | P30: 2 | R30: 1 | T30: =U30+V30+W30+X30 -> 51 | U30: 3 | V30: 47 | W30: 1 | X30: 0 | AC30: =AG30+AM30+AS30 -> 25 | AD30: =AH30+AN30+AT30 -> 0 | AE30: =AI30+AO30+AU30 -> 0 | AF30: =AJ30+AK30+AL30+AP30+AQ30+AR30+AV30+AW30+AX30 -> 1076 | AG30: 8 | AJ30: 360 | AM30: 9 | AP30: 396 | AS30: 8 | AV30: 320 | AY30: =(AZ30+BA30+BB30+BC30) -> 66.25 | AZ30: 3 | BA30: =((AG30+AM30+AS30)*2.25) -> 56.25 | BB30: 1 | BC30: 6 | BD30: =BE30+BF30+BH30 -> -9.25 | BE30: =L30-AZ30 -> 0 | BF30: =M30-BA30 -> -6.25 | BG30: =N30-BB30 -> 0 | BH30: =O30-BC30 -> -3
A31: 18 | B31: Trường THPT Sơn Dương | C31: =E31+G31+I31 -> 35 | D31: =F31+H31+J31 -> 1470 | E31: 13 | F31: 560 | G31: 12 | H31: 492 | I31: 10 | J31: 418 | K31: =L31+M31+N31+O31 -> 79 | L31: 3 | M31: 72 | N31: 1 | O31: 3 | T31: =U31+V31+W31+X31 -> 74 | U31: 3 | V31: 67 | W31: 1 | X31: 3 | AC31: =AG31+AM31+AS31 -> 35 | AD31: =AH31+AN31+AT31 -> 0 | AE31: =AI31+AO31+AU31 -> 0 | AF31: =AJ31+AK31+AL31+AP31+AQ31+AR31+AV31+AW31+AX31 -> 1575 | AG31: 12 | AJ31: 540 | AM31: 12 | AP31: 540 | AS31: 11 | AV31: 495 | AY31: =(AZ31+BA31+BB31+BC31) -> 88.75 | AZ31: 3 | BA31: =((AG31+AM31+AS31)*2.25) -> 78.75 | BB31: 1 | BC31: 6 | BD31: =BE31+BF31+BH31 -> -9.75 | BE31: =L31-AZ31 -> 0 | BF31: =M31-BA31 -> -6.75 | BG31: =N31-BB31 -> 0 | BH31: =O31-BC31 -> -3
A32: 19 | B32: Trường THPT Sơn Nam | C32: =E32+G32+I32 -> 38 | D32: =F32+H32+J32 -> 1611 | E32: 13 | F32: 561 | G32: 13 | H32: 546 | I32: 12 | J32: 504 | K32: =L32+M32+N32+O32 -> 84 | L32: 3 | M32: 77 | N32: 1 | O32: 3 | T32: =U32+V32+W32+X32 -> 78 | U32: 3 | V32: 72 | W32: 1 | X32: 2 | AC32: =AG32+AM32+AS32 -> 38 | AD32: =AH32+AN32+AT32 -> 0 | AE32: =AI32+AO32+AU32 -> 0 | AF32: =AJ32+AK32+AL32+AP32+AQ32+AR32+AV32+AW32+AX32 -> 1692 | AG32: 13 | AJ32: 585 | AM32: 13 | AP32: 561 | AS32: 12 | AV32: 546 | AY32: =(AZ32+BA32+BB32+BC32) -> 95.5 | AZ32: 3 | BA32: =((AG32+AM32+AS32)*2.25) -> 85.5 | BB32: 1 | BC32: 6 | BD32: =BE32+BF32+BH32 -> -11.5 | BE32: =L32-AZ32 -> 0 | BF32: =M32-BA32 -> -8.5 | BG32: =N32-BB32 -> 0 | BH32: =O32-BC32 -> -3
A33: 20 | B33: Trường THPT Kim Xuyên | C33: =E33+G33+I33 -> 30 | D33: =F33+H33+J33 -> 1327 | E33: 11 | F33: 486 | G33: 10 | H33: 442 | I33: 9 | J33: 399 | K33: =L33+M33+N33+O33 -> 69 | L33: 3 | M33: 62 | N33: 1 | O33: 3 | T33: =U33+V33+W33+X33 -> 66 | U33: 3 | V33: 59 | W33: 1 | X33: 3 | AC33: =AG33+AM33+AS33 -> 31 | AD33: =AH33+AN33+AT33 -> 0 | AE33: =AI33+AO33+AU33 -> 0 | AF33: =AJ33+AK33+AL33+AP33+AQ33+AR33+AV33+AW33+AX33 -> 1375 | AG33: 10 | AJ33: 450 | AM33: 11 | AP33: 485 | AS33: 10 | AV33: 440 | AY33: =(AZ33+BA33+BB33+BC33) -> 79.75 | AZ33: 3 | BA33: =((AG33+AM33+AS33)*2.25) -> 69.75 | BB33: 1 | BC33: 6 | BD33: =BE33+BF33+BH33 -> -10.75 | BE33: =L33-AZ33 -> 0 | BF33: =M33-BA33 -> -7.75 | BG33: =N33-BB33 -> 0 | BH33: =O33-BC33 -> -3
A34: 21 | B34: Trường THPT Đông Thọ | C34: =E34+G34+I34 -> 18 | D34: =F34+H34+J34 -> 755 | E34: 7 | F34: 303 | G34: 6 | H34: 248 | I34: 5 | J34: 204 | K34: =L34+M34+N34+O34 -> 45 | L34: 3 | M34: 38 | N34: 1 | O34: 3 | T34: =U34+V34+W34+X34 -> 41 | U34: 3 | V34: 35 | W34: 1 | X34: 2 | AC34: =AG34+AM34+AS34 -> 20 | AD34: =AH34+AN34+AT34 -> 0 | AE34: =AI34+AO34+AU34 -> 0 | AF34: =AJ34+AK34+AL34+AP34+AQ34+AR34+AV34+AW34+AX34 -> 831 | AG34: 7 | AJ34: 301 | AM34: 7 | AP34: 290 | AS34: 6 | AV34: 240 | AY34: =(AZ34+BA34+BB34+BC34) -> 55 | AZ34: 3 | BA34: =((AG34+AM34+AS34)*2.25) -> 45 | BB34: 1 | BC34: 6 | BD34: =BE34+BF34+BH34 -> -10 | BE34: =L34-AZ34 -> 0 | BF34: =M34-BA34 -> -7 | BG34: =N34-BB34 -> 0 | BH34: =O34-BC34 -> -3
A35: 22 | B35: Trường THPT ATK Tân Trào | C35: =E35+G35+I35 -> 20 | D35: =F35+H35+J35 -> 803 | E35: 7 | F35: 293 | G35: 7 | H35: 278 | I35: 6 | J35: 232 | K35: =L35+M35+N35+O35 -> 48 | L35: 3 | M35: 41 | N35: 1 | O35: 3 | T35: =U35+V35+W35+X35 -> 43 | U35: 3 | V35: 38 | W35: 1 | X35: 1 | AC35: =AG35+AM35+AS35 -> 21 | AD35: =AH35+AN35+AT35 -> 0 | AE35: =AI35+AO35+AU35 -> 0 | AF35: =AJ35+AK35+AL35+AP35+AQ35+AR35+AV35+AW35+AX35 -> 851 | AG35: 7 | AJ35: 280 | AM35: 7 | AP35: 293 | AS35: 7 | AV35: 278 | AY35: =(AZ35+BA35+BB35+BC35) -> 57.25 | AZ35: 3 | BA35: =((AG35+AM35+AS35)*2.25) -> 47.25 | BB35: 1 | BC35: 6 | BD35: =BE35+BF35+BH35 -> -9.25 | BE35: =L35-AZ35 -> 0 | BF35: =M35-BA35 -> -6.25 | BG35: =N35-BB35 -> 0 | BH35: =O35-BC35 -> -3
A36: II | B36: Đơn vị nhóm 4 | C36: =SUM(C37:C48) -> 110 | D36: =SUM(D37:D48) -> 4143 | E36: =SUM(E37:E48) -> 43 | F36: =SUM(F37:F48) -> 1626 | G36: =SUM(G37:G48) -> 37 | H36: =SUM(H37:H48) -> 1377 | I36: =SUM(I37:I48) -> 30 | J36: =SUM(J37:J48) -> 1140 | ... BH36: =SUM(BH37:BH48) -> -50
A37: 1 | B37: Trường THCS và THPT Thượng Lâm | C37: =E37+G37+I37 -> 6 | D37: =F37+H37+J37 -> 245 | E37: 2 | F37: 77 | G37: 2 | H37: 94 | I37: 2 | J37: 74 | K37: =L37+M37+N37+O37 -> 22 | L37: 3 | M37: 15 | N37: 1 | O37: 3 | P37: 2 | R37: 1 | T37: =U37+V37+W37+X37 -> 20 | U37: 2 | V37: 15 | W37: 1 | X37: 2 | Y37: 2 | AC37: =AG37+AM37+AS37 -> 6 | AD37: =AH37+AN37+AT37 -> 0 | AE37: =AI37+AO37+AU37 -> 0 | AF37: =AJ37+AK37+AL37+AP37+AQ37+AR37+AV37+AW37+AX37 -> 235 | AG37: 2 | AJ37: 70 | AM37: 2 | AP37: 75 | AS37: 2 | AV37: 90 | AY37: =(AZ37+BA37+BB37+BC37) -> 22.5 | AZ37: 3 | BA37: =((AG37+AM37+AS37)*2.25) -> 13.5 | BB37: 1 | BC37: 5 | BD37: =BE37+BF37+BH37 -> -0.5 | BE37: =L37-AZ37 -> 0 | BF37: =M37-BA37 -> 1.5 | BG37: =N37-BB37 -> 0 | BH37: =O37-BC37 -> -2
A38: 2 | B38: Trường THPT Minh Quang | C38: =E38+G38+I38 -> 16 | D38: =F38+H38+J38 -> 670 | E38: 6 | F38: 240 | G38: 5 | H38: 210 | I38: 5 | J38: 220 | K38: =L38+M38+N38+O38 -> 42 | L38: 3 | M38: 35 | N38: 1 | O38: 3 | P38: 2 | R38: 1 | T38: =U38+V38+W38+X38 -> 39 | U38: 3 | V38: 32 | W38: 1 | X38: 3 | Y38: 2 | AA38: 1 | AC38: =AG38+AM38+AS38 -> 17 | AD38: =AH38+AN38+AT38 -> 0 | AE38: =AI38+AO38+AU38 -> 0 | AF38: =AJ38+AK38+AL38+AP38+AQ38+AR38+AV38+AW38+AX38 -> 690 | AG38: 6 | AJ38: 240 | AM38: 6 | AP38: 240 | AS38: 5 | AV38: 210 | AY38: =(AZ38+BA38+BB38+BC38) -> 47.25 | AZ38: 3 | BA38: =((AG38+AM38+AS38)*2.25) -> 38.25 | BB38: 1 | BC38: 5 | BD38: =BE38+BF38+BH38 -> -5.25 | BE38: =L38-AZ38 -> 0 | BF38: =M38-BA38 -> -3.25 | BG38: =N38-BB38 -> 0 | BH38: =O38-BC38 -> -2
A39: 3 | B39: Trường THPT Yên Hoa | C39: =E39+G39+I39 -> 13 | D39: =F39+H39+J39 -> 528 | E39: 5 | F39: 196 | G39: 4 | H39: 160 | I39: 4 | J39: 172 | K39: =L39+M39+N39+O39 -> 35 | L39: 3 | M39: 28 | N39: 1 | O39: 3 | P39: 2 | R39: 1 | T39: =U39+V39+W39+X39 -> 34 | U39: 3 | V39: 27 | W39: 1 | X39: 3 | Y39: 2 | AA39: 1 | AC39: =AG39+AM39+AS39 -> 14 | AD39: =AH39+AN39+AT39 -> 0 | AE39: =AI39+AO39+AU39 -> 0 | AF39: =AJ39+AK39+AL39+AP39+AQ39+AR39+AV39+AW39+AX39 -> 581 | AG39: 5 | AJ39: 225 | AM39: 5 | AP39: 196 | AS39: 4 | AV39: 160 | AY39: =(AZ39+BA39+BB39+BC39) -> 40.5 | AZ39: 3 | BA39: =((AG39+AM39+AS39)*2.25) -> 31.5 | BB39: 1 | BC39: 5 | BD39: =BE39+BF39+BH39 -> -5.5 | BE39: =L39-AZ39 -> 0 | BF39: =M39-BA39 -> -3.5 | BG39: =N39-BB39 -> 0 | BH39: =O39-BC39 -> -2
A40: 4 | B40: Trường THPT Hà Lang | C40: =E40+G40+I40 -> 14 | D40: =F40+H40+J40 -> 531 | E40: 5 | F40: 208 | G40: 4 | H40: 144 | I40: 5 | J40: 179 | K40: =L40+M40+N40+O40 -> 37 | L40: 3 | M40: 30 | N40: 1 | O40: 3 | P40: 2 | R40: 1 | T40: =U40+V40+W40+X40 -> 36 | U40: 3 | V40: 30 | W40: 1 | X40: 2 | Y40: 1 | AA40: 1 | AC40: =AG40+AM40+AS40 -> 14 | AD40: =AH40+AN40+AT40 -> 0 | AE40: =AI40+AO40+AU40 -> 0 | AF40: =AJ40+AK40+AL40+AP40+AQ40+AR40+AV40+AW40+AX40 -> 577 | AG40: 5 | AJ40: 225 | AM40: 5 | AP40: 208 | AS40: 4 | AV40: 144 | AY40: =(AZ40+BA40+BB40+BC40) -> 40.5 | AZ40: 3 | BA40: =((AG40+AM40+AS40)*2.25) -> 31.5 | BB40: 1 | BC40: 5 | BD40: =BE40+BF40+BH40 -> -3.5 | BE40: =L40-AZ40 -> 0 | BF40: =M40-BA40 -> -1.5 | BG40: =N40-BB40 -> 0 | BH40: =O40-BC40 -> -2
A41: 5 | B41: Trường THPT Trung Sơn | C41: =E41+G41+I41 -> 15 | D41: =F41+H41+J41 -> 577 | E41: 5 | F41: 191 | G41: 5 | H41: 204 | I41: 5 | J41: 182 | K41: =L41+M41+N41+O41 -> 39 | L41: 3 | M41: 32 | N41: 1 | O41: 3 | P41: 2 | R41: 1 | T41: =U41+V41+W41+X41 -> 38 | U41: 3 | V41: 31 | W41: 1 | X41: 3 | Y41: 2 | AA41: 1 | AC41: =AG41+AM41+AS41 -> 15 | AD41: =AH41+AN41+AT41 -> 0 | AE41: =AI41+AO41+AU41 -> 0 | AF41: =AJ41+AK41+AL41+AP41+AQ41+AR41+AV41+AW41+AX41 -> 595 | AG41: 5 | AJ41: 200 | AM41: 5 | AP41: 191 | AS41: 5 | AV41: 204 | AY41: =(AZ41+BA41+BB41+BC41) -> 42.75 | AZ41: 3 | BA41: =((AG41+AM41+AS41)*2.25) -> 33.75 | BB41: 1 | BC41: 5 | BD41: =BE41+BF41+BH41 -> -3.75 | BE41: =L41-AZ41 -> 0 | BF41: =M41-BA41 -> -1.75 | BG41: =N41-BB41 -> 0 | BH41: =O41-BC41 -> -2
A42: 6 | B42: Trường PT DTNT THPT | C42: =E42+G42+I42 -> 16 | D42: =F42+H42+J42 -> 547 | E42: 6 | F42: 221 | G42: 6 | H42: 184 | I42: 4 | J42: 142 | K42: =L42+M42+N42+O42 -> 51 | L42: 3 | M42: 38 | N42: 1 | O42: 9 | P42: 4 | Q42: 1 | R42: 4 | S42: 3 | T42: =U42+V42+W42+X42 -> 48 | U42: 3 | V42: 36 | W42: 1 | X42: 8 | Y42: 3 | Z42: 1 | AA42: 4 | AB42: 3 | AC42: =AG42+AM42+AS42 -> 0 | AD42: =AH42+AN42+AT42 -> 16 | AE42: =AI42+AO42+AU42 -> 0 | AF42: =AJ42+AK42+AL42+AP42+AQ42+AR42+AV42+AW42+AX42 -> 550 | AH42: 4 | AK42: 145 | AN42: 6 | AQ42: 221 | AT42: 6 | AW42: 184 | AY42: =(AZ42+BA42+BB42+BC42) -> 53.4 | AZ42: 3 | BA42: =((AH42+AN42+AT42)*2.4) -> 38.4 | BB42: 1 | BC42: 11 | BD42: =BE42+BF42+BH42 -> -2.4 | BE42: =L42-AZ42 -> 0 | BF42: =M42-BA42 -> -0.4 | BG42: =N42-BB42 -> 0 | BH42: =O42-BC42 -> -2
A43: 7 | B43: Trường THCS và THPT Kháng Nhật | C43: =E43+G43+I43 -> 10 | D43: =F43+H43+J43 -> 371 | E43: 4 | F43: 148 | G43: 3 | H43: 120 | I43: 3 | J43: 103 | K43: =L43+M43+N43+O43 -> 29 | L43: 3 | M43: 22 | N43: 1 | O43: 3 | P43: 2 | R43: 1 | T43: =U43+V43+W43+X43 -> 23 | U43: 3 | V43: 17 | W43: 1 | X43: 2 | Y43: 1 | AA43: 1 | AC43: =AG43+AM43+AS43 -> 10 | AD43: =AH43+AN43+AT43 -> 0 | AE43: =AI43+AO43+AU43 -> 0 | AF43: =AJ43+AK43+AL43+AP43+AQ43+AR43+AV43+AW43+AX43 -> 398 | AG43: 3 | AJ43: 130 | AM43: 4 | AP43: 148 | AS43: 3 | AV43: 120 | AY43: =(AZ43+BA43+BB43+BC43) -> 31.5 | AZ43: 3 | BA43: =((AG43+AM43+AS43)*2.25) -> 22.5 | BB43: 1 | BC43: 5 | BD43: =BE43+BF43+BH43 -> -2.5 | BE43: =L43-AZ43 -> 0 | BF43: =M43-BA43 -> -0.5 | BG43: =N43-BB43 -> 0 | BH43: =O43-BC43 -> -2
A44: 8 | B44: Trường PTDTNT ATK Sơn Dương | C44: =E44+G44+I44 -> 6 | D44: =F44+H44+J44 -> 206 | E44: 2 | F44: 68 | G44: 2 | H44: 70 | I44: 2 | J44: 68 | K44: =L44+M44+N44+O44 -> 23 | L44: 3 | M44: 15 | N44: 1 | O44: 4 | P44: 2 | R44: 2 | S44: 2 | T44: =U44+V44+W44+X44 -> 19 | U44: 3 | V44: 13 | W44: 1 | X44: 2 | Y44: 1 | AA44: 1 | AB44: 2 | AC44: =AG44+AM44+AS44 -> 0 | AD44: =AH44+AN44+AT44 -> 6 | AE44: =AI44+AO44+AU44 -> 0 | AF44: =AJ44+AK44+AL44+AP44+AQ44+AR44+AV44+AW44+AX44 -> 210 | AH44: 2 | AK44: 70 | AN44: 2 | AQ44: 70 | AT44: 2 | AW44: 70 | AY44: =(AZ44+BA44+BB44+BC44) -> 29.4 | AZ44: 3 | BA44: =((AH44+AN44+AT44)*2.4) -> 14.4 | BB44: 1 | BC44: 11 | BD44: =BE44+BF44+BH44 -> -6.4 | BE44: =L44-AZ44 -> 0 | BF44: =M44-BA44 -> 0.6 | BG44: =N44-BB44 -> 0 | BH44: =O44-BC44 -> -7
A45: 9 | B45: Trường PT DTNT THCS và THPT huyện Na Hang | C45: =E45+G45+I45 -> 4 | D45: =F45+H45+J45 -> 140 | E45: 2 | F45: 70 | G45: 2 | H45: 70 | K45: =L45+M45+N45+O45 -> 17 | L45: 3 | M45: 9 | N45: 1 | O45: 4 | P45: 2 | R45: 2 | S45: 7 | T45: =U45+V45+W45+X45 -> 14 | U45: 2 | V45: 8 | W45: 1 | X45: 3 | Y45: 1 | AA45: 2 | AB45: 7 | AC45: =AG45+AM45+AS45 -> 0 | AD45: =AH45+AN45+AT45 -> 6 | AE45: =AI45+AO45+AU45 -> 0 | AF45: =AJ45+AK45+AL45+AP45+AQ45+AR45+AV45+AW45+AX45 -> 210 | AH45: 2 | AK45: 70 | AN45: 2 | AQ45: 70 | AT45: 2 | AW45: 70 | AY45: =(AZ45+BA45+BB45+BC45) -> 29.4 | AZ45: 3 | BA45: =((AH45+AN45+AT45)*2.4) -> 14.4 | BB45: 1 | BC45: 11 | BD45: =BE45+BF45+BH45 -> -12.4 | BE45: =L45-AZ45 -> 0 | BF45: =M45-BA45 -> -5.4 | BG45: =N45-BB45 -> 0 | BH45: =O45-BC45 -> -7
A46: 10 | B46: Trường PT DTNT THCS và THPT huyện Chiêm Hóa | C46: =E46+G46+I46 -> 4 | D46: =F46+H46+J46 -> 132 | E46: 2 | F46: 70 | G46: 2 | H46: 62 | K46: =L46+M46+N46+O46 -> 17 | L46: 3 | M46: 10 | N46: 1 | O46: 3 | P46: 1 | R46: 2 | S46: 4 | T46: =U46+V46+W46+X46 -> 12 | U46: 2 | V46: 6 | W46: 1 | X46: 3 | Y46: 1 | AA46: 2 | AB46: 4 | AC46: =AG46+AM46+AS46 -> 0 | AD46: =AH46+AN46+AT46 -> 6 | AE46: =AI46+AO46+AU46 -> 0 | AF46: =AJ46+AK46+AL46+AP46+AQ46+AR46+AV46+AW46+AX46 -> 202 | AH46: 2 | AK46: 70 | AN46: 2 | AQ46: 70 | AT46: 2 | AW46: 62 | AY46: =(AZ46+BA46+BB46+BC46) -> 29.4 | AZ46: 3 | BA46: =((AH46+AN46+AT46)*2.4) -> 14.4 | BB46: 1 | BC46: 11 | BD46: =BE46+BF46+BH46 -> -12.4 | BE46: =L46-AZ46 -> 0 | BF46: =M46-BA46 -> -4.4 | BG46: =N46-BB46 -> 0 | BH46: =O46-BC46 -> -8
A47: 11 | B47: Trường PT DTNT THCS và THPT huyện Hàm Yên | C47: =E47+G47+I47 -> 4 | D47: =F47+H47+J47 -> 129 | E47: 2 | F47: 70 | G47: 2 | H47: 59 | K47: =L47+M47+N47+O47 -> 17 | L47: 3 | M47: 9 | N47: 1 | O47: 4 | P47: 2 | R47: 2 | S47: 2 | T47: =U47+V47+W47+X47 -> 11 | U47: 3 | V47: 4 | W47: 1 | X47: 3 | Y47: 1 | AA47: 2 | AB47: 2 | AC47: =AG47+AM47+AS47 -> 0 | AD47: =AH47+AN47+AT47 -> 6 | AE47: =AI47+AO47+AU47 -> 0 | AF47: =AJ47+AK47+AL47+AP47+AQ47+AR47+AV47+AW47+AX47 -> 199 | AH47: 2 | AK47: 70 | AN47: 2 | AQ47: 70 | AT47: 2 | AW47: 59 | AY47: =(AZ47+BA47+BB47+BC47) -> 29.4 | AZ47: 3 | BA47: =((AH47+AN47+AT47)*2.4) -> 14.4 | BB47: 1 | BC47: 11 | BD47: =BE47+BF47+BH47 -> -12.4 | BE47: =L47-AZ47 -> 0 | BF47: =M47-BA47 -> -5.4 | BG47: =N47-BB47 -> 0 | BH47: =O47-BC47 -> -7
A48: 12 | B48: Trường PT DTNT THCS và THPT huyện Lâm Bình | C48: =E48+G48+I48 -> 2 | D48: =F48+H48+J48 -> 67 | E48: 2 | F48: 67 | K48: =L48+M48+N48+O48 -> 13 | L48: 3 | M48: 5 | N48: 1 | O48: 4 | P48: 2 | R48: 2 | S48: 3 | T48: =U48+V48+W48+X48 -> 7 | U48: 1 | V48: 3 | W48: 1 | X48: 2 | Y48: 1 | AA48: 1 | AB48: 3 | AC48: =AG48+AM48+AS48 -> 0 | AD48: =AH48+AN48+AT48 -> 4 | AE48: =AI48+AO48+AU48 -> 0 | AF48: =AJ48+AK48+AL48+AP48+AQ48+AR48+AV48+AW48+AX48 -> 140 | AH48: 2 | AK48: 70 | AN48: 2 | AQ48: 70 | AY48: =(AZ48+BA48+BB48+BC48) -> 24.6 | AZ48: 3 | BA48: =((AH48+AN48+AT48)*2.4) -> 9.6 | BB48: 1 | BC48: 11 | BD48: =BE48+BF48+BH48 -> -11.6 | BE48: =L48-AZ48 -> 0 | BF48: =M48-BA48 -> -4.6 | BG48: =N48-BB48 -> 0 | BH48: =O48-BC48 -> -7
